BEGIN:VCALENDAR
VERSION:2.0
PRODID:-//On Your Mark Events - ECPv6.15.14//NONSGML v1.0//EN
CALSCALE:GREGORIAN
METHOD:PUBLISH
X-ORIGINAL-URL:https://onyourmarkevents.com
X-WR-CALDESC:Events for On Your Mark Events
REFRESH-INTERVAL;VALUE=DURATION:PT1H
X-Robots-Tag:noindex
X-PUBLISHED-TTL:PT1H
BEGIN:VTIMEZONE
TZID:America/Los_Angeles
BEGIN:DAYLIGHT
TZOFFSETFROM:-0800
TZOFFSETTO:-0700
TZNAME:PDT
DTSTART:20230312T100000
END:DAYLIGHT
BEGIN:STANDARD
TZOFFSETFROM:-0700
TZOFFSETTO:-0800
TZNAME:PST
DTSTART:20231105T090000
END:STANDARD
BEGIN:DAYLIGHT
TZOFFSETFROM:-0800
TZOFFSETTO:-0700
TZNAME:PDT
DTSTART:20240310T100000
END:DAYLIGHT
BEGIN:STANDARD
TZOFFSETFROM:-0700
TZOFFSETTO:-0800
TZNAME:PST
DTSTART:20241103T090000
END:STANDARD
BEGIN:DAYLIGHT
TZOFFSETFROM:-0800
TZOFFSETTO:-0700
TZNAME:PDT
DTSTART:20250309T100000
END:DAYLIGHT
BEGIN:STANDARD
TZOFFSETFROM:-0700
TZOFFSETTO:-0800
TZNAME:PST
DTSTART:20251102T090000
END:STANDARD
END:VTIMEZONE
BEGIN:VEVENT
DTSTART;TZID=America/Los_Angeles:20240106T081500
DTEND;TZID=America/Los_Angeles:20240106T081500
DTSTAMP:20260419T111857
CREATED:20230801T193754Z
LAST-MODIFIED:20230802T160903Z
UID:3128-1704528900-1704528900@onyourmarkevents.com
SUMMARY:Lodi BOBS 5K Fun Run
DESCRIPTION:Lodi Boosters of Boys/Girls Sports (BOBS) is thrilled to announce the inaugural Lodi BOBS 5K Fun Run\, an exciting event dedicated to raising funds for youth sports programs right here in Lodi.\nAdditional Information/Registration
URL:https://onyourmarkevents.com/events/lodi-bobs-5k-fun-run/
LOCATION:Lodi Lake\, 1301 W Turner Rd\, Lodi\, CA\, 95240\, United States
CATEGORIES:5K
ATTACH;FMTTYPE=image/jpeg:https://onyourmarkevents.com/wp-content/uploads/2023/08/BobsV2-e1690918209116.jpg
ORGANIZER;CN="Lodi BOBS Boosters of Boys / Girls Sports":MAILTO:dhayre10@gmail.com
END:VEVENT
BEGIN:VEVENT
DTSTART;TZID=America/Los_Angeles:20240127T090000
DTEND;TZID=America/Los_Angeles:20240127T090000
DTSTAMP:20260419T111857
CREATED:20231227T184001Z
LAST-MODIFIED:20231227T184128Z
UID:3233-1706346000-1706346000@onyourmarkevents.com
SUMMARY:St. Joseph's 5K Fun Run/Walk for Wellness
DESCRIPTION:Kick off 2024 with a pledge to your health!\n\n\n\n\n\n\nJoin us for St. Joseph’s 14th annual 5K Fun Run/Walk for Wellness\, presented by Pacific Homecare Services.\nSaturday\, January 27\, 2024\nUniversity Park\, Stockton\nThe Fun Run/Walk is a family-friendly community event. All proceeds stay local to benefit St. Joseph’s Cancer Institute.\nYour entry fee includes a t-shirt\, swag bag\, free photo downloads\, post-race food\, a chance to win great prizes and more!\n\nAdditional Information/Registration 
URL:https://onyourmarkevents.com/events/st-josephs-5k-fun-run-walk-for-wellness-4/
LOCATION:University Park\, 782 E Harding Way\, Stockton\, CA\, United States
CATEGORIES:5K
ATTACH;FMTTYPE=image/jpeg:https://onyourmarkevents.com/wp-content/uploads/2023/12/StJoes-5KV1-scaled-e1703702143447.jpg
ORGANIZER;CN="St. Joseph's Foundation":MAILTO:kandee@onyourmarkevents.com
END:VEVENT
END:VCALENDAR