BEGIN:VCALENDAR
VERSION:2.0
PRODID:-//On Your Mark Events - ECPv6.15.14//NONSGML v1.0//EN
CALSCALE:GREGORIAN
METHOD:PUBLISH
X-ORIGINAL-URL:https://onyourmarkevents.com
X-WR-CALDESC:Events for On Your Mark Events
REFRESH-INTERVAL;VALUE=DURATION:PT1H
X-Robots-Tag:noindex
X-PUBLISHED-TTL:PT1H
BEGIN:VTIMEZONE
TZID:America/Los_Angeles
BEGIN:DAYLIGHT
TZOFFSETFROM:-0800
TZOFFSETTO:-0700
TZNAME:PDT
DTSTART:20220313T100000
END:DAYLIGHT
BEGIN:STANDARD
TZOFFSETFROM:-0700
TZOFFSETTO:-0800
TZNAME:PST
DTSTART:20221106T090000
END:STANDARD
BEGIN:DAYLIGHT
TZOFFSETFROM:-0800
TZOFFSETTO:-0700
TZNAME:PDT
DTSTART:20230312T100000
END:DAYLIGHT
BEGIN:STANDARD
TZOFFSETFROM:-0700
TZOFFSETTO:-0800
TZNAME:PST
DTSTART:20231105T090000
END:STANDARD
BEGIN:DAYLIGHT
TZOFFSETFROM:-0800
TZOFFSETTO:-0700
TZNAME:PDT
DTSTART:20240310T100000
END:DAYLIGHT
BEGIN:STANDARD
TZOFFSETFROM:-0700
TZOFFSETTO:-0800
TZNAME:PST
DTSTART:20241103T090000
END:STANDARD
END:VTIMEZONE
BEGIN:VEVENT
DTSTART;TZID=America/Los_Angeles:20231001T070000
DTEND;TZID=America/Los_Angeles:20231001T070000
DTSTAMP:20260419T152838
CREATED:20230615T132216Z
LAST-MODIFIED:20230615T132216Z
UID:3086-1696143600-1696143600@onyourmarkevents.com
SUMMARY:Mt Diablo Challenge
DESCRIPTION:The 11.2-mile\, individually timed ride climbs 3\,249 feet to the summit of Mt. Diablo starting up South Gate Road. Mt. Diablo is one of the highest peaks in the San Francisco Bay Area\, with views of the Farallon Islands and the Sierras. The road is closed for safety and more than 800 cyclists will ride to the summit.  The ride welcomes all ages\, abilities\, teams\, and bicycle types.  It will be a once-a-year opportunity to enjoy riding the mountain without cars.  Everyone celebrates after the ride with free BBQ\, prizes\, awards\, and live music.  Come participate in this epic ride that provides breathtaking scenery and test your climbing ability. \nAdditional Information/Registration
URL:https://onyourmarkevents.com/events/mt-diablo-challenge/
LOCATION:Monte Vista High School\, 3131 Stone Valley Rd\, Danville\, CA 94526\, CA\, 94526\, United States
CATEGORIES:Cycling
ATTACH;FMTTYPE=image/jpeg:https://onyourmarkevents.com/wp-content/uploads/2023/06/MDC2023WebLogo-e1686834833971.jpg
END:VEVENT
BEGIN:VEVENT
DTSTART;TZID=America/Los_Angeles:20231007T080000
DTEND;TZID=America/Los_Angeles:20231007T080000
DTSTAMP:20260419T152838
CREATED:20230616T221701Z
LAST-MODIFIED:20230616T221701Z
UID:3088-1696665600-1696665600@onyourmarkevents.com
SUMMARY:Pace for Peace
DESCRIPTION:Tri-Valley Haven’s Pace for Peace 5K/10K has something for everyone\, whether you are a serious runner or just out for a leisurely walk with friends and family supporting a good cause! This event guarantees a good time for the entire family! \nAdditional information/Registration
URL:https://onyourmarkevents.com/events/pace-for-peace-3/
LOCATION:Tri Valley Haven\, 3663 Pacific Avenie\, Livermore\, CA\, 94550\, United States
CATEGORIES:10K,5K
ATTACH;FMTTYPE=image/jpeg:https://onyourmarkevents.com/wp-content/uploads/2023/06/TriValley2021-e1686953395400.jpg
END:VEVENT
BEGIN:VEVENT
DTSTART;TZID=America/Los_Angeles:20231008T080000
DTEND;TZID=America/Los_Angeles:20231014T120000
DTSTAMP:20260419T152838
CREATED:20230801T190128Z
LAST-MODIFIED:20230815T152234Z
UID:3124-1696752000-1697284800@onyourmarkevents.com
SUMMARY:5K For FFA
DESCRIPTION:5K for FFA will be a virtual 5K to promote health and well-being amongst the 100\,000 California FFA members and alumni across the state\nAdditional Information/Registration
URL:https://onyourmarkevents.com/events/5k-for-ffa/
LOCATION:CA
CATEGORIES:5K
ATTACH;FMTTYPE=image/jpeg:https://onyourmarkevents.com/wp-content/uploads/2023/08/5KFFA-e1692112829775.jpg
END:VEVENT
BEGIN:VEVENT
DTSTART;TZID=America/Los_Angeles:20231021T073000
DTEND;TZID=America/Los_Angeles:20231021T073000
DTSTAMP:20260419T152838
CREATED:20230815T150236Z
LAST-MODIFIED:20230815T151940Z
UID:3148-1697873400-1697873400@onyourmarkevents.com
SUMMARY:California Triathlon
DESCRIPTION:California Golden Bearathlon has roared back to life again at the Berkeley Marina to host three successful races in the past three years. After impressive attendance year after year\, we are prepared to host a fourteenth USAT-sanctioned event in the same location on October 21\, 2023  Bearathlon takes place at Berkeley’s marina\, which protrudes into the San Francisco Bay and offers an ideal situation for both racers and spectators alike. It is secluded from traffic and offers unparalleled views of San Francisco\, the Golden Gate Bridge\, the Bay Bridge and the Berkeley Hills. Additionally\, the marina offers a sheltered cove for safe open water swimming\, a hotel to accommodate out-of-town racers\, and a design that is incredibly spectator friendly. The race course is beginner-friendly and we welcome athletes of all levels\, from new triathletes to some of the top collegiate racers in the country!\nAdditional Information/Registration
URL:https://onyourmarkevents.com/events/california-triathlon/
LOCATION:CA
CATEGORIES:Triathlon
END:VEVENT
BEGIN:VEVENT
DTSTART;TZID=America/Los_Angeles:20231028T090000
DTEND;TZID=America/Los_Angeles:20231028T090000
DTSTAMP:20260419T152838
CREATED:20230801T195729Z
LAST-MODIFIED:20230802T165858Z
UID:3134-1698483600-1698483600@onyourmarkevents.com
SUMMARY:Mission College Monster Dash & Bash
DESCRIPTION:The 2023 Monster Dash & Bash and Kids Trick or Trot race is a truly memorable experience. Course is on flat paved road. This 5K is open to runners\, joggers\, and walkers of all abilities.  The Kids Tick or Trot Race (.25 mi.) is designed for ages 9 and under. Be sure to stick around for the festivities that follow\, including Costume Contest\, beer garden\, silent auction\, and much more!\nAdditional Information/Registration
URL:https://onyourmarkevents.com/events/mission-college-monster-dash-bash/
LOCATION:Mission College\, 3000 Mission College Blvd\, Santa Clara\, CA\, 95054\, United States
CATEGORIES:5K,Kids Fun Run
ATTACH;FMTTYPE=image/png:https://onyourmarkevents.com/wp-content/uploads/2023/08/Monster-5K-logo-final-e1712586851629.png
ORGANIZER;CN="On Your Mark Events":MAILTO:kandee@onyourmarkevents.com
END:VEVENT
END:VCALENDAR