BEGIN:VCALENDAR
VERSION:2.0
PRODID:-//On Your Mark Events - ECPv6.15.14//NONSGML v1.0//EN
CALSCALE:GREGORIAN
METHOD:PUBLISH
X-WR-CALNAME:On Your Mark Events
X-ORIGINAL-URL:https://onyourmarkevents.com
X-WR-CALDESC:Events for On Your Mark Events
REFRESH-INTERVAL;VALUE=DURATION:PT1H
X-Robots-Tag:noindex
X-PUBLISHED-TTL:PT1H
BEGIN:VTIMEZONE
TZID:America/Los_Angeles
BEGIN:DAYLIGHT
TZOFFSETFROM:-0800
TZOFFSETTO:-0700
TZNAME:PDT
DTSTART:20170312T100000
END:DAYLIGHT
BEGIN:STANDARD
TZOFFSETFROM:-0700
TZOFFSETTO:-0800
TZNAME:PST
DTSTART:20171105T090000
END:STANDARD
BEGIN:DAYLIGHT
TZOFFSETFROM:-0800
TZOFFSETTO:-0700
TZNAME:PDT
DTSTART:20180311T100000
END:DAYLIGHT
BEGIN:STANDARD
TZOFFSETFROM:-0700
TZOFFSETTO:-0800
TZNAME:PST
DTSTART:20181104T090000
END:STANDARD
BEGIN:DAYLIGHT
TZOFFSETFROM:-0800
TZOFFSETTO:-0700
TZNAME:PDT
DTSTART:20190310T100000
END:DAYLIGHT
BEGIN:STANDARD
TZOFFSETFROM:-0700
TZOFFSETTO:-0800
TZNAME:PST
DTSTART:20191103T090000
END:STANDARD
END:VTIMEZONE
BEGIN:VEVENT
DTSTART;TZID=America/Los_Angeles:20180610T013000
DTEND;TZID=America/Los_Angeles:20180610T060000
DTSTAMP:20260419T232204
CREATED:20180524T014340Z
LAST-MODIFIED:20180524T014340Z
UID:305-1528594200-1528610400@onyourmarkevents.com
SUMMARY:The Alamo Run
DESCRIPTION:Come out and join us Sunday\, June 10th on this beautiful 5K & 10K run in Downtown Alamo (northwest corner of Danville Blvd & Stone Valley Road). \nThe 5K Run is a competitive and family friendly fun run…dogs welcome!  Parents with baby joggers and runners with pets are encouraged to sign-up for the 5K run.  The course begins at the Rubey Building parking lot (northwest corner of Danville Blvd & Stone Valley Road). Runners will head north on Danville Blvd to Hillgrade Ave. At Hillgrade the runners will turn west to the Iron Horse Trail (IHT) and runners will continue south on the IHT to the intersection of IHT and Stone Valley Road… the finish line. \nThe 10K Run will start at the same time as the 5K Run and runners will continue the 5K course a second time. \nFees –\nAges 12 & Under $25. / $30 race day\nAges 13 & Over $35. / $40 race day\nFamily package – includes 4 people $100. / $120 race day.\nFees include commemorative T-shirt (must register before May 23rd to be guaranteed a shirt) and post race refreshments. \nAwards –\nOverall male/female and top winners in age groups 9 & Under\, 10-13\, 14-18\, 19-29\, 30-39\, 40-49\,50-59\, 60-69\, 70-79 and 80+  Additional prizes include fastest baby jogger and fastest dog! \nRace Day Schedule-\n7:30 a.m. – Check-In and race day registration opens\n8:30 a.m. – Start both 5K & 10K\nProceeds from this event benefit the youth education programs of the Mt. Diablo Peace & Justice Center. The Mt. Diablo Peace and Justice Center was founded in 1969 and has evolved into a community resource which encourages peaceful solutions to all conflicts and to promote justice & equality. These goals are developed through speakers’ forums\, “The Peace Gazette” publication\, youth programs which encourage tolerance\, self-esteem\, and mutual respect. Additionally\, the Peace Center hosts the annual Dennis Thomas Art & Writing Challenge. Five hundred middle and high school students participate each year and use their creative skills in the fields of writing & the arts to consider contemporary social issues. The Center awards over $3\,000 to the Challenge winners. \nIf you are unable to run\, please consider volunteering to work in the days leading up to the run and during the day of the run.  If you would like to volunteer\, please click the register now button and select the “Volunteer” option. \nRegister
URL:https://onyourmarkevents.com/events/the-alamo-run/
LOCATION:CA
CATEGORIES:10K,5K
ATTACH;FMTTYPE=image/png:https://onyourmarkevents.com/wp-content/uploads/2018/05/alamo2018logo.png
END:VEVENT
BEGIN:VEVENT
DTSTART;TZID=America/Los_Angeles:20180610T010000
DTEND;TZID=America/Los_Angeles:20180610T060000
DTSTAMP:20260419T232204
CREATED:20180524T014728Z
LAST-MODIFIED:20180524T014728Z
UID:308-1528592400-1528610400@onyourmarkevents.com
SUMMARY:The Hook and Ladder Run
DESCRIPTION:The 10th Annual & Hook and Ladder Run \nPresented by Lee’s Imperial Welding Inc. \nSunday June 10\, 2018\nRegister or Download PDF \n \nBenefits~ \nLivermore-Pleasanton Firefighters Foundation is a non-profit 501(c)3 that supports injured and fallen Firefighters\, the Alisa Ann Ruch Burn Foundation and Local Charities in the Tri-Valley.
URL:https://onyourmarkevents.com/events/the-hook-and-ladder-run/
LOCATION:CA
CATEGORIES:10K,5K,Kids Fun Run
ATTACH;FMTTYPE=image/jpeg:https://onyourmarkevents.com/wp-content/uploads/2018/05/9th-annual-hook-and-ladder-run-logo_1475782064.jpg
END:VEVENT
BEGIN:VEVENT
DTSTART;TZID=America/Los_Angeles:20180609T014500
DTEND;TZID=America/Los_Angeles:20180609T060000
DTSTAMP:20260419T232204
CREATED:20180524T014011Z
LAST-MODIFIED:20180625T082831Z
UID:302-1528508700-1528524000@onyourmarkevents.com
SUMMARY:Alcatraz Sharkfest Swim
DESCRIPTION:Alcatraz Sharkfest is SOLD OUT! \nNow that the event is SOLD OUT\, you have two options if you still want to swim from Alcatraz this summer: \n1. Join the wait list online here. When spots open up\, swimmers will be notified in the order they have registered on the list and given 48 hours to register online before moving to the next swimmer. Please make sure your enter a valid email address and put “info@envirosports.com” on your white list. \n2. There is now a “Swim-Only” category available as part of the Alcatraz Escape from the Rock Duathlon event on Saturday June 23rd. Entry fees will be $150 for the first 50 people who register\, then they go up to $175 until June 1. \n \nEvery swimmer dreams of making the ultimate “ESCAPE” from the historical island prison located in the middle of the San Francisco Bay! This is the swim the Anglin Brothers and Frank Lee Morris successfully attempted in their escape from Alcatraz on the night of June 12\, 1962. Who knows where they are now? Who cares?!! Now it’s YOUR turn! The event is limited to 800 participants and sells out months in advance every year so don’t wait too long to register! \nPLEASE NOTE: This swim is NOT for NOVICES. This event is for experienced open-water swimmers only. You should be able to swim one mile comfortably in a pool in under 40 minutes.
URL:https://onyourmarkevents.com/events/alcatraz-sharkfest-swim/
LOCATION:CA
CATEGORIES:Swim
ATTACH;FMTTYPE=image/jpeg:https://onyourmarkevents.com/wp-content/uploads/2018/05/alcatraz-sharkfest.jpg
END:VEVENT
BEGIN:VEVENT
DTSTART;TZID=America/Los_Angeles:20180519T000000
DTEND;TZID=America/Los_Angeles:20180519T060000
DTSTAMP:20260419T232204
CREATED:20180426T085940Z
LAST-MODIFIED:20180426T090536Z
UID:74-1526688000-1526709600@onyourmarkevents.com
SUMMARY:Mud on the Farm
DESCRIPTION:Packet Pick-up \nEarly Pick-up – for purchases made by May 14 (NOT FOR PURCHASES MADE AFTER May 14 ) \nWhen: Thursday\, May 17 & Friday\, May 18\nTime: 3 pm-7 pm \nRequired at Early Pick-up\n \n\nPhoto I.D. for each participant (no exceptions\, so if you are picking up for a friend you MUST have a copy of their I.D.)\nAn initialed\, signed and dated copy of the waiver for each participant. (no exceptions\, so if you are picking up for a friend you MUST have a copy of their signed waiver.)\nYour ticket\, either printed or on your smartphone. (no exceptions\, so if you are picking up for a friend you MUST have a copy of their ticket.)\n\nDay of Event Packet Pick-up/Check-in (For all purchases regardless of purchase date) \nWhen: Saturday\, May 19\, 2018\nTime: Beginning at 7am – 1pm \nRequired at Day of Event Check-in \n\nPhoto I.D. for each participant (no exceptions\, so if you are picking up for a friend you MUST have a copy of their I.D.)\nAn initialed\, signed and dated copy of the waiver for each participant. (no exceptions\, so if you are picking up for a friend you MUST have a copy of their signed waiver.)\nYour ticket\, either printed or on your smartphone. (no exceptions\, so if you are picking up for a friend you MUST have a copy of their ticket.)\nPackets need to be picked up at least an hour before wave time.\n\nPacket Pick-up Location \nDell’Osso Family Farm at the Country Store\n501 Manthey Road\nLathrop\, CA 95330 \nGear Check \n\nPhoto I.D. required for check-in.\nAn initialed\, signed and dated copy of the participant waiver. Do ahead it will save time in line! Download load here to save time. If not you will have to fill one out at the farm. Required at check-in.\nA change of clothes.\nSpending Money for extra Beer\, Grub and Gear.\n\nParking \nRemember parking is FREE! \n\n\n\n\n\n\n\n\n\n\nWave Times \nFirst wave goes off @ 8:00am. You select your wave time during the registration process. If you want to run with a friend or group\, please be sure to book at the same time or have one person purchase all the individual tickets. Waves are capped at 300 runners. We recommend you arrive at least an hour before your wave time begins. \nWave times \n8:00am\, 8:20am\, 8:40am\, 9:00am\, 9:20am\, 9:40am\, 10:00am\, 10:20am\, 10:40am\, 11:00am\, 11:20am\, 11:40am. The following may be added; 12:00 pm\, 12:20pm\, 12:40pm\, 1:00pm \nEach wave consists of both men and women from every age group. You may register for any available wave. \nWhat each Mud Runner will receive \n\nOne (1) FREE Beer.* (For Mud Runners 21 or older) ($4 refills)\nFREE parking\nA “Mud Run on the Farm” Finishers Medal\nA Mud Run on the Farm T-shirt\nTrophies & Sweet prizes for top finishers.\nFastest Time of the Day … 2 Categories ~ Men & Women\nFastest Time for Age Groups … 2 Categories each group ~ Men & Women\nAge Groups… 12-14\, 15-20\, 21-30\, 31-40\, 41-50\, 51-60\, 60 & up\nWinners will be announced at the day of the run. Must be present to win!.\nPost race party at the “Beer Garden”\nThe most outrageous day of your life\nA memory that will echo into eternity\n\n* For those drinking beer\, please don’t drink and drive! We want you to come back next year! Must be 21. \nMud Run Location \nDell’Osso Family Farm\n501 Manthey Road\nLathrop\, CA 95330 \nSpectators \nThe course was designed to be spectator friendly\, so family and friends can witness first hand your thrills of victory and spills of defeat. We invite any spectator interested in running events in the Sacramento area to come cheer on participants. \nFor those who only watch\, there will be full facilities\, food\, and concessions operating throughout the day as well as a beer at the Beer Garden\, and of course\, our post race party in the Beer Garden.
URL:https://onyourmarkevents.com/events/mud-on-the-farm/
LOCATION:Mud Run\, 501 Manthey Road\, Lathrop\, CA\, 95330\, United States
CATEGORIES:5K,Mud Run
ATTACH;FMTTYPE=image/jpeg:https://onyourmarkevents.com/wp-content/uploads/2018/04/MudRunOnTheFarmLogo.jpg
END:VEVENT
BEGIN:VEVENT
DTSTART;TZID=America/Los_Angeles:20180512T000000
DTEND;TZID=America/Los_Angeles:20180512T060000
DTSTAMP:20260419T232204
CREATED:20180426T083216Z
LAST-MODIFIED:20180426T090728Z
UID:70-1526083200-1526104800@onyourmarkevents.com
SUMMARY:CPOA Run to Remember
DESCRIPTION:The information page for this event is not yet posted.  For more information\, please hit your “back” button and click on the Application for this event.
URL:https://onyourmarkevents.com/events/cpoa-run-to-remember/
LOCATION:CA
CATEGORIES:10K,5K,Kids Fun Run
ATTACH;FMTTYPE=image/jpeg:https://onyourmarkevents.com/wp-content/uploads/2018/04/CPOA-Run-to-Remember.jpg
END:VEVENT
BEGIN:VEVENT
DTSTART;TZID=America/Los_Angeles:20180506T000000
DTEND;TZID=America/Los_Angeles:20180506T060000
DTSTAMP:20260419T232204
CREATED:20180426T082417Z
LAST-MODIFIED:20180426T082635Z
UID:64-1525564800-1525586400@onyourmarkevents.com
SUMMARY:Aztec Run
DESCRIPTION:This event benefits the educational programs of Spanish Speaking Citizen’s Foundation (SSCF) which is a community-based non-profit organization serving the families since 1965.  The mission of the Spanish Speaking Citizens’ Foundation is to help East Bay families improve their lives\, embrace their heritage\, and develop as community leaders by providing educational enrichment services and promoting civic responsibility.   Our vision is to advance the sustainability of a vibrant community where people live in harmony and where high quality educational\, recreational\, and employment opportunities are available for all. \nCourse~\nAround the beautiful Lake Merritt\, one of the oldest and most historic run courses in Northern California. \nFees~ \nPre-registration prior to 5/3/18\nChild ages 13 & Under – $10 through race day\nYouth ages 14-24 – $25 / $30 race day\nAdults ages 25-64 – $50 / $55 race day\nSeniors 65 & over – $30 / $35 race day\n Entry fees include custom T-shirt and finisher medals to all!\n\nEffective January 1st\, 2018 for family/group or team rates\, please contact kandee@onyourmarkevents for your personal discount of $5. off each registrant.  Family or groups must have a total of 3 registrants or more. For team rates must have a total of five or more registrants. \nAwards~\nTop overall male/female and Masters (50+).Top 3 male and female finishers in the following age groups: 10 & under\, 11-14\, 15-18\, 19-29\, 30-49\, 50-64\, 65-79\, 80 & Over. \nRace Day Schedule~\n7:00 a.m. – Check-in and race day registration opens\n9:00 a.m. – Run Start
URL:https://onyourmarkevents.com/events/aztec-run/
LOCATION:Aztec Run\, 568 Bellevue Ave\, Oakland\, CA\, 94612\, United States
CATEGORIES:5K
ATTACH;FMTTYPE=image/jpeg:https://onyourmarkevents.com/wp-content/uploads/2018/04/aztec-run.jpg
ORGANIZER;CN="On Your Mark Events":MAILTO:kandee@onyourmarkevents.com
END:VEVENT
BEGIN:VEVENT
DTSTART;TZID=America/Los_Angeles:20180505T063000
DTEND;TZID=America/Los_Angeles:20180505T133000
DTSTAMP:20260419T232204
CREATED:20180426T053405Z
LAST-MODIFIED:20180426T082715Z
UID:58-1525501800-1525527000@onyourmarkevents.com
SUMMARY:Ripon's RUN
DESCRIPTION:The formally known as Rina’s Run has been handed over to The Moves Training Teams a non profit organization with the objective of getting the local communities healthy through movement.  The Ripon’s Run will be benefiting the Non Profits of RCAF (Ripon Community Athletic Foundation) and our Moves Training Teams geared toward getting our community into a healthy living lifestyle. In addition\, these non profits benefit our local community.  \nCourse:\nChoice of a 5K\, Quarter Marathon or Half Marathon. Both the 5K & Quarter Marathon include historic tree-line streets through the heart of Ripon\, while the 13.1 mile course continues to enjoy our scenic agricultural countryside then turning around in the lush Caswell State Park. \nFees:\n5K Individual:\nAdults $30. Includes custom 3.0″ finishers medal\, custom tech shirt\, and goodie bag:\nNext price increase for adults on 4-15-18 to $35.\nRACE DAY REGISTRATION 5-5-2018 Price $40\nYouth 17 & under $25 Next price increase for youths on 5-5-2018 to $30 \nQuarter Marathon Individual:\nAdults $35. Includes Custom 4.0″ finishers medal\, custom tech shirt and goodie bag.\nNext price increase for adults on 4-15-2018 to $40\nADULTS RACE DAY REGISTRATION 5-5-2018 $45 \nYouth 17 & under $30\nNext price increase for youths on RACE DAY 5-5 to $35 \n Half Marathon:\nAdults $65. Includes 5.5″ custom medal\, custom tech shirt and goodie bag.\nPrice increase for adults on 4-15-2018 to $75\nADULTS RACE DAY REGISTRATION 5-5-2018 $80 \nYouth 17 & under $45 price increase for youths on 5-5-2018 to $60 \nVirtual Runner Options available – Includes same as above and will be sent right after the race.  Virtual race fee of $10 will apply. \nT-Shirts:\nIn order to be guaranteed your t-shirt size\, you must register by April 14th\, 11:59 p.m.   In order to get shirts by race day we order by April 14th.  We anticipate the number of register runners and then order shirt sizes based upon trends.  There is no guarantee that you will receive your shirt size if you register after April 14th\, 2018.  In addition\, shirts but not sizes are only guaranteed to those who are pre-registered by May 1st\, 2018. \nEarly Packet Pick-Up:  Is available the following dates and times:\nThursday\, May 3rd from 1:00-6:00 pm at Fleet Feet Sports\, 1427 Standiford Ave\, Modesto\nFriday\, May 4th\, 1:00-6:00 pm\, Ripon Memorial Library\, 333 W. Main St\, Ripon \nHalf Marathon Finisher Medal.  It’s a whopping 5.5 inches! \n \nPrizes/Awards/Overall Plaque Winners:\nPlease note: Cash Prize $ will not be given to any student that will jeopardize future scholarships potential.\nPLEASE NOTE:  For all races – all participants will be receiving very nice medals!\n\nCash Prizes:  (Overall Male/Female &/or 40+ Masters)\n$500 for course record (Male 1:08\, Female 1:18)\n$200 for Half Marathon\n$100 for Quarter Marathon\n$50 for 5K.\nOnly 1 cash prize per winner – no double dipping for cash prizes.  Double dipping for overall plaques and divisional awards allowed.\n\nAge Divisional Winner Medals:\n1st\, 2nd and 3rd place age divisions:\n9 & Under\, 10-13\, 14-18\, 19-29\, 30-39\, 40-49\, 50-59\, 60-69\, 70-79\, 80 & Over \nOverall and Master Plaques Only:\nHalf Marathon (Male/Female)\nQuarter Marathon (Male/Female)\n5K Race (Male/Female) \nRefund Policy\, Race Event Changes\, Transfer Fees:  \nThere are no refunds for any of the events. \nYou are allowed to change races prior to packet pickup and a race change fee of $10 will apply as well as any differences of race fees.  There will not be any refunds of race difference due to requested race changes. \nYou will be allowed to defer your registration for medical reason for the following year but must be done prior to race day and a transfer fee of $10 will apply. \nYou will be allowed to transfer your bib to another runner for a $10 transfer fee.  Allowing another person to run/walk with your bib is not allowed as it is not fair to those who are serious about placement and for emergency contact and race waiver considerations.  Thank you for understanding.
URL:https://onyourmarkevents.com/events/ripons-run/
LOCATION:Ripon High\, 301 North Acacia Ave\, Ripon\, CA\, 94366\, United States
CATEGORIES:5K,Half Marathon,Quarter Marathon,Virtual Race
ATTACH;FMTTYPE=image/jpeg:https://onyourmarkevents.com/wp-content/uploads/2018/04/Ripon-run-logo.jpg
ORGANIZER;CN="Mike Mason":MAILTO:uopmason@sbcglobal.net
END:VEVENT
BEGIN:VEVENT
DTSTART;TZID=America/Los_Angeles:20180209T230000
DTEND;TZID=America/Los_Angeles:20180210T050000
DTSTAMP:20260419T232204
CREATED:20180125T004944Z
LAST-MODIFIED:20180125T044003Z
UID:39-1518217200-1518238800@onyourmarkevents.com
SUMMARY:Tiny Smiles 2018
DESCRIPTION:About This Activity – Download PDF(HERE) \nEvent Beneficiaries: “tiny”Smiles and Children’s Heart Foundation. This event is designed to create awareness for CHD’s (Congenital Heart Defect)\, raise money for the incredibe care and support babies and their families need. \nEntry Fees: Half Marathon – $60.\, 5K/10K – $40. Includes custom tech shirt\, finishers medal for the half marathon\, goodie bag\, race gels\, sports drink\, post race food and entertainment. Vitrual Runner – $40. includes t-shirt. Fees increase on 1/1/17\, Half Marathon $70\, 5K/10K $45. \nCourse – Half Marathon loop takes you through historical Galt\, new developments and surounding area. The 5K/10K Run will be an out and back. There are multiple aid stations and restorroms along the way! Walkers and running strollers are encouraged! Spectator freiendly finish at the Galt Fairgrounds \nKids Run – Register on race day. \nAwards – Overall male/female\, and masters receive a custom etched glass trophy. Medals to top 3 in each age division\, 13 & under\, 14-18\, 19-29\, 30-39\, 40-49\, 50-59\, 60-69\, 70-79\, 80+ 5K Stroller Division\, 1st and 2nd place overall. \nHealth Expo – After the race join us from some food\, drinks and walk trhough the Health Expo near the start/finish site. Free health screenings and blood drive. Fun stuff for kids! \nEarly Packet Pick-Up –\nBeat the crowds on race day and pick up your race packet on Friday February 9th from 10:00 a.m. to 6:00 p.m. and visit with some of our great sponsors! Location will be at the Littleton Cente (start/finish line). Packets are also available for pick-up race morning beginning at 6:00 a.m. \nEvent details and schedule \n6:00 am – Check-in & Race Day Registration opens \n8:00 am – Start Half Marathon \n8:15 am – Start 5K & 10K Run \n9:00 am – Kids Fun Run \nHealth Expo will be open 8:00 am to 12:00 pm
URL:https://onyourmarkevents.com/events/tiny-smiles-2018/
LOCATION:Littleton Center\, 410 Civic Avenue\, Galt\, CA\, 95632\, United States
ATTACH;FMTTYPE=image/jpeg:https://onyourmarkevents.com/wp-content/uploads/2018/01/tinysmiles.jpg
END:VEVENT
BEGIN:VEVENT
DTSTART;TZID=America/Los_Angeles:20180126T230000
DTEND;TZID=America/Los_Angeles:20180127T040000
DTSTAMP:20260419T232204
CREATED:20180124T062118Z
LAST-MODIFIED:20180225T053410Z
UID:18-1517007600-1517025600@onyourmarkevents.com
SUMMARY:St. Joseph's Fun Run 2018
DESCRIPTION:  \n\n\n\n\n\n\n\n\n\n  \n9th Annual Fun Run/Walk for Wellness\nSaturday\, January 27\, 2018\nUniversity Park\, Stockton\nKick off the New Year right by making a pledge to your health with friends\, family\, and co-workers. The morning includes a vendor expo\, fitness experts\, massages\, a recovery zone\, superheroes for the kids\, and a chance to win great prizes. Let’s salute to an active and healthy 2018! \nWith your support\, we hope to raise $60\,000 to help St. Joseph’s Cancer Institute bring the latest advancements in cancer fighting equipment to the Central Valley. \nCourse – Easy\, flat\, double looping 5k (3.1 mile) route through the beautiful University Park campus. There is one aid station with restroom access. \nFees – $35.00 by January 12\, 2018 ($40 thereafter); $10 age 12 or under \nEntry Fee Includes – Custom t-shirt\,* swag bags\, post-race food and entertainment\, and a chance to win great prizes. \nAwards – Overall male/female winners will receive a custom etched glass trophy (no masters). Medals will be awarded to the top three in each age division (19 and under\, 20-29\, 30-39\, 40-49\, 50-59\, 60-69\, 70-79\, and 80+). All participants are also entered into a prize drawing. \nEarly Packet Pick-up – Beat the crowds on race day and pick up your packet early at Fleet Feet Stockton\, 227 Lincoln Center\, on Friday January 26\, 2018 from 12-6 p.m. All others can pick up their packet race day. Race day check-in opens at 7:45 a.m. Registration is also available at Fleet Feet\, on January 26 during packet pick up. \n*T-shirts are only guaranteed if you register by January 12. \nIf you have any questions\, please contact Lindsay Bureaux\, Development Officer\, at (209) 461-3338 or Lindsay.Bureaux@DignityHealth.org.
URL:https://onyourmarkevents.com/events/st-josephs-fun-run-2018/
LOCATION:CA
END:VEVENT
END:VCALENDAR