BEGIN:VCALENDAR
VERSION:2.0
PRODID:-//On Your Mark Events - ECPv6.15.14//NONSGML v1.0//EN
CALSCALE:GREGORIAN
METHOD:PUBLISH
X-ORIGINAL-URL:https://onyourmarkevents.com
X-WR-CALDESC:Events for On Your Mark Events
REFRESH-INTERVAL;VALUE=DURATION:PT1H
X-Robots-Tag:noindex
X-PUBLISHED-TTL:PT1H
BEGIN:VTIMEZONE
TZID:America/Los_Angeles
BEGIN:DAYLIGHT
TZOFFSETFROM:-0800
TZOFFSETTO:-0700
TZNAME:PDT
DTSTART:20170312T100000
END:DAYLIGHT
BEGIN:STANDARD
TZOFFSETFROM:-0700
TZOFFSETTO:-0800
TZNAME:PST
DTSTART:20171105T090000
END:STANDARD
BEGIN:DAYLIGHT
TZOFFSETFROM:-0800
TZOFFSETTO:-0700
TZNAME:PDT
DTSTART:20180311T100000
END:DAYLIGHT
BEGIN:STANDARD
TZOFFSETFROM:-0700
TZOFFSETTO:-0800
TZNAME:PST
DTSTART:20181104T090000
END:STANDARD
BEGIN:DAYLIGHT
TZOFFSETFROM:-0800
TZOFFSETTO:-0700
TZNAME:PDT
DTSTART:20190310T100000
END:DAYLIGHT
BEGIN:STANDARD
TZOFFSETFROM:-0700
TZOFFSETTO:-0800
TZNAME:PST
DTSTART:20191103T090000
END:STANDARD
BEGIN:DAYLIGHT
TZOFFSETFROM:-0800
TZOFFSETTO:-0700
TZNAME:PDT
DTSTART:20200308T100000
END:DAYLIGHT
BEGIN:STANDARD
TZOFFSETFROM:-0700
TZOFFSETTO:-0800
TZNAME:PST
DTSTART:20201101T090000
END:STANDARD
BEGIN:DAYLIGHT
TZOFFSETFROM:-0800
TZOFFSETTO:-0700
TZNAME:PDT
DTSTART:20210314T100000
END:DAYLIGHT
BEGIN:STANDARD
TZOFFSETFROM:-0700
TZOFFSETTO:-0800
TZNAME:PST
DTSTART:20211107T090000
END:STANDARD
BEGIN:DAYLIGHT
TZOFFSETFROM:-0800
TZOFFSETTO:-0700
TZNAME:PDT
DTSTART:20220313T100000
END:DAYLIGHT
BEGIN:STANDARD
TZOFFSETFROM:-0700
TZOFFSETTO:-0800
TZNAME:PST
DTSTART:20221106T090000
END:STANDARD
BEGIN:DAYLIGHT
TZOFFSETFROM:-0800
TZOFFSETTO:-0700
TZNAME:PDT
DTSTART:20230312T100000
END:DAYLIGHT
BEGIN:STANDARD
TZOFFSETFROM:-0700
TZOFFSETTO:-0800
TZNAME:PST
DTSTART:20231105T090000
END:STANDARD
END:VTIMEZONE
BEGIN:VEVENT
DTSTART;TZID=America/Los_Angeles:20220128T090000
DTEND;TZID=America/Los_Angeles:20220130T210000
DTSTAMP:20260419T050643
CREATED:20211029T181442Z
LAST-MODIFIED:20220110T203412Z
UID:2493-1643360400-1643576400@onyourmarkevents.com
SUMMARY:St. Joseph's 5K Fun Run/Walk for Wellness
DESCRIPTION:In response to the dramatic rise in COVID-19 cases in our County\, we are transitioning to a fully virtual event. \nKick off 2022 with a pledge to your health! \nJoin us for St. Joseph’s 13th annual 5K Fun Run/Walk for Wellness\, presented by Pacific Homecare Services. \nRun/walk any day January 28-January 30 (you can even swim\, bike or hike!)\nRun/walk any time of the day that is convenient for you\nSelect any route – your neighborhood\, your favorite park\, or even your treadmill\n​\nAll proceeds stay local to benefit St. Joseph’s Cancer Institute. \nA drive-through packet pickup will be hosted at Fleet Feet Sports in Lincoln Center from noon-6 p.m. on Thursday\, January 27. \n\n\n\n\nREGISTER\nDONATE\nEVENT INFO
URL:https://onyourmarkevents.com/events/st-josephs-5k-fun-run-walk-for-wellness-3/
LOCATION:Anywhere\, United States\, CA\, United States
CATEGORIES:5K,Virtual Race
ATTACH;FMTTYPE=image/jpeg:https://onyourmarkevents.com/wp-content/uploads/2021/10/StJoes5K2022-e1635531158930.jpeg
END:VEVENT
BEGIN:VEVENT
DTSTART;TZID=America/Los_Angeles:20220115T080000
DTEND;TZID=America/Los_Angeles:20220201T080000
DTSTAMP:20260419T050643
CREATED:20211107T151310Z
LAST-MODIFIED:20211107T152051Z
UID:2551-1642233600-1643702400@onyourmarkevents.com
SUMMARY:Dr. Martin Luther King\, Jr. Virtual 10K/5K/2K Run & Walk
DESCRIPTION:NAACP Celebrating 90-Years of Service!\nTo ensure the safety of our runners during this unprecedented time\, the live Dr. Martin L. King Jr. 10K/5K will now be a 2-week virtual walk from 1/15 – 2/1. Registrants can also utilize their treadmill! This 2 week Virtual Walk/Run Series will also act as our Social Distance Run Series presented by the NAACP Stockton Branch.  We are expecting over 1\,000 participants\, the Social Distance Run Series will become a huge success in bringing the running community together once again.\nAdditional Information/Registration\n 
URL:https://onyourmarkevents.com/events/dr-martin-luther-king-jr-virtual-10k-5k-2k-run-walk/
LOCATION:CA\, United States
CATEGORIES:10K,5K,Kids Fun Run,Virtual Race
ATTACH;FMTTYPE=image/jpeg:https://onyourmarkevents.com/wp-content/uploads/2021/11/MLK_2-e1636298376616.jpg
END:VEVENT
BEGIN:VEVENT
DTSTART;TZID=America/Los_Angeles:20210926T083000
DTEND;TZID=America/Los_Angeles:20210926T083000
DTSTAMP:20260419T050643
CREATED:20210623T015947Z
LAST-MODIFIED:20210623T021029Z
UID:2382-1632645000-1632645000@onyourmarkevents.com
SUMMARY:Trailblazer Race
DESCRIPTION:Workout Bonus — Benefit Yourself and a Worthy Cause\nThe Stevens and Permanente Creek Trails and wildlife corridors need you! You can make a difference by participating in the 27th Annual Trailblazer Race\, which benefits the Friends of Stevens Creek Trail. You will support a worthy cause and yourself as you take charge of your mental and physical well-being. \nThis year’s race format will again be virtual. While we are all anxious to return to a live\, in-person event\, the reality is that they take significant planning efforts months in advance. Early this year\, given the uncertainty of future mask mandates and social distancing requirements\, we chose to prioritize the safety of our participants and opted for a virtual format. \nUnique to Going Virtual\nA virtual race means you can run or walk anywhere at any time of day. We give you entry into all three of our events (5K\, 10K or 3-Mile Walk) with a single registration; participate in as many as you like. Invite family and friends from anywhere for additional encouragement or friendly competition.  \nRun or walk as often as you wish between September 17-September 26 and upload your best time! Sharing results is completely optional. We encourage all to participate regardless of age or fitness level!  \nDates: Friday\, September 17 – Sunday\, September 26\nParticipate any time or day between September 17 and September 26. Deadline to upload 5K and/or 10K results is Monday\, September 27. \nEvents: 5K Run\, 10K Run\, 3-Mile Walk\nWalk results are not timed or able to be uploaded. If you choose not to upload 5K or 10K results that’s okay too – we encourage participation! Timed 5K or 10K results can be submitted by downloading the ItsYourRace app or sending an email to On Your Mark Events.  \nRoute: Any route you choose\, even on the treadmill\, qualifies. \nFees: $40 all ages\, all events— 5K\, 10K or 3-Mile Walk\nEntry fee covers one or all three events. Fees are non-refundable. \nT-Shirt: All paid registrants receive a Trailblazer Race T-shirt. They are Hanes Extra Beefy T’s\, soft and 100% cotton with minimal to no shrinkage. (If you’ve participated before you know how great they are!) You will receive your shirt by mail 4-6 weeks after the event. Shipping to outside the U.S. is not available. \nGo the Extra Mile for the Trail!\nThis critical fundraiser benefits the Friends of Stevens Creek Trail\, a publicly supported 501(c)(3) nonprofit organization founded in 1992. We foster local efforts in Sunnyvale\, Mountain View\, Cupertino\, Los Altos and Santa Clara County to create multi-use trails along Stevens Creek and Permanente Creek and to preserve and protect their wildlife corridors.  \nThe Stevens Creek Trail currently extends over five miles from Shoreline Park to Dale-Heatherstone in Mountain View\, close to the Sunnyvale border. Cupertino opened its first section of trail in 2010 and just completed a 0.3 mile extension from McClellan Ranch to Linda Vista Park. Los Altos and Sunnyvale are studying possible connecting routes. Individual cities and jurisdictions along Stevens Creek actually build the trail\, but it takes many years of preparation and hard work behind the scenes to achieve. Increasing public awareness\, support\, and consensus must come first. The Friends strive to achieve that.  \nWe believe that urban trails and easy access to nature are more important than ever. We envision a continuous trail from the Santa Cruz Mountains to the San Francisco Bay\, a gift for the entire community to be treasured for generations to come. We greatly appreciate your support. All donations are tax deductible to the extent allowed by law. \nONLINE REGISTRATION
URL:https://onyourmarkevents.com/events/trailblazer-race/
LOCATION:Anywhere\, CA\, CA\, United States
CATEGORIES:Virtual Race
ATTACH;FMTTYPE=image/jpeg:https://onyourmarkevents.com/wp-content/uploads/2021/06/TBR21logo_0001-scaled-e1624413666130.jpg
ORGANIZER;CN="Friends of Stevens Creek Trail":MAILTO:kandee@onyourmarkevents.com
END:VEVENT
BEGIN:VEVENT
DTSTART;TZID=America/Los_Angeles:20180505T063000
DTEND;TZID=America/Los_Angeles:20180505T133000
DTSTAMP:20260419T050643
CREATED:20180426T053405Z
LAST-MODIFIED:20180426T082715Z
UID:58-1525501800-1525527000@onyourmarkevents.com
SUMMARY:Ripon's RUN
DESCRIPTION:The formally known as Rina’s Run has been handed over to The Moves Training Teams a non profit organization with the objective of getting the local communities healthy through movement.  The Ripon’s Run will be benefiting the Non Profits of RCAF (Ripon Community Athletic Foundation) and our Moves Training Teams geared toward getting our community into a healthy living lifestyle. In addition\, these non profits benefit our local community.  \nCourse:\nChoice of a 5K\, Quarter Marathon or Half Marathon. Both the 5K & Quarter Marathon include historic tree-line streets through the heart of Ripon\, while the 13.1 mile course continues to enjoy our scenic agricultural countryside then turning around in the lush Caswell State Park. \nFees:\n5K Individual:\nAdults $30. Includes custom 3.0″ finishers medal\, custom tech shirt\, and goodie bag:\nNext price increase for adults on 4-15-18 to $35.\nRACE DAY REGISTRATION 5-5-2018 Price $40\nYouth 17 & under $25 Next price increase for youths on 5-5-2018 to $30 \nQuarter Marathon Individual:\nAdults $35. Includes Custom 4.0″ finishers medal\, custom tech shirt and goodie bag.\nNext price increase for adults on 4-15-2018 to $40\nADULTS RACE DAY REGISTRATION 5-5-2018 $45 \nYouth 17 & under $30\nNext price increase for youths on RACE DAY 5-5 to $35 \n Half Marathon:\nAdults $65. Includes 5.5″ custom medal\, custom tech shirt and goodie bag.\nPrice increase for adults on 4-15-2018 to $75\nADULTS RACE DAY REGISTRATION 5-5-2018 $80 \nYouth 17 & under $45 price increase for youths on 5-5-2018 to $60 \nVirtual Runner Options available – Includes same as above and will be sent right after the race.  Virtual race fee of $10 will apply. \nT-Shirts:\nIn order to be guaranteed your t-shirt size\, you must register by April 14th\, 11:59 p.m.   In order to get shirts by race day we order by April 14th.  We anticipate the number of register runners and then order shirt sizes based upon trends.  There is no guarantee that you will receive your shirt size if you register after April 14th\, 2018.  In addition\, shirts but not sizes are only guaranteed to those who are pre-registered by May 1st\, 2018. \nEarly Packet Pick-Up:  Is available the following dates and times:\nThursday\, May 3rd from 1:00-6:00 pm at Fleet Feet Sports\, 1427 Standiford Ave\, Modesto\nFriday\, May 4th\, 1:00-6:00 pm\, Ripon Memorial Library\, 333 W. Main St\, Ripon \nHalf Marathon Finisher Medal.  It’s a whopping 5.5 inches! \n \nPrizes/Awards/Overall Plaque Winners:\nPlease note: Cash Prize $ will not be given to any student that will jeopardize future scholarships potential.\nPLEASE NOTE:  For all races – all participants will be receiving very nice medals!\n\nCash Prizes:  (Overall Male/Female &/or 40+ Masters)\n$500 for course record (Male 1:08\, Female 1:18)\n$200 for Half Marathon\n$100 for Quarter Marathon\n$50 for 5K.\nOnly 1 cash prize per winner – no double dipping for cash prizes.  Double dipping for overall plaques and divisional awards allowed.\n\nAge Divisional Winner Medals:\n1st\, 2nd and 3rd place age divisions:\n9 & Under\, 10-13\, 14-18\, 19-29\, 30-39\, 40-49\, 50-59\, 60-69\, 70-79\, 80 & Over \nOverall and Master Plaques Only:\nHalf Marathon (Male/Female)\nQuarter Marathon (Male/Female)\n5K Race (Male/Female) \nRefund Policy\, Race Event Changes\, Transfer Fees:  \nThere are no refunds for any of the events. \nYou are allowed to change races prior to packet pickup and a race change fee of $10 will apply as well as any differences of race fees.  There will not be any refunds of race difference due to requested race changes. \nYou will be allowed to defer your registration for medical reason for the following year but must be done prior to race day and a transfer fee of $10 will apply. \nYou will be allowed to transfer your bib to another runner for a $10 transfer fee.  Allowing another person to run/walk with your bib is not allowed as it is not fair to those who are serious about placement and for emergency contact and race waiver considerations.  Thank you for understanding.
URL:https://onyourmarkevents.com/events/ripons-run/
LOCATION:Ripon High\, 301 North Acacia Ave\, Ripon\, CA\, 94366\, United States
CATEGORIES:5K,Half Marathon,Quarter Marathon,Virtual Race
ATTACH;FMTTYPE=image/jpeg:https://onyourmarkevents.com/wp-content/uploads/2018/04/Ripon-run-logo.jpg
ORGANIZER;CN="Mike Mason":MAILTO:uopmason@sbcglobal.net
END:VEVENT
END:VCALENDAR