BEGIN:VCALENDAR
VERSION:2.0
PRODID:-//On Your Mark Events - ECPv6.15.14//NONSGML v1.0//EN
CALSCALE:GREGORIAN
METHOD:PUBLISH
X-WR-CALNAME:On Your Mark Events
X-ORIGINAL-URL:https://onyourmarkevents.com
X-WR-CALDESC:Events for On Your Mark Events
REFRESH-INTERVAL;VALUE=DURATION:PT1H
X-Robots-Tag:noindex
X-PUBLISHED-TTL:PT1H
BEGIN:VTIMEZONE
TZID:America/Los_Angeles
BEGIN:DAYLIGHT
TZOFFSETFROM:-0800
TZOFFSETTO:-0700
TZNAME:PDT
DTSTART:20230312T100000
END:DAYLIGHT
BEGIN:STANDARD
TZOFFSETFROM:-0700
TZOFFSETTO:-0800
TZNAME:PST
DTSTART:20231105T090000
END:STANDARD
BEGIN:DAYLIGHT
TZOFFSETFROM:-0800
TZOFFSETTO:-0700
TZNAME:PDT
DTSTART:20240310T100000
END:DAYLIGHT
BEGIN:STANDARD
TZOFFSETFROM:-0700
TZOFFSETTO:-0800
TZNAME:PST
DTSTART:20241103T090000
END:STANDARD
BEGIN:DAYLIGHT
TZOFFSETFROM:-0800
TZOFFSETTO:-0700
TZNAME:PDT
DTSTART:20250309T100000
END:DAYLIGHT
BEGIN:STANDARD
TZOFFSETFROM:-0700
TZOFFSETTO:-0800
TZNAME:PST
DTSTART:20251102T090000
END:STANDARD
END:VTIMEZONE
BEGIN:VEVENT
DTSTART;TZID=America/Los_Angeles:20241027T064500
DTEND;TZID=America/Los_Angeles:20241027T064500
DTSTAMP:20260420T060532
CREATED:20240425T171837Z
LAST-MODIFIED:20240425T171837Z
UID:3358-1730011500-1730011500@onyourmarkevents.com
SUMMARY:Bearathlon 2024
DESCRIPTION:Is racing a triathlon on your bucket list? You’re in the right place! Bearathlon\, the home race hosted by UC Berkeley’s very own CAL TRIATHLON\, is a flat\, fast\, *freshly repaved*\, sprint triathlon race that boasts beautiful views of the San Francisco Bay. Open to all ages and experience levels — the classic race is a fast course for a seasoned triathlete\, and very beginner friendly if this is your first time. Oh\, and one more thing! If you have friends joining you\, we are offering group discounts for age group division racers. \nADDITIONAL INFORMATION/REGISTRATION
URL:https://onyourmarkevents.com/events/bearathlon-2024/
LOCATION:Berkeley Marina\, 160 University Ave\, Berkeley\, CA\, 94710\, United States
CATEGORIES:Triathlon
ATTACH;FMTTYPE=image/jpeg:https://onyourmarkevents.com/wp-content/uploads/2024/04/Bearathlon-e1714065609132.jpg
END:VEVENT
END:VCALENDAR