BEGIN:VCALENDAR
VERSION:2.0
PRODID:-//On Your Mark Events - ECPv6.15.14//NONSGML v1.0//EN
CALSCALE:GREGORIAN
METHOD:PUBLISH
X-ORIGINAL-URL:https://onyourmarkevents.com
X-WR-CALDESC:Events for On Your Mark Events
REFRESH-INTERVAL;VALUE=DURATION:PT1H
X-Robots-Tag:noindex
X-PUBLISHED-TTL:PT1H
BEGIN:VTIMEZONE
TZID:America/Los_Angeles
BEGIN:DAYLIGHT
TZOFFSETFROM:-0800
TZOFFSETTO:-0700
TZNAME:PDT
DTSTART:20210314T100000
END:DAYLIGHT
BEGIN:STANDARD
TZOFFSETFROM:-0700
TZOFFSETTO:-0800
TZNAME:PST
DTSTART:20211107T090000
END:STANDARD
BEGIN:DAYLIGHT
TZOFFSETFROM:-0800
TZOFFSETTO:-0700
TZNAME:PDT
DTSTART:20220313T100000
END:DAYLIGHT
BEGIN:STANDARD
TZOFFSETFROM:-0700
TZOFFSETTO:-0800
TZNAME:PST
DTSTART:20221106T090000
END:STANDARD
BEGIN:DAYLIGHT
TZOFFSETFROM:-0800
TZOFFSETTO:-0700
TZNAME:PDT
DTSTART:20230312T100000
END:DAYLIGHT
BEGIN:STANDARD
TZOFFSETFROM:-0700
TZOFFSETTO:-0800
TZNAME:PST
DTSTART:20231105T090000
END:STANDARD
END:VTIMEZONE
BEGIN:VEVENT
DTSTART;TZID=America/Los_Angeles:20221030T073000
DTEND;TZID=America/Los_Angeles:20221030T073000
DTSTAMP:20260421T154132
CREATED:20221004T172520Z
LAST-MODIFIED:20221004T172520Z
UID:2890-1667115000-1667115000@onyourmarkevents.com
SUMMARY:Cal Berkeley Bearathlon
DESCRIPTION:We’re back! Join us for the Cal Berkeley Bearathlon on October 30th.  Here is an overview of the events:\n\n\n\nDRAFT-LEGAL SPRINT\nDistance: 750m open-water swim\, 20km bike\, and 5km run.\nDraft-Legal is a highly competitive race format for experienced triathletes. In comparison to a traditional triathlon\, like the Classic Sprint race\, there are some major differences. Drafting is allowed in the bike portions. Because of the increased danger from drafting\, competitors must have experience riding in packs\, and have excellent bike handling skills.​\nCLASSIC SPRINT\nDistance: 750m open-water swim\, 20km bike\, and 5km run.  This is our most beginner-friendly and most popular event. Drafting on the bike is not allowed.\nFor additional information/registration\, visit https://www.caltriathlon.com/bearathlon
URL:https://onyourmarkevents.com/events/cal-berkeley-bearathlon/
LOCATION:Berkeley Marina\, 160 University Ave\, Berkeley\, CA\, 94710\, United States
CATEGORIES:Triathlon
ATTACH;FMTTYPE=image/jpeg:https://onyourmarkevents.com/wp-content/uploads/2022/10/CalTri-e1692112659268.jpg
END:VEVENT
END:VCALENDAR