BEGIN:VCALENDAR
VERSION:2.0
PRODID:-//On Your Mark Events - ECPv6.15.14//NONSGML v1.0//EN
CALSCALE:GREGORIAN
METHOD:PUBLISH
X-WR-CALNAME:On Your Mark Events
X-ORIGINAL-URL:https://onyourmarkevents.com
X-WR-CALDESC:Events for On Your Mark Events
REFRESH-INTERVAL;VALUE=DURATION:PT1H
X-Robots-Tag:noindex
X-PUBLISHED-TTL:PT1H
BEGIN:VTIMEZONE
TZID:America/Los_Angeles
BEGIN:DAYLIGHT
TZOFFSETFROM:-0800
TZOFFSETTO:-0700
TZNAME:PDT
DTSTART:20210314T100000
END:DAYLIGHT
BEGIN:STANDARD
TZOFFSETFROM:-0700
TZOFFSETTO:-0800
TZNAME:PST
DTSTART:20211107T090000
END:STANDARD
BEGIN:DAYLIGHT
TZOFFSETFROM:-0800
TZOFFSETTO:-0700
TZNAME:PDT
DTSTART:20220313T100000
END:DAYLIGHT
BEGIN:STANDARD
TZOFFSETFROM:-0700
TZOFFSETTO:-0800
TZNAME:PST
DTSTART:20221106T090000
END:STANDARD
BEGIN:DAYLIGHT
TZOFFSETFROM:-0800
TZOFFSETTO:-0700
TZNAME:PDT
DTSTART:20230312T100000
END:DAYLIGHT
BEGIN:STANDARD
TZOFFSETFROM:-0700
TZOFFSETTO:-0800
TZNAME:PST
DTSTART:20231105T090000
END:STANDARD
END:VTIMEZONE
BEGIN:VEVENT
DTSTART;TZID=America/Los_Angeles:20220904T100000
DTEND;TZID=America/Los_Angeles:20220904T100000
DTSTAMP:20260421T172259
CREATED:20220501T152253Z
LAST-MODIFIED:20220501T175523Z
UID:2711-1662285600-1662285600@onyourmarkevents.com
SUMMARY:Bear Valley Triathlon
DESCRIPTION:What a way to spend Sunday!  Nestled in a beautiful Sierra location\, incredibly scenic. Truly a fun and fast triathlon.  600-yd swim\, 10.5 mile bike\, 3.4 mile run.  Fees include custom T-shirt\, post race raffle\, award ceremony and lunch\, including beer!\n  \nAdditional Information/Registration
URL:https://onyourmarkevents.com/events/bear-valley-triathlon-5/
LOCATION:Bear Valley\, Bear Valley Road\, Bear Valley\, CA\, 95223\, United States
CATEGORIES:Triathlon
ATTACH;FMTTYPE=image/png:https://onyourmarkevents.com/wp-content/uploads/2022/05/BVT-bear-vector.png
ORGANIZER;CN="On Your Mark Events":MAILTO:kandee@onyourmarkevents.com
END:VEVENT
END:VCALENDAR