BEGIN:VCALENDAR
VERSION:2.0
PRODID:-//On Your Mark Events - ECPv6.15.14//NONSGML v1.0//EN
CALSCALE:GREGORIAN
METHOD:PUBLISH
X-ORIGINAL-URL:https://onyourmarkevents.com
X-WR-CALDESC:Events for On Your Mark Events
REFRESH-INTERVAL;VALUE=DURATION:PT1H
X-Robots-Tag:noindex
X-PUBLISHED-TTL:PT1H
BEGIN:VTIMEZONE
TZID:America/Los_Angeles
BEGIN:DAYLIGHT
TZOFFSETFROM:-0800
TZOFFSETTO:-0700
TZNAME:PDT
DTSTART:20200308T100000
END:DAYLIGHT
BEGIN:STANDARD
TZOFFSETFROM:-0700
TZOFFSETTO:-0800
TZNAME:PST
DTSTART:20201101T090000
END:STANDARD
BEGIN:DAYLIGHT
TZOFFSETFROM:-0800
TZOFFSETTO:-0700
TZNAME:PDT
DTSTART:20210314T100000
END:DAYLIGHT
BEGIN:STANDARD
TZOFFSETFROM:-0700
TZOFFSETTO:-0800
TZNAME:PST
DTSTART:20211107T090000
END:STANDARD
BEGIN:DAYLIGHT
TZOFFSETFROM:-0800
TZOFFSETTO:-0700
TZNAME:PDT
DTSTART:20220313T100000
END:DAYLIGHT
BEGIN:STANDARD
TZOFFSETFROM:-0700
TZOFFSETTO:-0800
TZNAME:PST
DTSTART:20221106T090000
END:STANDARD
END:VTIMEZONE
BEGIN:VEVENT
DTSTART;TZID=America/Los_Angeles:20210925T080000
DTEND;TZID=America/Los_Angeles:20210925T080000
DTSTAMP:20260422T092753
CREATED:20200219T163651Z
LAST-MODIFIED:20210424T002702Z
UID:1902-1632556800-1632556800@onyourmarkevents.com
SUMMARY:Alcatraz Sharkfest Swim
DESCRIPTION:Every swimmer dreams of making the ultimate “ESCAPE” from the historical island prison located in the middle of the San Francisco Bay! This is the swim the Anglin Brothers and Frank Lee Morris successfully attempted in their escape from Alcatraz on the night of June 12\, 1962. Who knows where they are now? Who cares?!! Now it’s YOUR turn! The event is limited and sells out months in advance every year so don’t wait too long to register! \nPLEASE NOTE: This swim is NOT for NOVICES. This event is for experienced open-water swimmers only. You should be able to swim one mile comfortably in a pool in under 40 minutes. \nWATER TEMP: ~58-62° F \nCOURSE CUT-OFF TIME: 75 minutes \nINCENTIVES: T-Shirts for all participants. Medals for top three finishers in each age group. Personalized award plaques will also be mailed to the top three finishers in each age group. \nAGE GROUP BREAKDOWN: Male and Female: 5-6\, 7-8\, 9-10\, 11-12\, 13-14\, 15-17\, 18-24\, 25-29\, 30-34\, 35-39\, 40-44\, 45-49\, 50-54\, 55-59\, 60-64\, 65-69\, 70-74\, 75-79\, 80-84\, 85-89\, 90-94\, 95-100! \nENTRANT LETTER: An entrant letter with all the race day details will be emailed to all registered participants and posted online here 1-2 weeks prior to event day. Please check back for any updates and the full race day itinerary. \nPARKING: The best place for participants and spectators to park is Ft. Mason Center ($10/all day) located on Marina Blvd. across the street from the Safeway. Follow one of the footpaths through Ft. Mason and over the hill to Aquatic Park. \nCANCELLATIONS:  Registrations are non-refundable unless you purchased the opt-in refund protection during check-out\, in which case you can file a claim online here. If you did not purchase the refund protection and you can no longer participate in this event\, you may receive a rollover credit (minus a $40 processing fee) toward a future event as long as you let us know by May 5 2021. After that date\, a doctor’s note is required to receive a credit. \n\nONLINE REGISTRATION
URL:https://onyourmarkevents.com/events/alcatraz-sharkfest-swim-3/
LOCATION:Aqautic Park\, San Francisco\, CA\, United States
CATEGORIES:Swim
ATTACH;FMTTYPE=image/gif:https://onyourmarkevents.com/wp-content/uploads/2018/12/Sharkfest.gif
ORGANIZER;CN="Envirosports":MAILTO:info@envirosports.com
END:VEVENT
END:VCALENDAR