BEGIN:VCALENDAR
VERSION:2.0
PRODID:-//On Your Mark Events - ECPv6.15.14//NONSGML v1.0//EN
CALSCALE:GREGORIAN
METHOD:PUBLISH
X-ORIGINAL-URL:https://onyourmarkevents.com
X-WR-CALDESC:Events for On Your Mark Events
REFRESH-INTERVAL;VALUE=DURATION:PT1H
X-Robots-Tag:noindex
X-PUBLISHED-TTL:PT1H
BEGIN:VTIMEZONE
TZID:America/Los_Angeles
BEGIN:DAYLIGHT
TZOFFSETFROM:-0800
TZOFFSETTO:-0700
TZNAME:PDT
DTSTART:20240310T100000
END:DAYLIGHT
BEGIN:STANDARD
TZOFFSETFROM:-0700
TZOFFSETTO:-0800
TZNAME:PST
DTSTART:20241103T090000
END:STANDARD
BEGIN:DAYLIGHT
TZOFFSETFROM:-0800
TZOFFSETTO:-0700
TZNAME:PDT
DTSTART:20250309T100000
END:DAYLIGHT
BEGIN:STANDARD
TZOFFSETFROM:-0700
TZOFFSETTO:-0800
TZNAME:PST
DTSTART:20251102T090000
END:STANDARD
BEGIN:DAYLIGHT
TZOFFSETFROM:-0800
TZOFFSETTO:-0700
TZNAME:PDT
DTSTART:20260308T100000
END:DAYLIGHT
BEGIN:STANDARD
TZOFFSETFROM:-0700
TZOFFSETTO:-0800
TZNAME:PST
DTSTART:20261101T090000
END:STANDARD
END:VTIMEZONE
BEGIN:VEVENT
DTSTART;TZID=America/Los_Angeles:20251127T080000
DTEND;TZID=America/Los_Angeles:20251127T080000
DTSTAMP:20260420T142209
CREATED:20250628T014626Z
LAST-MODIFIED:20250714T145049Z
UID:3633-1764230400-1764230400@onyourmarkevents.com
SUMMARY:Run & Walk Against Hunger
DESCRIPTION:Registration opens July 1st\, 2025 \nStockton’s Annual Run & Walk Against Hunger coming Thanksgiving Morning! The Emergency Food Bank has been extra busy in helping those in need\, and the annual Run & Walk Against Hunger is our largest one day fundraiser. We hope that you will join us this year. \nAdditional Information/Registration
URL:https://onyourmarkevents.com/events/run-walk-against-hunger-5/
LOCATION:Banner Island Ballpark\, 404 W Fremont St\, Stockton\, CA\, 95203\, United States
CATEGORIES:10K,5K,Kids Fun Run
ATTACH;FMTTYPE=image/png:https://onyourmarkevents.com/wp-content/uploads/2025/07/RAH-Logo-e1752503995521.png
END:VEVENT
BEGIN:VEVENT
DTSTART;TZID=America/Los_Angeles:20251127T090000
DTEND;TZID=America/Los_Angeles:20251127T090000
DTSTAMP:20260420T142209
CREATED:20250610T144843Z
LAST-MODIFIED:20250610T144932Z
UID:3626-1764234000-1764234000@onyourmarkevents.com
SUMMARY:Elk Grove Gobble Wobble
DESCRIPTION:*RAIN OR SHINE!* Join us as we lace up our running shoes and come together for a morning of family fun and fitness at our Annual Elk Grove Gobble Wobble 5k Run/Walk! Let’s kick-start our Thanksgiving celebrations with a heartwarming tradition\, all while supporting Chicks in Crisis and helping families cross the finish line. \nAdditional information/Registration
URL:https://onyourmarkevents.com/events/elk-grove-gobble-wobble-4/
LOCATION:CA
CATEGORIES:5K,Kids Fun Run
ATTACH;FMTTYPE=image/jpeg:https://onyourmarkevents.com/wp-content/uploads/2024/08/gobble-e1724392830519.jpg
END:VEVENT
BEGIN:VEVENT
DTSTART;TZID=America/Los_Angeles:20251206T081500
DTEND;TZID=America/Los_Angeles:20251206T081500
DTSTAMP:20260420T142209
CREATED:20250708T003537Z
LAST-MODIFIED:20250814T023354Z
UID:3637-1765008900-1765008900@onyourmarkevents.com
SUMMARY:BAH HUMBUG!
DESCRIPTION:The 2025 Bah Humbug! presented by the City of San Ramon and Chevron is a great way to start the holiday season off with a healthy fun run or walk through San Ramon. Participants will receive a holiday long-sleeved shirt and the famous Bah Humbug! Ornament. This event is great for families and children! \nRegistration & Additional Information \n 
URL:https://onyourmarkevents.com/events/bah-humbug-3/
LOCATION:San Ramon Community Center\, 12501 Alcosta Blvd\, San Ramon\, CA\, 94583\, United States
CATEGORIES:5K,Kids Fun Run
ATTACH;FMTTYPE=image/jpeg:https://onyourmarkevents.com/wp-content/uploads/2025/07/BAH-e1751934636511.jpeg
END:VEVENT
END:VCALENDAR