BEGIN:VCALENDAR
VERSION:2.0
PRODID:-//On Your Mark Events - ECPv6.15.14//NONSGML v1.0//EN
CALSCALE:GREGORIAN
METHOD:PUBLISH
X-ORIGINAL-URL:https://onyourmarkevents.com
X-WR-CALDESC:Events for On Your Mark Events
REFRESH-INTERVAL;VALUE=DURATION:PT1H
X-Robots-Tag:noindex
X-PUBLISHED-TTL:PT1H
BEGIN:VTIMEZONE
TZID:America/Los_Angeles
BEGIN:DAYLIGHT
TZOFFSETFROM:-0800
TZOFFSETTO:-0700
TZNAME:PDT
DTSTART:20210314T100000
END:DAYLIGHT
BEGIN:STANDARD
TZOFFSETFROM:-0700
TZOFFSETTO:-0800
TZNAME:PST
DTSTART:20211107T090000
END:STANDARD
BEGIN:DAYLIGHT
TZOFFSETFROM:-0800
TZOFFSETTO:-0700
TZNAME:PDT
DTSTART:20220313T100000
END:DAYLIGHT
BEGIN:STANDARD
TZOFFSETFROM:-0700
TZOFFSETTO:-0800
TZNAME:PST
DTSTART:20221106T090000
END:STANDARD
BEGIN:DAYLIGHT
TZOFFSETFROM:-0800
TZOFFSETTO:-0700
TZNAME:PDT
DTSTART:20230312T100000
END:DAYLIGHT
BEGIN:STANDARD
TZOFFSETFROM:-0700
TZOFFSETTO:-0800
TZNAME:PST
DTSTART:20231105T090000
END:STANDARD
BEGIN:DAYLIGHT
TZOFFSETFROM:-0800
TZOFFSETTO:-0700
TZNAME:PDT
DTSTART:20240310T100000
END:DAYLIGHT
BEGIN:STANDARD
TZOFFSETFROM:-0700
TZOFFSETTO:-0800
TZNAME:PST
DTSTART:20241103T090000
END:STANDARD
BEGIN:DAYLIGHT
TZOFFSETFROM:-0800
TZOFFSETTO:-0700
TZNAME:PDT
DTSTART:20250309T100000
END:DAYLIGHT
BEGIN:STANDARD
TZOFFSETFROM:-0700
TZOFFSETTO:-0800
TZNAME:PST
DTSTART:20251102T090000
END:STANDARD
BEGIN:DAYLIGHT
TZOFFSETFROM:-0800
TZOFFSETTO:-0700
TZNAME:PDT
DTSTART:20260308T100000
END:DAYLIGHT
BEGIN:STANDARD
TZOFFSETFROM:-0700
TZOFFSETTO:-0800
TZNAME:PST
DTSTART:20261101T090000
END:STANDARD
END:VTIMEZONE
BEGIN:VEVENT
DTSTART;TZID=America/Los_Angeles:20221203T080000
DTEND;TZID=America/Los_Angeles:20221203T080000
DTSTAMP:20260422T155448
CREATED:20220819T002420Z
LAST-MODIFIED:20220822T223638Z
UID:2843-1670054400-1670054400@onyourmarkevents.com
SUMMARY:Bah Humbug!
DESCRIPTION:The 2022 Bah Humbug! presented by the City of San Ramon and Chevron is a great way to start the holiday season off with a healthy fun run or walk through San Ramon. Participants will receive a holiday long-sleeved shirt and the famous Bah Humbug! Ornament. This event is great for families and children!\nAdditional Information/Registration\nMail-In Application
URL:https://onyourmarkevents.com/events/bah-humbug/
LOCATION:San Ramon Community Center\, 12501 Alcosta Blvd\, San Ramon\, CA\, 94583\, United States
CATEGORIES:5K,Kids Fun Run
ATTACH;FMTTYPE=image/jpeg:https://onyourmarkevents.com/wp-content/uploads/2022/08/Bah-Humbug-2022_F_0001-e1660868586544.jpg
ORGANIZER;CN="On Your Mark Events":MAILTO:kandee@onyourmarkevents.com
END:VEVENT
BEGIN:VEVENT
DTSTART;TZID=America/Los_Angeles:20221217T090000
DTEND;TZID=America/Los_Angeles:20221217T090000
DTSTAMP:20260422T155448
CREATED:20221020T232552Z
LAST-MODIFIED:20221213T022519Z
UID:2899-1671267600-1671267600@onyourmarkevents.com
SUMMARY:Stockton Sleigh 5K/10K
DESCRIPTION:Mile Chasers Run Club is happy to present the very first annual Stockton Sleigh 5K /10K Run and Dash for Tots!\nThe Stockton Sleigh Run will take place on Saturday\, December 17\, 2022\, in Downtown Stockton. We are inviting you all to come out and join us for a fun-filled run/walk with hot chocolate\, holiday treats\, music\, and a special guest…SANTA CLAUSE!\nAdditional Information/Registration
URL:https://onyourmarkevents.com/events/stockton-sleigh-5k-10k/
LOCATION:Stockton Arena\, 248 W Fremont St\, Stockton\, CA\, 95207\, United States
CATEGORIES:10K,5K,Kids Fun Run
ATTACH;FMTTYPE=image/jpeg:https://onyourmarkevents.com/wp-content/uploads/2022/10/Stockton-Mile-Chasers-e1689702806266.jpg
ORGANIZER;CN="Mile Chasers":MAILTO:kandee@onyourmarkevents.com
END:VEVENT
BEGIN:VEVENT
DTSTART;TZID=America/Los_Angeles:20230924T083000
DTEND;TZID=America/Los_Angeles:20230924T083000
DTSTAMP:20260422T155448
CREATED:20230501T014513Z
LAST-MODIFIED:20230714T141036Z
UID:3061-1695544200-1695544200@onyourmarkevents.com
SUMMARY:Trailblazer Race 2023
DESCRIPTION:The 29th Annual Trailblazer Race is a morning of fun and healthy activities for the whole family Great Race for a Great Cause. Proceeds benefit the Friends of Stevens Creek Trail\, a non-profit 501(c)3 corporation\, and the only organization dedicated to extending Stevens Creek Trail and wildlife corridor from San Francisco Bay to the Santa Cruz Mountains.\nAdditional Information/Registration
URL:https://onyourmarkevents.com/events/trailblazer-race-2023/
LOCATION:Microsoft\, 1045 La Avenida St\, Mountain View\, CA\, 94043\, United States
CATEGORIES:10K,3-Mile Walk,5K,Kids Fun Run
ATTACH;FMTTYPE=image/jpeg:https://onyourmarkevents.com/wp-content/uploads/2023/07/Trailblazers-V6.jpg
ORGANIZER;CN="Friends of Stevens Creek Trail":MAILTO:kandee@onyourmarkevents.com
END:VEVENT
BEGIN:VEVENT
DTSTART;TZID=America/Los_Angeles:20231028T090000
DTEND;TZID=America/Los_Angeles:20231028T090000
DTSTAMP:20260422T155448
CREATED:20230801T195729Z
LAST-MODIFIED:20230802T165858Z
UID:3134-1698483600-1698483600@onyourmarkevents.com
SUMMARY:Mission College Monster Dash & Bash
DESCRIPTION:The 2023 Monster Dash & Bash and Kids Trick or Trot race is a truly memorable experience. Course is on flat paved road. This 5K is open to runners\, joggers\, and walkers of all abilities.  The Kids Tick or Trot Race (.25 mi.) is designed for ages 9 and under. Be sure to stick around for the festivities that follow\, including Costume Contest\, beer garden\, silent auction\, and much more!\nAdditional Information/Registration
URL:https://onyourmarkevents.com/events/mission-college-monster-dash-bash/
LOCATION:Mission College\, 3000 Mission College Blvd\, Santa Clara\, CA\, 95054\, United States
CATEGORIES:5K,Kids Fun Run
ATTACH;FMTTYPE=image/png:https://onyourmarkevents.com/wp-content/uploads/2023/08/Monster-5K-logo-final-e1712586851629.png
ORGANIZER;CN="On Your Mark Events":MAILTO:kandee@onyourmarkevents.com
END:VEVENT
BEGIN:VEVENT
DTSTART;TZID=America/Los_Angeles:20231104T090000
DTEND;TZID=America/Los_Angeles:20231104T090000
DTSTAMP:20260422T155448
CREATED:20230516T141312Z
LAST-MODIFIED:20230516T141312Z
UID:3069-1699088400-1699088400@onyourmarkevents.com
SUMMARY:Lodi Heroes
DESCRIPTION:Enjoy a day filled with something for everyone! Your choice of the 5K or 10K Fun Run/Walk as well as a Kid’s .5 Mile Fun Run. This event includes things for the children\, pre and post run\, with numerous games and fun for children of all ages\, even adults who are young at heart! Thanks to sponsorships from businesses\, service clubs and individuals\, we can offer games\, several activities and prizes for playing. So come out with your family\, friends and neighbors to enjoy this wonderful day!\nAdditional Information/Registration
URL:https://onyourmarkevents.com/events/lodi-heroes-2/
LOCATION:Jessie’s Grove Winery\, 1973 W Turner Rd\, Lodi\, CA\, 95242\, United States
CATEGORIES:10K,5K,Kids Fun Run
ATTACH;FMTTYPE=image/jpeg:https://onyourmarkevents.com/wp-content/uploads/2022/06/Lodi-Heroes_200x200-e1657305510681.jpg
END:VEVENT
BEGIN:VEVENT
DTSTART;TZID=America/Los_Angeles:20231119T081500
DTEND;TZID=America/Los_Angeles:20231119T081500
DTSTAMP:20260422T155448
CREATED:20230927T021301Z
LAST-MODIFIED:20231113T203852Z
UID:3174-1700381700-1700381700@onyourmarkevents.com
SUMMARY:Merced Turkey Trot
DESCRIPTION:The Merced Running Club would like to invite you\, your family\, and friends to another fun-filled running event at the Merced Turkey Trot.  This event will take place on Sunday\, November 19th\, 2023.  This long-time tradition in Merced will once again be held at Lake Yosemite\, next to UC Merced!  All 2 Mile and 5 Mile participants will be chip timed.   \nAdditional Information/Registration
URL:https://onyourmarkevents.com/events/merced-turkey-trot-2/
LOCATION:Lake Yosemite next to UC Merced\, Merced\, CA\, United States
CATEGORIES:2 Mile,5 Mile,Kids Fun Run
ATTACH;FMTTYPE=image/jpeg:https://onyourmarkevents.com/wp-content/uploads/2023/09/Merced-log_200x200.jpg
END:VEVENT
BEGIN:VEVENT
DTSTART;TZID=America/Los_Angeles:20231123T080000
DTEND;TZID=America/Los_Angeles:20231123T080000
DTSTAMP:20260422T155448
CREATED:20230714T174423Z
LAST-MODIFIED:20230714T174423Z
UID:3109-1700726400-1700726400@onyourmarkevents.com
SUMMARY:Run & Walk Against Hunger
DESCRIPTION:Join us for the 19th  Annual Thanksgiving Morning tradition benefiting the Emergency Food Bank Stockton/San Joaquin. The 2023 Run & Walk Against Hunger presented by the Aaron Judge ALL RISE Foundation\, is Stockton’s premier annual family event featuring a 5K run/walk\, 10K run\, and a Kids .25 mile run. The flat\, fast out and back course starts in front of Banner Island Ballpark\, home of the Stockton Ports\, and takes participants through Stockton’s Weber Point and Waterfront area. Walkers have their own scenic course along the Waterfront. Strollers\, wheelchairs and pets (on a leash) are welcome.\nAdditional Information/Registration
URL:https://onyourmarkevents.com/events/run-walk-against-hunger-4/
LOCATION:Banner Island Ballpark\, 404 W Fremont St\, Stockton\, CA\, 95203\, United States
CATEGORIES:10K,5K,Kids Fun Run
ATTACH;FMTTYPE=image/jpeg:https://onyourmarkevents.com/wp-content/uploads/2023/07/RAH23-e1689356486591.jpg
END:VEVENT
BEGIN:VEVENT
DTSTART;TZID=America/Los_Angeles:20231123T083000
DTEND;TZID=America/Los_Angeles:20231123T083000
DTSTAMP:20260422T155448
CREATED:20230713T134253Z
LAST-MODIFIED:20230714T143635Z
UID:3096-1700728200-1700728200@onyourmarkevents.com
SUMMARY:Elk Grove Gobble Wobble
DESCRIPTION:Join us as we continue our mission to help families cross the finish line and “Race for Babies” on Thanksgiving morning\, 11/23/23. Bring the whole family to walk or run a quick 5K and get a jumpstart on your holiday festivities.\nAdditional Information/Registration
URL:https://onyourmarkevents.com/events/elk-grove-gobble-wobble-2/
LOCATION:Gobble Wobble\, 8280 Longleaf Dr\, Elk Grove\, CA\, 95758\, United States
CATEGORIES:5K,Kids Fun Run
ATTACH;FMTTYPE=image/jpeg:https://onyourmarkevents.com/wp-content/uploads/2023/07/GWV6.jpg
END:VEVENT
BEGIN:VEVENT
DTSTART;TZID=America/Los_Angeles:20231202T080000
DTEND;TZID=America/Los_Angeles:20231202T080000
DTSTAMP:20260422T155448
CREATED:20230718T192941Z
LAST-MODIFIED:20230816T005538Z
UID:3115-1701504000-1701504000@onyourmarkevents.com
SUMMARY:Bah Humbug! 5K Run/Walk and Kids Dash
DESCRIPTION:The 2023 Bah Humbug! presented by the City of San Ramon and Chevron is a great way to start the holiday season off with a healthy fun run or walk through San Ramon. Participants will receive a holiday long-sleeved shirt and the famous Bah Humbug! Ornament. This event is great for families and children!\nAdditional Information/Registration
URL:https://onyourmarkevents.com/events/bah-humbug-5k-run-walk-and-kids-dash/
LOCATION:Bah Humbug!\, 12501 Alcosta Blvd\, San Ramon\, CA\, 94583\, United States
CATEGORIES:5K,Kids Fun Run
ATTACH;FMTTYPE=image/png:https://onyourmarkevents.com/wp-content/uploads/2023/07/BAH-e1689959482433.png
END:VEVENT
BEGIN:VEVENT
DTSTART;TZID=America/Los_Angeles:20231217T080000
DTEND;TZID=America/Los_Angeles:20231217T080000
DTSTAMP:20260422T155448
CREATED:20230718T175554Z
LAST-MODIFIED:20231030T185310Z
UID:3113-1702800000-1702800000@onyourmarkevents.com
SUMMARY:Stockton Sleigh - New Date
DESCRIPTION:Welcome\, one and all\, to the most festive event of the season! Get ready to lace up your shoes and jingle all the way through downtown Stockton for the Second Annual Stockton Sleigh 5k / 10K Run and Dash for Tots hosted by the Mile Chasers Run Club\, happening on Saturday\, December 16\, 2023\nAdditional Information/Registration
URL:https://onyourmarkevents.com/events/stockton-sleigh/
LOCATION:Stockton Arena\, 248 W Fremont St\, Stockton\, CA\, 95207\, United States
CATEGORIES:10K,5K,Kids Fun Run
ATTACH;FMTTYPE=image/jpeg:https://onyourmarkevents.com/wp-content/uploads/2022/10/Stockton-Mile-Chasers-e1689702806266.jpg
END:VEVENT
BEGIN:VEVENT
DTSTART;TZID=America/Los_Angeles:20240406T090000
DTEND;TZID=America/Los_Angeles:20240406T090000
DTSTAMP:20260422T155448
CREATED:20231012T183813Z
LAST-MODIFIED:20240104T183335Z
UID:3186-1712394000-1712394000@onyourmarkevents.com
SUMMARY:Dr. Martin Luther King\, Jr. 10K/5K/1K Run/Walk
DESCRIPTION:The National Association for the Advancement of Colored People (NAACP) Stockton Branch invites you to celebrate the recognition of Dr. Martin Luther King\, Jr. by participating in our 2024 Dr. Martin Luther King Jr. 10K/5K/1K Run/Walk. Proceeds from this event support Health Disparity Advocacy programs in the San Joaquin Area \nAdditional information/Registration
URL:https://onyourmarkevents.com/events/3186/
LOCATION:Martin Luther King Plaza\, 2 East Oak St & El Dorado St\, Stockton\, 95202
CATEGORIES:10K,5K,Kids Fun Run
ATTACH;FMTTYPE=image/png:https://onyourmarkevents.com/wp-content/uploads/2021/11/NAACP-e1697136076146.png
END:VEVENT
BEGIN:VEVENT
DTSTART;TZID=America/Los_Angeles:20241012T084500
DTEND;TZID=America/Los_Angeles:20241012T084500
DTSTAMP:20260422T155448
CREATED:20240408T142646Z
LAST-MODIFIED:20240429T184806Z
UID:3312-1728722700-1728722700@onyourmarkevents.com
SUMMARY:2nd Annual Monster Dash
DESCRIPTION:The Mission College Monster Dash and Bash 5K Walk/Run begins and ends on our beautiful Mission College Campus located at 3000 Mission College Blvd\, Santa Clara\, CA 95054.  You’ll to see your tax dollars at work\, as well as our student success stories and the many wonderful academic programs and support services available to our community.\nAdditional Information/Registration
URL:https://onyourmarkevents.com/events/2nd-annual-monster-dash/
LOCATION:Mission College\, 3000 Mission College Blvd\, Santa Clara\, CA\, 95054\, United States
CATEGORIES:5K,Kids Fun Run
ATTACH;FMTTYPE=image/png:https://onyourmarkevents.com/wp-content/uploads/2024/04/MC-5k-Monster_4C-e1714416466236.png
END:VEVENT
BEGIN:VEVENT
DTSTART;TZID=America/Los_Angeles:20241102T090000
DTEND;TZID=America/Los_Angeles:20241102T090000
DTSTAMP:20260422T155448
CREATED:20240622T185304Z
LAST-MODIFIED:20240622T185304Z
UID:3389-1730538000-1730538000@onyourmarkevents.com
SUMMARY:Lodi Heroes
DESCRIPTION:Enjoy a day filled with something for everyone! Your choice of the 5K or 10K Fun Run/Walk as well as a Kid’s .5 Mile Fun Run. This event includes things for the children\, pre and post run\, with numerous games and fun for children of all ages\, even adults who are young at heart! \nAdditional Information/Registration
URL:https://onyourmarkevents.com/events/lodi-heroes-3/
LOCATION:Jessie’s Grove Winery\, 1973 W Turner Rd\, Lodi\, CA\, 95242\, United States
CATEGORIES:10K,5K,Kids Fun Run
ATTACH;FMTTYPE=image/jpeg:https://onyourmarkevents.com/wp-content/uploads/2024/06/2024-LOGO-Stacked-e1722691636857.jpg
END:VEVENT
BEGIN:VEVENT
DTSTART;TZID=America/Los_Angeles:20241123T081500
DTEND;TZID=America/Los_Angeles:20241123T081500
DTSTAMP:20260422T155448
CREATED:20240906T024251Z
LAST-MODIFIED:20240906T024526Z
UID:3440-1732349700-1732349700@onyourmarkevents.com
SUMMARY:Merced Turkey Trot
DESCRIPTION:The Merced Running Club would like to invite you\, your family\, and friends to another fun-filled running event at the Merced Turkey Trot.  This event will take place on Saturday\, November 23rd\, 2024.  This long-time tradition in Merced will once again be held at Lake Yosemite\, next to UC Merced!  All 2 Mile and 5 Mile participants will be chip timed. \nAdditional Information / Registration
URL:https://onyourmarkevents.com/events/merced-turkey-trot-3/
LOCATION:Lake Yosemite next to UC Merced\, Merced\, CA\, United States
CATEGORIES:2 Mile,5 Mile,Kids Fun Run
ATTACH;FMTTYPE=image/jpeg:https://onyourmarkevents.com/wp-content/uploads/2023/09/Merced-log_200x200.jpg
END:VEVENT
BEGIN:VEVENT
DTSTART;TZID=America/Los_Angeles:20241128T080000
DTEND;TZID=America/Los_Angeles:20241128T080000
DTSTAMP:20260422T155448
CREATED:20240417T233107Z
LAST-MODIFIED:20240601T131542Z
UID:3332-1732780800-1732780800@onyourmarkevents.com
SUMMARY:Run Against Hunger
DESCRIPTION:Stockton’s Annual Run & Walk Against Hunger coming Thanksgiving Morning!  The Emergency Food Bank has been extra busy in helping those in need\, and the annual Run & Walk Against Hunger is our largest one day fundraiser.  We hope that you will join us this year. \nAdditional Information/Registration
URL:https://onyourmarkevents.com/events/run-against-hunger/
LOCATION:Banner Island Ballpark\, 404 W Fremont St\, Stockton\, CA\, 95203\, United States
CATEGORIES:10K,5K,Kids Fun Run
ATTACH;FMTTYPE=image/jpeg:https://onyourmarkevents.com/wp-content/uploads/2024/06/2024_RAH_turkey-e1717247497346.jpg
END:VEVENT
BEGIN:VEVENT
DTSTART;TZID=America/Los_Angeles:20241128T090000
DTEND;TZID=America/Los_Angeles:20241128T090000
DTSTAMP:20260422T155448
CREATED:20240510T185853Z
LAST-MODIFIED:20240823T060206Z
UID:3367-1732784400-1732784400@onyourmarkevents.com
SUMMARY:Elk Grove Gobble Wobble
DESCRIPTION:Join us as we lace up our running shoes and come together for a morning of family fun and fitness at our Annual Elk Grove Gobble Wobble 5k Run/Walk! Let’s kick-start our Thanksgiving celebrations with a heartwarming tradition\, all while supporting Chicks in Crisis and helping families cross the finish line.\nAdditional Information/Registration
URL:https://onyourmarkevents.com/events/elk-grove-gobble-wobble-3/
LOCATION:Gobble Wobble\, 8280 Longleaf Dr\, Elk Grove\, CA\, 95758\, United States
CATEGORIES:5K,Kids Fun Run
ATTACH;FMTTYPE=image/jpeg:https://onyourmarkevents.com/wp-content/uploads/2024/08/gobble-e1724392830519.jpg
END:VEVENT
BEGIN:VEVENT
DTSTART;TZID=America/Los_Angeles:20241207T083000
DTEND;TZID=America/Los_Angeles:20241207T083000
DTSTAMP:20260422T155448
CREATED:20240708T185320Z
LAST-MODIFIED:20240729T234543Z
UID:3404-1733560200-1733560200@onyourmarkevents.com
SUMMARY:Bah Humbug!
DESCRIPTION:Bah Humbug! 5k Run/Walk:\nThe 2024 Bah Humbug! presented by the City of San Ramon and Chevron is a great way to start the holiday season off with a healthy fun run or walk through San Ramon. Participants will receive a holiday long-sleeved shirt and the famous Bah Humbug! Ornament. \nOnline Registration \nMail-In Application
URL:https://onyourmarkevents.com/events/bah-humbug-2/
LOCATION:San Ramon Community Center\, 12501 Alcosta Blvd\, San Ramon\, CA\, 94583\, United States
CATEGORIES:5K,Kids Fun Run
ATTACH;FMTTYPE=image/jpeg:https://onyourmarkevents.com/wp-content/uploads/2024/07/BH2024_LOGO_F2_0001-e1722691896146.jpg
END:VEVENT
BEGIN:VEVENT
DTSTART;TZID=America/Los_Angeles:20250629T073000
DTEND;TZID=America/Los_Angeles:20250629T073000
DTSTAMP:20260422T155448
CREATED:20250101T160918Z
LAST-MODIFIED:20250101T160918Z
UID:3500-1751182200-1751182200@onyourmarkevents.com
SUMMARY:Mare Island Half\, 10K \, 5K and Kids Run
DESCRIPTION:We are so excited to host another running event on beautiful Mare Island! We will have a Half Marathon\, 10K\, 5K and Kids .25K Run. Courses taking you through natural and historic sections of the island. We will be starting from the Mare Island Brewing Company coal shed location\, running through over 100 years of Naval history and natural beauty\, with a finish line party at the Mare Island Brew Co Coal Sheds!  The Kids .25K Run will be an out and back.\nAdditional Information/Registration
URL:https://onyourmarkevents.com/events/mare-island-half-10k-5k-and-kids-run/
LOCATION:Mare Island Brewing Company\, 851 Waterfront Ave\, Vallejo\, CA\, 94592\, United States
CATEGORIES:10K,5K,Half Marathon,Kids Fun Run
ATTACH;FMTTYPE=image/png:https://onyourmarkevents.com/wp-content/uploads/2024/03/2024Mare-e1711661800119.png
ORGANIZER;CN="On Your Mark Events":MAILTO:kandee@onyourmarkevents.com
END:VEVENT
BEGIN:VEVENT
DTSTART;TZID=America/Los_Angeles:20251011T084500
DTEND;TZID=America/Los_Angeles:20251011T084500
DTSTAMP:20260422T155448
CREATED:20250714T144819Z
LAST-MODIFIED:20250714T144819Z
UID:3660-1760172300-1760172300@onyourmarkevents.com
SUMMARY:Mission College Monster Dash & Bash
DESCRIPTION:The Mission College Monster Dash and Bash 5K Walk/Run and Kids’ Trick or Trot Race begins and ends on our beautiful Mission College Campus located at 3000 Mission College Blvd\, Santa Clara\, CA 95054.  You’ll to see your tax dollars at work\, as well as our student success stories and the many wonderful academic programs and support services available to our community. \nAdditional Information/Registration
URL:https://onyourmarkevents.com/events/mission-college-monster-dash-bash-2/
LOCATION:Mission College\, 3000 Mission College Blvd\, Santa Clara\, CA\, 95054\, United States
CATEGORIES:5K,Kids Fun Run
ATTACH;FMTTYPE=image/png:https://onyourmarkevents.com/wp-content/uploads/2025/07/5k-Orig-Monster-Logo_09-e1752246002995.png
ORGANIZER;CN="On Your Mark Events":MAILTO:kandee@onyourmarkevents.com
END:VEVENT
BEGIN:VEVENT
DTSTART;TZID=America/Los_Angeles:20251102T083000
DTEND;TZID=America/Los_Angeles:20251102T083000
DTSTAMP:20260422T155448
CREATED:20240603T215039Z
LAST-MODIFIED:20250423T162856Z
UID:3378-1762072200-1762072200@onyourmarkevents.com
SUMMARY:Saratoga 5K Fun Run/Walk
DESCRIPTION:The Saratoga Education Foundation is excited to announce our third annual 5K Fun Run and Walk. Last year\, we had an amazing turnout\, with over 700 participants coming out to support SEF and SUSD schools. This year\, we’re planning an even bigger event so lace up your sneakers on Sunday\, November 3rd and join us for a morning of fitness and fun\, all while supporting a great cause! \nAdditional Information/Registration
URL:https://onyourmarkevents.com/events/saratoga-5k-fun-run-walk-2/
LOCATION:Redwood Middle School\, 13925 Fruitvale Ave\, Saratoga\, CA\, 95070\, United States
CATEGORIES:5K,Kids Fun Run
ATTACH;FMTTYPE=image/png:https://onyourmarkevents.com/wp-content/uploads/2024/06/SEF_Final2024logo-3-e1745425724657.png
END:VEVENT
BEGIN:VEVENT
DTSTART;TZID=America/Los_Angeles:20251122T100000
DTEND;TZID=America/Los_Angeles:20251122T100000
DTSTAMP:20260422T155448
CREATED:20250814T164207Z
LAST-MODIFIED:20250814T164336Z
UID:3669-1763805600-1763805600@onyourmarkevents.com
SUMMARY:Merced Turkey Trot
DESCRIPTION:The Merced Running Club would like to invite you\, your family\, and friends to another fun-filled running event at the Merced Turkey Trot.  This event will take place on Saturday\, November 22nd\, 2025.  This long-time tradition in Merced will once again be held at Lake Yosemite\, next to UC Merced! \nAdditional Information/Registration
URL:https://onyourmarkevents.com/events/merced-turkey-trot-4/
LOCATION:Lake Yosemite next to UC Merced\, Merced\, CA\, United States
CATEGORIES:2 Mile,5 Mile,Kids Fun Run
ATTACH;FMTTYPE=image/jpeg:https://onyourmarkevents.com/wp-content/uploads/2023/09/Merced-log_200x200.jpg
END:VEVENT
BEGIN:VEVENT
DTSTART;TZID=America/Los_Angeles:20251127T080000
DTEND;TZID=America/Los_Angeles:20251127T080000
DTSTAMP:20260422T155448
CREATED:20250628T014626Z
LAST-MODIFIED:20250714T145049Z
UID:3633-1764230400-1764230400@onyourmarkevents.com
SUMMARY:Run & Walk Against Hunger
DESCRIPTION:Registration opens July 1st\, 2025 \nStockton’s Annual Run & Walk Against Hunger coming Thanksgiving Morning! The Emergency Food Bank has been extra busy in helping those in need\, and the annual Run & Walk Against Hunger is our largest one day fundraiser. We hope that you will join us this year. \nAdditional Information/Registration
URL:https://onyourmarkevents.com/events/run-walk-against-hunger-5/
LOCATION:Banner Island Ballpark\, 404 W Fremont St\, Stockton\, CA\, 95203\, United States
CATEGORIES:10K,5K,Kids Fun Run
ATTACH;FMTTYPE=image/png:https://onyourmarkevents.com/wp-content/uploads/2025/07/RAH-Logo-e1752503995521.png
END:VEVENT
BEGIN:VEVENT
DTSTART;TZID=America/Los_Angeles:20251127T090000
DTEND;TZID=America/Los_Angeles:20251127T090000
DTSTAMP:20260422T155448
CREATED:20250610T144843Z
LAST-MODIFIED:20250610T144932Z
UID:3626-1764234000-1764234000@onyourmarkevents.com
SUMMARY:Elk Grove Gobble Wobble
DESCRIPTION:*RAIN OR SHINE!* Join us as we lace up our running shoes and come together for a morning of family fun and fitness at our Annual Elk Grove Gobble Wobble 5k Run/Walk! Let’s kick-start our Thanksgiving celebrations with a heartwarming tradition\, all while supporting Chicks in Crisis and helping families cross the finish line. \nAdditional information/Registration
URL:https://onyourmarkevents.com/events/elk-grove-gobble-wobble-4/
LOCATION:CA
CATEGORIES:5K,Kids Fun Run
ATTACH;FMTTYPE=image/jpeg:https://onyourmarkevents.com/wp-content/uploads/2024/08/gobble-e1724392830519.jpg
END:VEVENT
BEGIN:VEVENT
DTSTART;TZID=America/Los_Angeles:20251206T081500
DTEND;TZID=America/Los_Angeles:20251206T081500
DTSTAMP:20260422T155449
CREATED:20250708T003537Z
LAST-MODIFIED:20250814T023354Z
UID:3637-1765008900-1765008900@onyourmarkevents.com
SUMMARY:BAH HUMBUG!
DESCRIPTION:The 2025 Bah Humbug! presented by the City of San Ramon and Chevron is a great way to start the holiday season off with a healthy fun run or walk through San Ramon. Participants will receive a holiday long-sleeved shirt and the famous Bah Humbug! Ornament. This event is great for families and children! \nRegistration & Additional Information \n 
URL:https://onyourmarkevents.com/events/bah-humbug-3/
LOCATION:San Ramon Community Center\, 12501 Alcosta Blvd\, San Ramon\, CA\, 94583\, United States
CATEGORIES:5K,Kids Fun Run
ATTACH;FMTTYPE=image/jpeg:https://onyourmarkevents.com/wp-content/uploads/2025/07/BAH-e1751934636511.jpeg
END:VEVENT
END:VCALENDAR