BEGIN:VCALENDAR
VERSION:2.0
PRODID:-//On Your Mark Events - ECPv6.15.14//NONSGML v1.0//EN
CALSCALE:GREGORIAN
METHOD:PUBLISH
X-ORIGINAL-URL:https://onyourmarkevents.com
X-WR-CALDESC:Events for On Your Mark Events
REFRESH-INTERVAL;VALUE=DURATION:PT1H
X-Robots-Tag:noindex
X-PUBLISHED-TTL:PT1H
BEGIN:VTIMEZONE
TZID:America/Los_Angeles
BEGIN:DAYLIGHT
TZOFFSETFROM:-0800
TZOFFSETTO:-0700
TZNAME:PDT
DTSTART:20240310T100000
END:DAYLIGHT
BEGIN:STANDARD
TZOFFSETFROM:-0700
TZOFFSETTO:-0800
TZNAME:PST
DTSTART:20241103T090000
END:STANDARD
BEGIN:DAYLIGHT
TZOFFSETFROM:-0800
TZOFFSETTO:-0700
TZNAME:PDT
DTSTART:20250309T100000
END:DAYLIGHT
BEGIN:STANDARD
TZOFFSETFROM:-0700
TZOFFSETTO:-0800
TZNAME:PST
DTSTART:20251102T090000
END:STANDARD
BEGIN:DAYLIGHT
TZOFFSETFROM:-0800
TZOFFSETTO:-0700
TZNAME:PDT
DTSTART:20260308T100000
END:DAYLIGHT
BEGIN:STANDARD
TZOFFSETFROM:-0700
TZOFFSETTO:-0800
TZNAME:PST
DTSTART:20261101T090000
END:STANDARD
END:VTIMEZONE
BEGIN:VEVENT
DTSTART;TZID=America/Los_Angeles:20251011T084500
DTEND;TZID=America/Los_Angeles:20251011T084500
DTSTAMP:20260419T110423
CREATED:20250714T144819Z
LAST-MODIFIED:20250714T144819Z
UID:3660-1760172300-1760172300@onyourmarkevents.com
SUMMARY:Mission College Monster Dash & Bash
DESCRIPTION:The Mission College Monster Dash and Bash 5K Walk/Run and Kids’ Trick or Trot Race begins and ends on our beautiful Mission College Campus located at 3000 Mission College Blvd\, Santa Clara\, CA 95054.  You’ll to see your tax dollars at work\, as well as our student success stories and the many wonderful academic programs and support services available to our community. \nAdditional Information/Registration
URL:https://onyourmarkevents.com/events/mission-college-monster-dash-bash-2/
LOCATION:Mission College\, 3000 Mission College Blvd\, Santa Clara\, CA\, 95054\, United States
CATEGORIES:5K,Kids Fun Run
ATTACH;FMTTYPE=image/png:https://onyourmarkevents.com/wp-content/uploads/2025/07/5k-Orig-Monster-Logo_09-e1752246002995.png
ORGANIZER;CN="On Your Mark Events":MAILTO:kandee@onyourmarkevents.com
END:VEVENT
END:VCALENDAR