BEGIN:VCALENDAR
VERSION:2.0
PRODID:-//On Your Mark Events - ECPv6.15.14//NONSGML v1.0//EN
CALSCALE:GREGORIAN
METHOD:PUBLISH
X-ORIGINAL-URL:https://onyourmarkevents.com
X-WR-CALDESC:Events for On Your Mark Events
REFRESH-INTERVAL;VALUE=DURATION:PT1H
X-Robots-Tag:noindex
X-PUBLISHED-TTL:PT1H
BEGIN:VTIMEZONE
TZID:America/Los_Angeles
BEGIN:DAYLIGHT
TZOFFSETFROM:-0800
TZOFFSETTO:-0700
TZNAME:PDT
DTSTART:20230312T100000
END:DAYLIGHT
BEGIN:STANDARD
TZOFFSETFROM:-0700
TZOFFSETTO:-0800
TZNAME:PST
DTSTART:20231105T090000
END:STANDARD
BEGIN:DAYLIGHT
TZOFFSETFROM:-0800
TZOFFSETTO:-0700
TZNAME:PDT
DTSTART:20240310T100000
END:DAYLIGHT
BEGIN:STANDARD
TZOFFSETFROM:-0700
TZOFFSETTO:-0800
TZNAME:PST
DTSTART:20241103T090000
END:STANDARD
BEGIN:DAYLIGHT
TZOFFSETFROM:-0800
TZOFFSETTO:-0700
TZNAME:PDT
DTSTART:20250309T100000
END:DAYLIGHT
BEGIN:STANDARD
TZOFFSETFROM:-0700
TZOFFSETTO:-0800
TZNAME:PST
DTSTART:20251102T090000
END:STANDARD
END:VTIMEZONE
BEGIN:VEVENT
DTSTART;TZID=America/Los_Angeles:20240406T090000
DTEND;TZID=America/Los_Angeles:20240406T090000
DTSTAMP:20260420T165611
CREATED:20231012T183813Z
LAST-MODIFIED:20240104T183335Z
UID:3186-1712394000-1712394000@onyourmarkevents.com
SUMMARY:Dr. Martin Luther King\, Jr. 10K/5K/1K Run/Walk
DESCRIPTION:The National Association for the Advancement of Colored People (NAACP) Stockton Branch invites you to celebrate the recognition of Dr. Martin Luther King\, Jr. by participating in our 2024 Dr. Martin Luther King Jr. 10K/5K/1K Run/Walk. Proceeds from this event support Health Disparity Advocacy programs in the San Joaquin Area \nAdditional information/Registration
URL:https://onyourmarkevents.com/events/3186/
LOCATION:Martin Luther King Plaza\, 2 East Oak St & El Dorado St\, Stockton\, 95202
CATEGORIES:10K,5K,Kids Fun Run
ATTACH;FMTTYPE=image/png:https://onyourmarkevents.com/wp-content/uploads/2021/11/NAACP-e1697136076146.png
END:VEVENT
END:VCALENDAR