BEGIN:VCALENDAR
VERSION:2.0
PRODID:-//On Your Mark Events - ECPv6.15.14//NONSGML v1.0//EN
CALSCALE:GREGORIAN
METHOD:PUBLISH
X-ORIGINAL-URL:https://onyourmarkevents.com
X-WR-CALDESC:Events for On Your Mark Events
REFRESH-INTERVAL;VALUE=DURATION:PT1H
X-Robots-Tag:noindex
X-PUBLISHED-TTL:PT1H
BEGIN:VTIMEZONE
TZID:America/Los_Angeles
BEGIN:DAYLIGHT
TZOFFSETFROM:-0800
TZOFFSETTO:-0700
TZNAME:PDT
DTSTART:20220313T100000
END:DAYLIGHT
BEGIN:STANDARD
TZOFFSETFROM:-0700
TZOFFSETTO:-0800
TZNAME:PST
DTSTART:20221106T090000
END:STANDARD
BEGIN:DAYLIGHT
TZOFFSETFROM:-0800
TZOFFSETTO:-0700
TZNAME:PDT
DTSTART:20230312T100000
END:DAYLIGHT
BEGIN:STANDARD
TZOFFSETFROM:-0700
TZOFFSETTO:-0800
TZNAME:PST
DTSTART:20231105T090000
END:STANDARD
BEGIN:DAYLIGHT
TZOFFSETFROM:-0800
TZOFFSETTO:-0700
TZNAME:PDT
DTSTART:20240310T100000
END:DAYLIGHT
BEGIN:STANDARD
TZOFFSETFROM:-0700
TZOFFSETTO:-0800
TZNAME:PST
DTSTART:20241103T090000
END:STANDARD
END:VTIMEZONE
BEGIN:VEVENT
DTSTART;TZID=America/Los_Angeles:20230924T083000
DTEND;TZID=America/Los_Angeles:20230924T083000
DTSTAMP:20260421T021716
CREATED:20230501T014513Z
LAST-MODIFIED:20230714T141036Z
UID:3061-1695544200-1695544200@onyourmarkevents.com
SUMMARY:Trailblazer Race 2023
DESCRIPTION:The 29th Annual Trailblazer Race is a morning of fun and healthy activities for the whole family Great Race for a Great Cause. Proceeds benefit the Friends of Stevens Creek Trail\, a non-profit 501(c)3 corporation\, and the only organization dedicated to extending Stevens Creek Trail and wildlife corridor from San Francisco Bay to the Santa Cruz Mountains.\nAdditional Information/Registration
URL:https://onyourmarkevents.com/events/trailblazer-race-2023/
LOCATION:Microsoft\, 1045 La Avenida St\, Mountain View\, CA\, 94043\, United States
CATEGORIES:10K,3-Mile Walk,5K,Kids Fun Run
ATTACH;FMTTYPE=image/jpeg:https://onyourmarkevents.com/wp-content/uploads/2023/07/Trailblazers-V6.jpg
ORGANIZER;CN="Friends of Stevens Creek Trail":MAILTO:kandee@onyourmarkevents.com
END:VEVENT
END:VCALENDAR