BEGIN:VCALENDAR
VERSION:2.0
PRODID:-//On Your Mark Events - ECPv6.15.14//NONSGML v1.0//EN
CALSCALE:GREGORIAN
METHOD:PUBLISH
X-WR-CALNAME:On Your Mark Events
X-ORIGINAL-URL:https://onyourmarkevents.com
X-WR-CALDESC:Events for On Your Mark Events
REFRESH-INTERVAL;VALUE=DURATION:PT1H
X-Robots-Tag:noindex
X-PUBLISHED-TTL:PT1H
BEGIN:VTIMEZONE
TZID:America/Los_Angeles
BEGIN:DAYLIGHT
TZOFFSETFROM:-0800
TZOFFSETTO:-0700
TZNAME:PDT
DTSTART:20210314T100000
END:DAYLIGHT
BEGIN:STANDARD
TZOFFSETFROM:-0700
TZOFFSETTO:-0800
TZNAME:PST
DTSTART:20211107T090000
END:STANDARD
BEGIN:DAYLIGHT
TZOFFSETFROM:-0800
TZOFFSETTO:-0700
TZNAME:PDT
DTSTART:20220313T100000
END:DAYLIGHT
BEGIN:STANDARD
TZOFFSETFROM:-0700
TZOFFSETTO:-0800
TZNAME:PST
DTSTART:20221106T090000
END:STANDARD
BEGIN:DAYLIGHT
TZOFFSETFROM:-0800
TZOFFSETTO:-0700
TZNAME:PDT
DTSTART:20230312T100000
END:DAYLIGHT
BEGIN:STANDARD
TZOFFSETFROM:-0700
TZOFFSETTO:-0800
TZNAME:PST
DTSTART:20231105T090000
END:STANDARD
END:VTIMEZONE
BEGIN:VEVENT
DTSTART;TZID=America/Los_Angeles:20220925T083000
DTEND;TZID=America/Los_Angeles:20220925T083000
DTSTAMP:20260421T191122
CREATED:20220720T141211Z
LAST-MODIFIED:20220720T141211Z
UID:2802-1664094600-1664094600@onyourmarkevents.com
SUMMARY:28th Annual Trailblazer Race
DESCRIPTION:Great Race for a Great Cause\nProceeds benefit the Friends of Stevens Creek Trail\, a non-profit 501(c)3 corporation\, and the only organization dedicated to extending Stevens Creek Trail and wildlife corridor from San Francisco Bay to the Santa Cruz Mountains. \nThe 28th Annual Trailblazer Race is a morning of fun and healthy activities for the whole family. The 10K & 5K races are scenic\, fast and flat running courses. Participants in the 3-mile (5K) walk make a round trip south on Stevens Creek Trail to the bridge on Evelyn Avenue and back. The walk is shaded by beautiful trees.
URL:https://onyourmarkevents.com/events/28th-annual-trailblazer-race/
LOCATION:Microsoft\, 1045 La Avenida St\, Mountain View\, CA\, 94043\, United States
CATEGORIES:10K,5K,Kids Fun Run
ATTACH;FMTTYPE=image/png:https://onyourmarkevents.com/wp-content/uploads/2022/07/Trailblazer-e1658325753301.png
ORGANIZER;CN="Friends of Stevens Creek Trail":MAILTO:kandee@onyourmarkevents.com
END:VEVENT
END:VCALENDAR