BEGIN:VCALENDAR
VERSION:2.0
PRODID:-//On Your Mark Events - ECPv6.15.14//NONSGML v1.0//EN
CALSCALE:GREGORIAN
METHOD:PUBLISH
X-WR-CALNAME:On Your Mark Events
X-ORIGINAL-URL:https://onyourmarkevents.com
X-WR-CALDESC:Events for On Your Mark Events
REFRESH-INTERVAL;VALUE=DURATION:PT1H
X-Robots-Tag:noindex
X-PUBLISHED-TTL:PT1H
BEGIN:VTIMEZONE
TZID:America/Los_Angeles
BEGIN:DAYLIGHT
TZOFFSETFROM:-0800
TZOFFSETTO:-0700
TZNAME:PDT
DTSTART:20200308T100000
END:DAYLIGHT
BEGIN:STANDARD
TZOFFSETFROM:-0700
TZOFFSETTO:-0800
TZNAME:PST
DTSTART:20201101T090000
END:STANDARD
BEGIN:DAYLIGHT
TZOFFSETFROM:-0800
TZOFFSETTO:-0700
TZNAME:PDT
DTSTART:20210314T100000
END:DAYLIGHT
BEGIN:STANDARD
TZOFFSETFROM:-0700
TZOFFSETTO:-0800
TZNAME:PST
DTSTART:20211107T090000
END:STANDARD
BEGIN:DAYLIGHT
TZOFFSETFROM:-0800
TZOFFSETTO:-0700
TZNAME:PDT
DTSTART:20220313T100000
END:DAYLIGHT
BEGIN:STANDARD
TZOFFSETFROM:-0700
TZOFFSETTO:-0800
TZNAME:PST
DTSTART:20221106T090000
END:STANDARD
END:VTIMEZONE
BEGIN:VEVENT
DTSTART;TZID=America/Los_Angeles:20210116T080000
DTEND;TZID=America/Los_Angeles:20210116T080000
DTSTAMP:20260423T020117
CREATED:20201224T012007Z
LAST-MODIFIED:20201228T204523Z
UID:2201-1610784000-1610784000@onyourmarkevents.com
SUMMARY:Dr. Martin Luther King Jr.\, Virtual 10K\, 5K and 2K Run/Walk
DESCRIPTION:America unite and join us for the \n4th Annual Dr. Martin Luther King\, Jr.\nVirtual 10K/5K/2K Run & Walk\nSaturday\, January 16\, 2021\n #mlkracestockton\n \n\nRace Update:\nTo ensure the safety of our runners during this unprecedented time\, the live Dr. Martin L. King Jr. 10K/5K will now be a 7-day virtual walk from 1/9 – 1/16. Registrants can also utilize their treadmill! This 7-day Virtual Walk/Run Series will also act as our Social Distance Run Series presented by the NAACP Stockton Branch.  We are expecting over 1\,000 participants\, the Social Distance Run Series will become a huge success in bringing the running community together once again. \nHow It Works:\nSign up to receive a T-Shirt and medal and more perks that will be announced! After registration you will have access to the virtual race application.  The results will be posted live on January 16\, 2021.  You must complete the walk or run to receive the medal and t-shirt. \nYou will choose your path where you would like to walk/run during the time period\, and then you will submit your results to a live leaderboard to be ranked among others. To upload your distance\, time and photos download the IYR Virtual app between January 9th – January 16th\, 2021 to receive your finisher certificate. Please note\, the Kids 2K is a fun run only. Please follow CDC’s guidelines for your area. \n Register & Receive the following based on registration levels! \n 10K/5K: $40 with includes: \n\nOfficial T-Shirt (Mailed)\nFinisher Medal to each race!\nLive Finish Results and Rankings\n\n10K/5K: $30 with includes: \n\nOfficial T-Shirt (Pick-up)\nFinisher Medal to each race!\nLive Finish Results and Rankings\n\n10K/5K: $25 which includes: \n\nNO T-SHIRT\nFinisher Medal to each race!\nLive Finish Results and Rankings\n\n2K Children: $15 which includes: \n\nOfficial T-Shirt (Mailed)\nFinisher Medal to each race!\nLive Finish Results and Rankings\n\n2K Children: $10 which includes: \n\nOfficial T-Shirt (Pick-up)\nFinisher Medal to each race!\nLive Finish Results and Rankings\n\nFor teams of 5+ or youth discounts\, please email: Kandee@onyourmarkevents.com\nEntry fees are non-refundable for any reason. \n\nPacket Pick-Up~\nFor those that choose to pick-up their T-Shirt\, they will be available February 5th-February 7th\, at Fleet Feet\, 265 Lincoln Center\, Stockton. For those that choose to have their T-Shirt mailed\, please allow 3-4 weeks from the event date.\nFunds from this race support our trauma project.  NAACP Stockton Branch encourages the San Joaquin community to Stay Active\, Eat Healthy\, Live Well and Give Back.  We hope you and your loved ones stay safe and healthy during this unprecedented time.RSVP on Facebook! \nMore Information: @naacpstocktonbranch on facebook \nQuestions? E-mail stocktonnaacp@email.com \n\n“If you can’t fly then run\, if you can’t run then walk\, if you can’t walk then crawl\, but whatever you do you have to keep moving forward” – Dr. Martin Luther King\, Jr.\n\nONLINE REGISTRATION\n 
URL:https://onyourmarkevents.com/events/dr-martin-luther-king-jr-virtual-10k-5k-and-1k-run-walk/
LOCATION:CA\, United States
CATEGORIES:10K,5K,Kids Fun Run
ATTACH;FMTTYPE=image/jpeg:https://onyourmarkevents.com/wp-content/uploads/2018/08/MLK_2-e1533400312588.jpg
ORGANIZER;CN="On Your Mark Events":MAILTO:kandee@onyourmarkevents.com
END:VEVENT
END:VCALENDAR