BEGIN:VCALENDAR
VERSION:2.0
PRODID:-//On Your Mark Events - ECPv6.15.14//NONSGML v1.0//EN
CALSCALE:GREGORIAN
METHOD:PUBLISH
X-WR-CALNAME:On Your Mark Events
X-ORIGINAL-URL:https://onyourmarkevents.com
X-WR-CALDESC:Events for On Your Mark Events
REFRESH-INTERVAL;VALUE=DURATION:PT1H
X-Robots-Tag:noindex
X-PUBLISHED-TTL:PT1H
BEGIN:VTIMEZONE
TZID:America/Los_Angeles
BEGIN:DAYLIGHT
TZOFFSETFROM:-0800
TZOFFSETTO:-0700
TZNAME:PDT
DTSTART:20240310T100000
END:DAYLIGHT
BEGIN:STANDARD
TZOFFSETFROM:-0700
TZOFFSETTO:-0800
TZNAME:PST
DTSTART:20241103T090000
END:STANDARD
BEGIN:DAYLIGHT
TZOFFSETFROM:-0800
TZOFFSETTO:-0700
TZNAME:PDT
DTSTART:20250309T100000
END:DAYLIGHT
BEGIN:STANDARD
TZOFFSETFROM:-0700
TZOFFSETTO:-0800
TZNAME:PST
DTSTART:20251102T090000
END:STANDARD
BEGIN:DAYLIGHT
TZOFFSETFROM:-0800
TZOFFSETTO:-0700
TZNAME:PDT
DTSTART:20260308T100000
END:DAYLIGHT
BEGIN:STANDARD
TZOFFSETFROM:-0700
TZOFFSETTO:-0800
TZNAME:PST
DTSTART:20261101T090000
END:STANDARD
END:VTIMEZONE
BEGIN:VEVENT
DTSTART;TZID=America/Los_Angeles:20251005T080000
DTEND;TZID=America/Los_Angeles:20251005T080000
DTSTAMP:20260420T085407
CREATED:20250619T001335Z
LAST-MODIFIED:20250619T001441Z
UID:3629-1759651200-1759651200@onyourmarkevents.com
SUMMARY:Mount Diablo Challenge 2025 - presented by Valley Spokesmen
DESCRIPTION:The 11.2-mile\, individually timed ride climbs 3\,249 feet to the summit of Mt. Diablo starting up South Gate Road. Mt. Diablo is one of the highest peaks in the San Francisco Bay Area\, with views of the Farallon Islands and the Sierras. The road is closed for safety and more than 1200 cyclists will ride to the summit.  The ride welcomes all ages\, abilities\, teams\, and bicycle types.  It will be a once-a-year opportunity to enjoy riding the mountain without cars.  Everyone celebrates after the ride with free BBQ\, prizes\, awards\, and live music.  Come participate in this epic ride that provides breathtaking scenery and test your climbing ability. \nAdditional Information/Registration
URL:https://onyourmarkevents.com/events/mount-diablo-challenge-2025-presented-by-valley-spokesmen/
LOCATION:Monte Vista High School\, 3131 Stone Valley Rd\, Danville\, CA 94526\, CA\, 94526\, United States
CATEGORIES:Cycling
ATTACH;FMTTYPE=image/png:https://onyourmarkevents.com/wp-content/uploads/2025/06/MDC-V5-e1750292163192.png
END:VEVENT
END:VCALENDAR