BEGIN:VCALENDAR
VERSION:2.0
PRODID:-//On Your Mark Events - ECPv6.15.14//NONSGML v1.0//EN
CALSCALE:GREGORIAN
METHOD:PUBLISH
X-ORIGINAL-URL:https://onyourmarkevents.com
X-WR-CALDESC:Events for On Your Mark Events
REFRESH-INTERVAL;VALUE=DURATION:PT1H
X-Robots-Tag:noindex
X-PUBLISHED-TTL:PT1H
BEGIN:VTIMEZONE
TZID:America/Los_Angeles
BEGIN:DAYLIGHT
TZOFFSETFROM:-0800
TZOFFSETTO:-0700
TZNAME:PDT
DTSTART:20230312T100000
END:DAYLIGHT
BEGIN:STANDARD
TZOFFSETFROM:-0700
TZOFFSETTO:-0800
TZNAME:PST
DTSTART:20231105T090000
END:STANDARD
BEGIN:DAYLIGHT
TZOFFSETFROM:-0800
TZOFFSETTO:-0700
TZNAME:PDT
DTSTART:20240310T100000
END:DAYLIGHT
BEGIN:STANDARD
TZOFFSETFROM:-0700
TZOFFSETTO:-0800
TZNAME:PST
DTSTART:20241103T090000
END:STANDARD
BEGIN:DAYLIGHT
TZOFFSETFROM:-0800
TZOFFSETTO:-0700
TZNAME:PDT
DTSTART:20250309T100000
END:DAYLIGHT
BEGIN:STANDARD
TZOFFSETFROM:-0700
TZOFFSETTO:-0800
TZNAME:PST
DTSTART:20251102T090000
END:STANDARD
END:VTIMEZONE
BEGIN:VEVENT
DTSTART;TZID=America/Los_Angeles:20241006T073000
DTEND;TZID=America/Los_Angeles:20241006T073000
DTSTAMP:20260421T014129
CREATED:20240222T191917Z
LAST-MODIFIED:20240418T231314Z
UID:3272-1728199800-1728199800@onyourmarkevents.com
SUMMARY:Mount Diablo Challenge
DESCRIPTION:The 11.2-mile\, individually timed ride climbs 3\,249 feet to the summit of Mt. Diablo starting up South Gate Road. Mt. Diablo is one of the highest peaks in the San Francisco Bay Area\, with views of the Farallon Islands and the Sierras. The road is closed for safety and more than 800 cyclists will ride to the summit.  The ride welcomes all ages\, abilities\, teams\, and bicycle types.  It will be a once-a-year opportunity to enjoy riding the mountain without cars.  Everyone celebrates after the ride with free BBQ\, prizes\, awards\, and live music.  Come participate in this epic ride that provides breathtaking scenery and test your climbing ability.  \nAdditional Information/Registration
URL:https://onyourmarkevents.com/events/mount-diablo-challenge-4/
LOCATION:Monte Vista High School\, 3131 Stone Valley Rd\, Danville\, CA 94526\, CA\, 94526\, United States
CATEGORIES:Cycling
ATTACH;FMTTYPE=image/jpeg:https://onyourmarkevents.com/wp-content/uploads/2024/02/mdc-gENERIC-e1708629675997.jpg
END:VEVENT
END:VCALENDAR