BEGIN:VCALENDAR
VERSION:2.0
PRODID:-//On Your Mark Events - ECPv6.15.14//NONSGML v1.0//EN
CALSCALE:GREGORIAN
METHOD:PUBLISH
X-ORIGINAL-URL:https://onyourmarkevents.com
X-WR-CALDESC:Events for On Your Mark Events
REFRESH-INTERVAL;VALUE=DURATION:PT1H
X-Robots-Tag:noindex
X-PUBLISHED-TTL:PT1H
BEGIN:VTIMEZONE
TZID:America/Los_Angeles
BEGIN:DAYLIGHT
TZOFFSETFROM:-0800
TZOFFSETTO:-0700
TZNAME:PDT
DTSTART:20200308T100000
END:DAYLIGHT
BEGIN:STANDARD
TZOFFSETFROM:-0700
TZOFFSETTO:-0800
TZNAME:PST
DTSTART:20201101T090000
END:STANDARD
BEGIN:DAYLIGHT
TZOFFSETFROM:-0800
TZOFFSETTO:-0700
TZNAME:PDT
DTSTART:20210314T100000
END:DAYLIGHT
BEGIN:STANDARD
TZOFFSETFROM:-0700
TZOFFSETTO:-0800
TZNAME:PST
DTSTART:20211107T090000
END:STANDARD
BEGIN:DAYLIGHT
TZOFFSETFROM:-0800
TZOFFSETTO:-0700
TZNAME:PDT
DTSTART:20220313T100000
END:DAYLIGHT
BEGIN:STANDARD
TZOFFSETFROM:-0700
TZOFFSETTO:-0800
TZNAME:PST
DTSTART:20221106T090000
END:STANDARD
END:VTIMEZONE
BEGIN:VEVENT
DTSTART;TZID=America/Los_Angeles:20211003T073000
DTEND;TZID=America/Los_Angeles:20211003T073000
DTSTAMP:20260425T072326
CREATED:20210616T173758Z
LAST-MODIFIED:20210812T162437Z
UID:2370-1633246200-1633246200@onyourmarkevents.com
SUMMARY:Mount Diablo Challenge
DESCRIPTION:We are pleased to announce that the Mt. Diablo Challenge will be held on Sunday\, October 3\, 2021 and is dedicated to 86-year-young cyclist\, Joe Shami (photo right). His love of Mt. Diablo led him to climb it 600 consecutive weeks. It also led to his nickname “The Legend of Mt. Diablo.”  While we may have lost Joe this year when he was hit by a car while on his bike\, he will continue to serve as an inspiration to cyclists for years to come.  \nOctober 3\, 2021 will be the 38th year that Mt. Diablo State Park will close the road for this epic bicycle climbing event to benefit Save Mt. Diablo and the Mt. Diablo Interpretive Center.  The 11.2 mile\, individually-timed ride climbs 3\,249 feet to the summit of Mt. Diablo starting up South Gate Road. Mt. Diablo is one of the highest peaks in the San Francisco Bay Area with views of the Farallon Islands and the Sierras. The road is closed for safety and it is limited to 1000 cyclists.  The ride welcomes all ages\, abilities\, teams and bicycle types.  The first waves ascend without any descending bicycle traffic.  It’s a once a year opportunity to enjoy riding the mountain without cars. Celebrate after the ride with free BBQ\, awards ceremony and music.  It’s an epic ride that provides breathtaking scenery while testing your climbing ability. \nFor additional information/Registration
URL:https://onyourmarkevents.com/events/mount-diablo-challenge-2/
LOCATION:CA\, United States
CATEGORIES:Cycling
ATTACH;FMTTYPE=image/jpeg:https://onyourmarkevents.com/wp-content/uploads/2021/08/Diablo_social_1x1_google_250x250-1.jpg
END:VEVENT
END:VCALENDAR