BEGIN:VCALENDAR
VERSION:2.0
PRODID:-//On Your Mark Events - ECPv6.15.14//NONSGML v1.0//EN
CALSCALE:GREGORIAN
METHOD:PUBLISH
X-WR-CALNAME:On Your Mark Events
X-ORIGINAL-URL:https://onyourmarkevents.com
X-WR-CALDESC:Events for On Your Mark Events
REFRESH-INTERVAL;VALUE=DURATION:PT1H
X-Robots-Tag:noindex
X-PUBLISHED-TTL:PT1H
BEGIN:VTIMEZONE
TZID:America/Los_Angeles
BEGIN:DAYLIGHT
TZOFFSETFROM:-0800
TZOFFSETTO:-0700
TZNAME:PDT
DTSTART:20200308T100000
END:DAYLIGHT
BEGIN:STANDARD
TZOFFSETFROM:-0700
TZOFFSETTO:-0800
TZNAME:PST
DTSTART:20201101T090000
END:STANDARD
BEGIN:DAYLIGHT
TZOFFSETFROM:-0800
TZOFFSETTO:-0700
TZNAME:PDT
DTSTART:20210314T100000
END:DAYLIGHT
BEGIN:STANDARD
TZOFFSETFROM:-0700
TZOFFSETTO:-0800
TZNAME:PST
DTSTART:20211107T090000
END:STANDARD
BEGIN:DAYLIGHT
TZOFFSETFROM:-0800
TZOFFSETTO:-0700
TZNAME:PDT
DTSTART:20220313T100000
END:DAYLIGHT
BEGIN:STANDARD
TZOFFSETFROM:-0700
TZOFFSETTO:-0800
TZNAME:PST
DTSTART:20221106T090000
END:STANDARD
END:VTIMEZONE
BEGIN:VEVENT
DTSTART;TZID=America/Los_Angeles:20210926T083000
DTEND;TZID=America/Los_Angeles:20210926T083000
DTSTAMP:20260425T085937
CREATED:20210910T191213Z
LAST-MODIFIED:20210910T191213Z
UID:2453-1632645000-1632645000@onyourmarkevents.com
SUMMARY:Mare Island Pedalfest
DESCRIPTION:Inspired by Congressman Mike Thompson (CA-05)\, who started an initiative to get more people moving\, especially on bikes\, Mare Island PedalFest is focused on gathering all ages and abilities for two-wheeled fun\, food and frivolity. Produced in partnership with the Mare Island Brewing Co and Musto Studios\, event organizer Ride Napa Valley brings forth a unique day of motion and memories as guests can ride as fast or slow as chosen\, enjoy the flavors of beer and nourishment by the Brewing Co\, and listen to the sounds of fans and cyclists during this multi-activity bike affair. The event benefits the Mare Island Historic Park Foundation (Museum)\, as well as the Napa Valley Vine Trail Coalition (a non-profit organization dedicated to building a 47-mile bike and walking path from the Vallejo Ferry to Calistoga). 2019 was the inaugural (year zero) of Mare Island PedalFest\, with a focus on community\, fun\, and an eye towards an even more competitive races in the future. \nAdditional information/registration.
URL:https://onyourmarkevents.com/events/mare-island-pedalfest-2/
LOCATION:Mare Island Brewing Company\, 851 Waterfront Ave\, Vallejo\, CA\, 94592\, United States
CATEGORIES:Cycling
ATTACH;FMTTYPE=image/png:https://onyourmarkevents.com/wp-content/uploads/2019/03/Mare-Island-Brewing-e1646323993740.png
END:VEVENT
END:VCALENDAR