BEGIN:VCALENDAR
VERSION:2.0
PRODID:-//On Your Mark Events - ECPv6.15.14//NONSGML v1.0//EN
CALSCALE:GREGORIAN
METHOD:PUBLISH
X-WR-CALNAME:On Your Mark Events
X-ORIGINAL-URL:https://onyourmarkevents.com
X-WR-CALDESC:Events for On Your Mark Events
REFRESH-INTERVAL;VALUE=DURATION:PT1H
X-Robots-Tag:noindex
X-PUBLISHED-TTL:PT1H
BEGIN:VTIMEZONE
TZID:America/Los_Angeles
BEGIN:DAYLIGHT
TZOFFSETFROM:-0800
TZOFFSETTO:-0700
TZNAME:PDT
DTSTART:20240310T100000
END:DAYLIGHT
BEGIN:STANDARD
TZOFFSETFROM:-0700
TZOFFSETTO:-0800
TZNAME:PST
DTSTART:20241103T090000
END:STANDARD
BEGIN:DAYLIGHT
TZOFFSETFROM:-0800
TZOFFSETTO:-0700
TZNAME:PDT
DTSTART:20250309T100000
END:DAYLIGHT
BEGIN:STANDARD
TZOFFSETFROM:-0700
TZOFFSETTO:-0800
TZNAME:PST
DTSTART:20251102T090000
END:STANDARD
BEGIN:DAYLIGHT
TZOFFSETFROM:-0800
TZOFFSETTO:-0700
TZNAME:PDT
DTSTART:20260308T100000
END:DAYLIGHT
BEGIN:STANDARD
TZOFFSETFROM:-0700
TZOFFSETTO:-0800
TZNAME:PST
DTSTART:20261101T090000
END:STANDARD
BEGIN:DAYLIGHT
TZOFFSETFROM:-0800
TZOFFSETTO:-0700
TZNAME:PDT
DTSTART:20270314T100000
END:DAYLIGHT
BEGIN:STANDARD
TZOFFSETFROM:-0700
TZOFFSETTO:-0800
TZNAME:PST
DTSTART:20271107T090000
END:STANDARD
END:VTIMEZONE
BEGIN:VEVENT
DTSTART;TZID=America/Los_Angeles:20250601T080000
DTEND;TZID=America/Los_Angeles:20250601T080000
DTSTAMP:20260420T070618
CREATED:20250210T165524Z
LAST-MODIFIED:20250210T170706Z
UID:3542-1748764800-1748764800@onyourmarkevents.com
SUMMARY:Run the Rim
DESCRIPTION:“Run the Rim” is a trail run on the beautiful Arnold Rim Trail in Stanislaus Forest\, Calaveras County. Run is hosted in conjunction with the Arnold Rim Trail Association\, Calaveras District of the Stanislaus National Forest\, the Calaveras Amateur Radio Operators\, and surrounding communities. Choice of a 22-Miler\, Half Marathon or 10K trail run. \nAdditional Information/Registration
URL:https://onyourmarkevents.com/events/run-the-rim/
LOCATION:White Pines Lake Park\, Blagen Rd\, Arnold\,\, 95223\, United States
CATEGORIES:10K,22-Miler,Half Marathon,Trail Run
ATTACH;FMTTYPE=image/jpeg:https://onyourmarkevents.com/wp-content/uploads/2025/02/RuntheRim-e1739207204421.jpg
END:VEVENT
BEGIN:VEVENT
DTSTART;TZID=America/Los_Angeles:20250629T073000
DTEND;TZID=America/Los_Angeles:20250629T073000
DTSTAMP:20260420T070618
CREATED:20250101T160918Z
LAST-MODIFIED:20250101T160918Z
UID:3500-1751182200-1751182200@onyourmarkevents.com
SUMMARY:Mare Island Half\, 10K \, 5K and Kids Run
DESCRIPTION:We are so excited to host another running event on beautiful Mare Island! We will have a Half Marathon\, 10K\, 5K and Kids .25K Run. Courses taking you through natural and historic sections of the island. We will be starting from the Mare Island Brewing Company coal shed location\, running through over 100 years of Naval history and natural beauty\, with a finish line party at the Mare Island Brew Co Coal Sheds!  The Kids .25K Run will be an out and back.\nAdditional Information/Registration
URL:https://onyourmarkevents.com/events/mare-island-half-10k-5k-and-kids-run/
LOCATION:Mare Island Brewing Company\, 851 Waterfront Ave\, Vallejo\, CA\, 94592\, United States
CATEGORIES:10K,5K,Half Marathon,Kids Fun Run
ATTACH;FMTTYPE=image/png:https://onyourmarkevents.com/wp-content/uploads/2024/03/2024Mare-e1711661800119.png
ORGANIZER;CN="On Your Mark Events":MAILTO:kandee@onyourmarkevents.com
END:VEVENT
BEGIN:VEVENT
DTSTART;TZID=America/Los_Angeles:20250704T073000
DTEND;TZID=America/Los_Angeles:20250704T073000
DTSTAMP:20260420T070618
CREATED:20250330T205126Z
LAST-MODIFIED:20250330T205304Z
UID:3586-1751614200-1751614200@onyourmarkevents.com
SUMMARY:Run San Ramon
DESCRIPTION:The 2025 Run San Ramon presented by the City of San Ramon is celebrating its 40th year!  Get a healthy start to your 4th of July with this Independence Day Classic.  Enjoy the paved and looped 5K/10K course through San Ramon. The Fastest Mile is an out and back. All participants will receive a short sleeve commemorative shirt\, bib\, and participation medal. \nAdditional Information/Registration
URL:https://onyourmarkevents.com/events/run-san-ramon-8/
LOCATION:San Ramon Community Center\, 12501 Alcosta Blvd\, San Ramon\, CA\, 94583\, United States
CATEGORIES:1-Mile Run,10K,5K
ATTACH;FMTTYPE=image/jpeg:https://onyourmarkevents.com/wp-content/uploads/2025/03/Capture.RSR-Logo-V@.jpg
END:VEVENT
BEGIN:VEVENT
DTSTART;TZID=America/Los_Angeles:20250719T090000
DTEND;TZID=America/Los_Angeles:20250719T090000
DTSTAMP:20260420T070618
CREATED:20250205T222538Z
LAST-MODIFIED:20250205T223436Z
UID:3539-1752915600-1752915600@onyourmarkevents.com
SUMMARY:WVC Tour de Saratoga | Race to Raise
DESCRIPTION:Grab your bikes and join us for a ride through the streets of Saratoga! The 2nd annual West Valley College Tour de Saratoga | Race to Raise welcomes everyone for a joyful community ride. Celebrate your ride at our on-campus post-ride fun zone with vendors\, music\, food trucks\, and more. Bring your family and friends to this new community tradition! \nAdditional Information / Registration
URL:https://onyourmarkevents.com/events/wvc-tour-de-saratoga-race-to-raise-2/
LOCATION:West Valley College\, 14000 Fruitvale Ave\, Saratga\, CA\, 95070\, United States
CATEGORIES:10K,20K,30K,Cycling
ATTACH;FMTTYPE=image/jpeg:https://onyourmarkevents.com/wp-content/uploads/2024/07/TourdeSaratoga-e1738794454423.jpg
END:VEVENT
BEGIN:VEVENT
DTSTART;TZID=America/Los_Angeles:20250726T073000
DTEND;TZID=America/Los_Angeles:20250726T073000
DTSTAMP:20260420T070618
CREATED:20250408T194443Z
LAST-MODIFIED:20250416T224752Z
UID:3600-1753515000-1753515000@onyourmarkevents.com
SUMMARY:Escalon Park Fete
DESCRIPTION:Looking for a fast\, flat\, out and back course to set that new PR? Check out this small-town meet in the middle of summer to set that PR\, as a final tune-up before a longer race\, or to complete that first 10k. The entire course is on paved roads and has a great community atmosphere.  All monies raised go to support Escalon Lion’s Club and their efforts to support the students and community of Escalon. \nAdditional Information/Registration
URL:https://onyourmarkevents.com/events/escalon-park-fete/
LOCATION:Main Street Park\, 1771 Main St\, Escalon\, CA\, 95320\, United States
CATEGORIES:10K,5K
ATTACH;FMTTYPE=image/png:https://onyourmarkevents.com/wp-content/uploads/2025/04/Red-Black-Minimalist-Running-Athletic-Club-Logo3-e1744843663527.png
END:VEVENT
BEGIN:VEVENT
DTSTART;TZID=America/Los_Angeles:20250907T073000
DTEND;TZID=America/Los_Angeles:20250907T073000
DTSTAMP:20260420T070618
CREATED:20250328T223556Z
LAST-MODIFIED:20250328T223556Z
UID:3571-1757230200-1757230200@onyourmarkevents.com
SUMMARY:Delta Harvest Run
DESCRIPTION:Join us this September for the Delta Harvest Run\, a cherished community tradition that brings neighbors together to make a difference. Organized by the Delta Association of Realtors Community Service Foundation\, this annual race is more than just a run—it’s a powerful way to give back. Every step you take supports East Contra Costa County food banks\, shelters\, and college scholarships for local high school students. Together\, we can fuel hope\, provide essential resources\, and create brighter futures for those in need. \nAdditional Information/Registration
URL:https://onyourmarkevents.com/events/delta-harvest-run-7/
LOCATION:CA
CATEGORIES:1-Mile Run,10K,5K,Half Marathon
ATTACH;FMTTYPE=image/jpeg:https://onyourmarkevents.com/wp-content/uploads/2025/03/Delta-Logo-e1743201247430.jpg
END:VEVENT
BEGIN:VEVENT
DTSTART;TZID=America/Los_Angeles:20250928T080000
DTEND;TZID=America/Los_Angeles:20250928T083000
DTSTAMP:20260420T070618
CREATED:20250530T232724Z
LAST-MODIFIED:20250530T232724Z
UID:3619-1759046400-1759048200@onyourmarkevents.com
SUMMARY:Trailblazer Race 2025
DESCRIPTION:31th Annual Trailblazer Race\nThe Trailblazer Race is a morning of fun and healthy activities for the whole family. The 10K & 5K races are scenic\, fast and flat running courses. Participants in the 3-mile (5K) walk make a round trip south on Stevens Creek Trail to the bridge on Evelyn Avenue and back. The walk is shaded by beautiful trees.  There are free kids’ activities for toddlers to age 10\, a festival area with snacks\, exhibits and prize drawings. \nAdditional lnformation/Registration
URL:https://onyourmarkevents.com/events/trailblazer-race-2025/
LOCATION:Microsoft\, 1045 La Avenida St\, Mountain View\, CA\, 94043\, United States
CATEGORIES:10K,3-Mile Walk,5K
ATTACH;FMTTYPE=image/png:https://onyourmarkevents.com/wp-content/uploads/2025/05/2025-TBR-Logo-e1748647723590.png
ORGANIZER;CN="Friends of Stevens Creek Trail":MAILTO:kandee@onyourmarkevents.com
END:VEVENT
BEGIN:VEVENT
DTSTART;TZID=America/Los_Angeles:20251004T080000
DTEND;TZID=America/Los_Angeles:20251004T200000
DTSTAMP:20260420T070618
CREATED:20250714T142102Z
LAST-MODIFIED:20250714T142210Z
UID:3649-1759564800-1759608000@onyourmarkevents.com
SUMMARY:Pace For Peace
DESCRIPTION:Join us Saturday\, October 4th\, 2025 at 8am for a scenic 5K/10K run/walk through the Livermore Valley along the Arroyo bike trail\, around Robertson Park and out to the valley vineyards. Tri-Valley Haven’s Pace for Peace has something for everyone\, whether you are a serious runner or just out for a leisurely walk with friends and family supporting a good cause! This event guarantees a good time for the entire family! \nAdditional Information / Registration
URL:https://onyourmarkevents.com/events/pace-for-peace-4/
LOCATION:Tri Valley Haven\, 3663 Pacific Avenie\, Livermore\, CA\, 94550\, United States
CATEGORIES:10K,5K
ATTACH;FMTTYPE=image/jpeg:https://onyourmarkevents.com/wp-content/uploads/2025/07/TVH.jpg
END:VEVENT
BEGIN:VEVENT
DTSTART;TZID=America/Los_Angeles:20251115T090000
DTEND;TZID=America/Los_Angeles:20251115T090000
DTSTAMP:20260420T070618
CREATED:20250403T185250Z
LAST-MODIFIED:20250714T143604Z
UID:3594-1763197200-1763197200@onyourmarkevents.com
SUMMARY:Ripon Turkey Trial Run
DESCRIPTION:We believe in the power of community and the power of running. We like combining the two. Ripon is a special town and we’re stoked to bring back a 5k/10k/13.1 mile race to the city.  Get stoked\, start training\, and LET’S RUN RIPON! \nAdditional Information/Registration
URL:https://onyourmarkevents.com/events/ripon-turkey-trial-run/
LOCATION:Mavis Stouffer Park\, 960 Stouffer St\, Ripon\, CA\, 95366\, United States
CATEGORIES:10K,5K,Half Marathon
ATTACH;FMTTYPE=image/jpeg:https://onyourmarkevents.com/wp-content/uploads/2025/04/Ripon-Turkey-e1752503680983.jpg
END:VEVENT
BEGIN:VEVENT
DTSTART;TZID=America/Los_Angeles:20251127T080000
DTEND;TZID=America/Los_Angeles:20251127T080000
DTSTAMP:20260420T070618
CREATED:20250628T014626Z
LAST-MODIFIED:20250714T145049Z
UID:3633-1764230400-1764230400@onyourmarkevents.com
SUMMARY:Run & Walk Against Hunger
DESCRIPTION:Registration opens July 1st\, 2025 \nStockton’s Annual Run & Walk Against Hunger coming Thanksgiving Morning! The Emergency Food Bank has been extra busy in helping those in need\, and the annual Run & Walk Against Hunger is our largest one day fundraiser. We hope that you will join us this year. \nAdditional Information/Registration
URL:https://onyourmarkevents.com/events/run-walk-against-hunger-5/
LOCATION:Banner Island Ballpark\, 404 W Fremont St\, Stockton\, CA\, 95203\, United States
CATEGORIES:10K,5K,Kids Fun Run
ATTACH;FMTTYPE=image/png:https://onyourmarkevents.com/wp-content/uploads/2025/07/RAH-Logo-e1752503995521.png
END:VEVENT
BEGIN:VEVENT
DTSTART;TZID=America/Los_Angeles:20260301T080000
DTEND;TZID=America/Los_Angeles:20260301T080000
DTSTAMP:20260420T070618
CREATED:20251230T230758Z
LAST-MODIFIED:20251230T230758Z
UID:3709-1772352000-1772352000@onyourmarkevents.com
SUMMARY:48th Annual CCHP Chinatown YMCA Lunar New Year Run
DESCRIPTION:Now in its 48th year\, the Chinatown YMCA CCHP Lunar New Year Run gives participants a rare opportunity to run through San Francisco Chinatown’s historic (and slightly hilly) streets\, taking in the architecture\, scents\, and sounds of a bustling and vibrant community. For those who prefer to participate virtually\, the event will again offer a virtual race to include our friends and partners from across the globe. 2026 is the Year of the Horse\, known for their charisma\, ambition\, and social nature\, their confidence makes them ready for any adventure. \nAdditional Information / Registration
URL:https://onyourmarkevents.com/events/48th-annual-cchp-chinatown-ymca-lunar-new-year-run/
LOCATION:Chinese New Year Run\, Corner of Grant Ave/Sacramento St\, San Franicsoc\, CA\, United States
CATEGORIES:10K,5K
ATTACH;FMTTYPE=image/jpeg:https://onyourmarkevents.com/wp-content/uploads/2025/12/CNY-2026.jpg
END:VEVENT
BEGIN:VEVENT
DTSTART;TZID=America/Los_Angeles:20260418T080000
DTEND;TZID=America/Los_Angeles:20260418T080000
DTSTAMP:20260420T070618
CREATED:20260228T023202Z
LAST-MODIFIED:20260228T023202Z
UID:3741-1776499200-1776499200@onyourmarkevents.com
SUMMARY:Honor Stockton Blue
DESCRIPTION:Welcome to the 5th annual Honor Stockton Blue memorial run! Early\, Saturday\, April 18th\, runners will participate in a 10K\, 5K run\, or 3K walk. Located in the heart of the University of the Pacific Campus\, nationally known for it’s beauty.   \nAdditional Information/Registration
URL:https://onyourmarkevents.com/events/honor-stockton-blue-5/
LOCATION:University of the Pacific\, Stagg Way\, Stockton\, Stockton
CATEGORIES:10K,5K
ATTACH;FMTTYPE=image/jpeg:https://onyourmarkevents.com/wp-content/uploads/2022/01/Honor-Stockton-Blue-e1642727483210.jpg
END:VEVENT
BEGIN:VEVENT
DTSTART;TZID=America/Los_Angeles:20260628T073000
DTEND;TZID=America/Los_Angeles:20260628T073000
DTSTAMP:20260420T070618
CREATED:20260305T003911Z
LAST-MODIFIED:20260305T004126Z
UID:3747-1782631800-1782631800@onyourmarkevents.com
SUMMARY:Mare Island Half Marathon\, 10K\, 5K
DESCRIPTION:Join us on Sunday\, June 28\, 2026 for the Mare Island Half\, a scenic and historic race experience set entirely on Mare Island in Vallejo\, CA. Hosted by Mare Island Brewing Co. at their Coal Sheds location\, this event offers a unique combination of waterfront views\, naval history\, and post-race celebration. \nAdditional Information/Registration
URL:https://onyourmarkevents.com/events/mare-island-half-marathon-10k-5k-4/
LOCATION:Mare Island Brewing Company\, 851 Waterfront Ave\, Vallejo\, CA\, 94592\, United States
CATEGORIES:10K,5K,Half Marathon
ATTACH;FMTTYPE=image/png:https://onyourmarkevents.com/wp-content/uploads/2019/03/Mare-Island-Brewing-e1646323993740.png
END:VEVENT
BEGIN:VEVENT
DTSTART;TZID=America/Los_Angeles:20260704T080000
DTEND;TZID=America/Los_Angeles:20260704T080000
DTSTAMP:20260420T070619
CREATED:20260305T004745Z
LAST-MODIFIED:20260327T221931Z
UID:3751-1783152000-1783152000@onyourmarkevents.com
SUMMARY:Run San Ramon
DESCRIPTION:The 2026 Run San Ramon presented by the City of San Ramon is celebrating its 41st year! Run San Ramon features 5K and 10K events as well as the Fastest Mile! Get a healthy start to your 4th of July with this Independence Day Classic.\nAdditional information/registraiton
URL:https://onyourmarkevents.com/events/run-san-ramon-9/
LOCATION:San Ramon Community Center\, 12501 Alcosta Blvd\, San Ramon\, CA\, 94583\, United States
CATEGORIES:1-Mile Run,10K,5K
ATTACH;FMTTYPE=image/png:https://onyourmarkevents.com/wp-content/uploads/2023/07/download.png
END:VEVENT
BEGIN:VEVENT
DTSTART;TZID=America/Los_Angeles:20260913T073000
DTEND;TZID=America/Los_Angeles:20260913T073000
DTSTAMP:20260420T070619
CREATED:20260317T023822Z
LAST-MODIFIED:20260317T023822Z
UID:3764-1789284600-1789284600@onyourmarkevents.com
SUMMARY:Delta Harvest Run
DESCRIPTION:Join us this September for the Delta Harvest Run\, a cherished community tradition that brings neighbors together to make a difference. Organized by the Delta Association of Realtors Community Service Foundation\, this annual race is more than just a run—it’s a powerful way to give back. Every step you take supports East Contra Costa County food banks\, shelters\, and college scholarships for local high school students. Together\, we can fuel hope\, provide essential resources\, and create brighter futures for those in need. \nAdditional Information/Registration
URL:https://onyourmarkevents.com/events/delta-harvest-run-8/
LOCATION:Community Centre/City Hall\, 35 Oak Street\, Brentwood\, CA\, United States
CATEGORIES:1-Mile Run,10K,5K,Half Marathon
ATTACH;FMTTYPE=image/jpeg:https://onyourmarkevents.com/wp-content/uploads/2025/03/Delta-Logo-e1743201247430.jpg
END:VEVENT
END:VCALENDAR