BEGIN:VCALENDAR
VERSION:2.0
PRODID:-//On Your Mark Events - ECPv6.15.14//NONSGML v1.0//EN
CALSCALE:GREGORIAN
METHOD:PUBLISH
X-ORIGINAL-URL:https://onyourmarkevents.com
X-WR-CALDESC:Events for On Your Mark Events
REFRESH-INTERVAL;VALUE=DURATION:PT1H
X-Robots-Tag:noindex
X-PUBLISHED-TTL:PT1H
BEGIN:VTIMEZONE
TZID:America/Los_Angeles
BEGIN:DAYLIGHT
TZOFFSETFROM:-0800
TZOFFSETTO:-0700
TZNAME:PDT
DTSTART:20220313T100000
END:DAYLIGHT
BEGIN:STANDARD
TZOFFSETFROM:-0700
TZOFFSETTO:-0800
TZNAME:PST
DTSTART:20221106T090000
END:STANDARD
BEGIN:DAYLIGHT
TZOFFSETFROM:-0800
TZOFFSETTO:-0700
TZNAME:PDT
DTSTART:20230312T100000
END:DAYLIGHT
BEGIN:STANDARD
TZOFFSETFROM:-0700
TZOFFSETTO:-0800
TZNAME:PST
DTSTART:20231105T090000
END:STANDARD
BEGIN:DAYLIGHT
TZOFFSETFROM:-0800
TZOFFSETTO:-0700
TZNAME:PDT
DTSTART:20240310T100000
END:DAYLIGHT
BEGIN:STANDARD
TZOFFSETFROM:-0700
TZOFFSETTO:-0800
TZNAME:PST
DTSTART:20241103T090000
END:STANDARD
END:VTIMEZONE
BEGIN:VEVENT
DTSTART;TZID=America/Los_Angeles:20231104T090000
DTEND;TZID=America/Los_Angeles:20231104T090000
DTSTAMP:20260420T141531
CREATED:20230516T141312Z
LAST-MODIFIED:20230516T141312Z
UID:3069-1699088400-1699088400@onyourmarkevents.com
SUMMARY:Lodi Heroes
DESCRIPTION:Enjoy a day filled with something for everyone! Your choice of the 5K or 10K Fun Run/Walk as well as a Kid’s .5 Mile Fun Run. This event includes things for the children\, pre and post run\, with numerous games and fun for children of all ages\, even adults who are young at heart! Thanks to sponsorships from businesses\, service clubs and individuals\, we can offer games\, several activities and prizes for playing. So come out with your family\, friends and neighbors to enjoy this wonderful day!\nAdditional Information/Registration
URL:https://onyourmarkevents.com/events/lodi-heroes-2/
LOCATION:Jessie’s Grove Winery\, 1973 W Turner Rd\, Lodi\, CA\, 95242\, United States
CATEGORIES:10K,5K,Kids Fun Run
ATTACH;FMTTYPE=image/jpeg:https://onyourmarkevents.com/wp-content/uploads/2022/06/Lodi-Heroes_200x200-e1657305510681.jpg
END:VEVENT
BEGIN:VEVENT
DTSTART;TZID=America/Los_Angeles:20231105T090000
DTEND;TZID=America/Los_Angeles:20231105T090000
DTSTAMP:20260420T141531
CREATED:20230815T202432Z
LAST-MODIFIED:20230906T210148Z
UID:3150-1699174800-1699174800@onyourmarkevents.com
SUMMARY:Dia de los Muertos 5K/10K
DESCRIPTION:Join us with LULAC and m2 Winery for the 3rd annual DIA DE LOS MUERTOS 5K & 10K celebrating the end of Hispanic Heritage Month on Sunday\, November 5th. We’ll take you on a epic journey past the grape vines of Lodi on this fully paved course. Straightaway’s and flat courses mean fast times for our racers and a celebration like no other for all our runners and walkers post event. Finish past the vines and into m2 Winery for fun times with wine tasting\, limited releases\, catered brunch\, music and expo at this beautiful venue. Grab a chair\, bring a blanket and enjoy the day with us!\nAdditional Information/Registration
URL:https://onyourmarkevents.com/events/dia-de-los-muertos-5k-10k-2/
LOCATION:m2Winery\, 2900 East Peltier Rd\, Acampo\, CA\, 95220\, United States
CATEGORIES:10K,5K
ATTACH;FMTTYPE=image/jpeg:https://onyourmarkevents.com/wp-content/uploads/2023/09/Tony-200x193-1-e1694034076434.jpg
ORGANIZER;CN="Fleet Feet":MAILTO:tony@fleetfeetstockton.com
END:VEVENT
BEGIN:VEVENT
DTSTART;TZID=America/Los_Angeles:20231123T080000
DTEND;TZID=America/Los_Angeles:20231123T080000
DTSTAMP:20260420T141531
CREATED:20230714T174423Z
LAST-MODIFIED:20230714T174423Z
UID:3109-1700726400-1700726400@onyourmarkevents.com
SUMMARY:Run & Walk Against Hunger
DESCRIPTION:Join us for the 19th  Annual Thanksgiving Morning tradition benefiting the Emergency Food Bank Stockton/San Joaquin. The 2023 Run & Walk Against Hunger presented by the Aaron Judge ALL RISE Foundation\, is Stockton’s premier annual family event featuring a 5K run/walk\, 10K run\, and a Kids .25 mile run. The flat\, fast out and back course starts in front of Banner Island Ballpark\, home of the Stockton Ports\, and takes participants through Stockton’s Weber Point and Waterfront area. Walkers have their own scenic course along the Waterfront. Strollers\, wheelchairs and pets (on a leash) are welcome.\nAdditional Information/Registration
URL:https://onyourmarkevents.com/events/run-walk-against-hunger-4/
LOCATION:Banner Island Ballpark\, 404 W Fremont St\, Stockton\, CA\, 95203\, United States
CATEGORIES:10K,5K,Kids Fun Run
ATTACH;FMTTYPE=image/jpeg:https://onyourmarkevents.com/wp-content/uploads/2023/07/RAH23-e1689356486591.jpg
END:VEVENT
END:VCALENDAR