BEGIN:VCALENDAR
VERSION:2.0
PRODID:-//On Your Mark Events - ECPv6.15.14//NONSGML v1.0//EN
CALSCALE:GREGORIAN
METHOD:PUBLISH
X-ORIGINAL-URL:https://onyourmarkevents.com
X-WR-CALDESC:Events for On Your Mark Events
REFRESH-INTERVAL;VALUE=DURATION:PT1H
X-Robots-Tag:noindex
X-PUBLISHED-TTL:PT1H
BEGIN:VTIMEZONE
TZID:America/Los_Angeles
BEGIN:DAYLIGHT
TZOFFSETFROM:-0800
TZOFFSETTO:-0700
TZNAME:PDT
DTSTART:20220313T100000
END:DAYLIGHT
BEGIN:STANDARD
TZOFFSETFROM:-0700
TZOFFSETTO:-0800
TZNAME:PST
DTSTART:20221106T090000
END:STANDARD
BEGIN:DAYLIGHT
TZOFFSETFROM:-0800
TZOFFSETTO:-0700
TZNAME:PDT
DTSTART:20230312T100000
END:DAYLIGHT
BEGIN:STANDARD
TZOFFSETFROM:-0700
TZOFFSETTO:-0800
TZNAME:PST
DTSTART:20231105T090000
END:STANDARD
BEGIN:DAYLIGHT
TZOFFSETFROM:-0800
TZOFFSETTO:-0700
TZNAME:PDT
DTSTART:20240310T100000
END:DAYLIGHT
BEGIN:STANDARD
TZOFFSETFROM:-0700
TZOFFSETTO:-0800
TZNAME:PST
DTSTART:20241103T090000
END:STANDARD
END:VTIMEZONE
BEGIN:VEVENT
DTSTART;TZID=America/Los_Angeles:20230702T080000
DTEND;TZID=America/Los_Angeles:20230702T080000
DTSTAMP:20260420T194253
CREATED:20230216T183905Z
LAST-MODIFIED:20230216T232625Z
UID:2975-1688284800-1688284800@onyourmarkevents.com
SUMMARY:Hernia Hill Half Marathon\, 10K & 5K
DESCRIPTION:This spectacular course near historic Murphy’s\, CA\, offers a challenge for all ability levels. Fees includes post-race raffle\, wine tasting and lunch! \nAdditional Information/Registration
URL:https://onyourmarkevents.com/events/hernia-hill-half-marathon-10k-5k-2/
LOCATION:Twisted Oak Winery\, 4280 Red Hill Road\, Vallecito\, CA\, United States
CATEGORIES:10K,5K,Half Marathon
ATTACH;FMTTYPE=image/png:https://onyourmarkevents.com/wp-content/uploads/2018/06/twisted-oak-winery-vallecitos.png
ORGANIZER;CN="On Your Mark Events":MAILTO:kandee@onyourmarkevents.com
END:VEVENT
BEGIN:VEVENT
DTSTART;TZID=America/Los_Angeles:20230704T073000
DTEND;TZID=America/Los_Angeles:20230704T073000
DTSTAMP:20260420T194253
CREATED:20230404T165226Z
LAST-MODIFIED:20230516T174500Z
UID:3006-1688455800-1688455800@onyourmarkevents.com
SUMMARY:Run San Ramon
DESCRIPTION:The 2023 Run San Ramon presented by the City of San Ramon is celebrating its 38th year!  Get a healthy start to your 4th of July with this Independence Day Classic.  Enjoy the paved and looped 5K/10K course through San Ramon. The Fastest Mile is an out and back. All participants will receive a short sleeve commemorative shirt\, bib\, and participation medal. \nOnline Registration\nMail-In Application
URL:https://onyourmarkevents.com/events/run-san-ramon-6/
LOCATION:San Ramon Community Center\, 12501 Alcosta Blvd\, San Ramon\, CA\, 94583\, United States
CATEGORIES:1-Mile Run,10K,5K
ATTACH;FMTTYPE=image/jpeg:https://onyourmarkevents.com/wp-content/uploads/2023/04/RSR-V2-e1680705055639.jpg
END:VEVENT
END:VCALENDAR