BEGIN:VCALENDAR
VERSION:2.0
PRODID:-//On Your Mark Events - ECPv6.15.14//NONSGML v1.0//EN
CALSCALE:GREGORIAN
METHOD:PUBLISH
X-WR-CALNAME:On Your Mark Events
X-ORIGINAL-URL:https://onyourmarkevents.com
X-WR-CALDESC:Events for On Your Mark Events
REFRESH-INTERVAL;VALUE=DURATION:PT1H
X-Robots-Tag:noindex
X-PUBLISHED-TTL:PT1H
BEGIN:VTIMEZONE
TZID:America/Los_Angeles
BEGIN:DAYLIGHT
TZOFFSETFROM:-0800
TZOFFSETTO:-0700
TZNAME:PDT
DTSTART:20220313T100000
END:DAYLIGHT
BEGIN:STANDARD
TZOFFSETFROM:-0700
TZOFFSETTO:-0800
TZNAME:PST
DTSTART:20221106T090000
END:STANDARD
BEGIN:DAYLIGHT
TZOFFSETFROM:-0800
TZOFFSETTO:-0700
TZNAME:PDT
DTSTART:20230312T100000
END:DAYLIGHT
BEGIN:STANDARD
TZOFFSETFROM:-0700
TZOFFSETTO:-0800
TZNAME:PST
DTSTART:20231105T090000
END:STANDARD
BEGIN:DAYLIGHT
TZOFFSETFROM:-0800
TZOFFSETTO:-0700
TZNAME:PDT
DTSTART:20240310T100000
END:DAYLIGHT
BEGIN:STANDARD
TZOFFSETFROM:-0700
TZOFFSETTO:-0800
TZNAME:PST
DTSTART:20241103T090000
END:STANDARD
END:VTIMEZONE
BEGIN:VEVENT
DTSTART;TZID=America/Los_Angeles:20230422T080000
DTEND;TZID=America/Los_Angeles:20230422T080000
DTSTAMP:20260420T233854
CREATED:20230130T234543Z
LAST-MODIFIED:20230130T234543Z
UID:2971-1682150400-1682150400@onyourmarkevents.com
SUMMARY:Honor Stockton Blue
DESCRIPTION:Welcome to the 2nd Annual Honor Stockton Blue memorial run! Early\, Saturday\, April 22nd\, runners will participate in a 10K\, 5K run\, or 3K walk. Located in the heart of the University of the Pacific Campus\, nationally known for it’s beauty.  \nThis event is to honor those who felt the weight of the badge every time they put it on their uniform. They carried the heavy responsibility of being a community protector and then paid the ultimate sacrifice by laying down their lives for the community they serve.  We will never forget them or their families as they remain in our debt forever. \nAdditional Information/Registration
URL:https://onyourmarkevents.com/events/honor-stockton-blue-2/
LOCATION:UOP – Del Rosa University Center\, 897 Presidents Drive\, Stockton\, CA\, 95211\, United States
CATEGORIES:10K,3K,5K
ATTACH;FMTTYPE=image/jpeg:https://onyourmarkevents.com/wp-content/uploads/2022/01/Honor-Stockton-Blue-e1642727483210.jpg
ORGANIZER;CN="On Your Mark Events":MAILTO:kandee@onyourmarkevents.com
END:VEVENT
END:VCALENDAR