BEGIN:VCALENDAR
VERSION:2.0
PRODID:-//On Your Mark Events - ECPv6.15.14//NONSGML v1.0//EN
CALSCALE:GREGORIAN
METHOD:PUBLISH
X-ORIGINAL-URL:https://onyourmarkevents.com
X-WR-CALDESC:Events for On Your Mark Events
REFRESH-INTERVAL;VALUE=DURATION:PT1H
X-Robots-Tag:noindex
X-PUBLISHED-TTL:PT1H
BEGIN:VTIMEZONE
TZID:America/Los_Angeles
BEGIN:DAYLIGHT
TZOFFSETFROM:-0800
TZOFFSETTO:-0700
TZNAME:PDT
DTSTART:20210314T100000
END:DAYLIGHT
BEGIN:STANDARD
TZOFFSETFROM:-0700
TZOFFSETTO:-0800
TZNAME:PST
DTSTART:20211107T090000
END:STANDARD
BEGIN:DAYLIGHT
TZOFFSETFROM:-0800
TZOFFSETTO:-0700
TZNAME:PDT
DTSTART:20220313T100000
END:DAYLIGHT
BEGIN:STANDARD
TZOFFSETFROM:-0700
TZOFFSETTO:-0800
TZNAME:PST
DTSTART:20221106T090000
END:STANDARD
BEGIN:DAYLIGHT
TZOFFSETFROM:-0800
TZOFFSETTO:-0700
TZNAME:PDT
DTSTART:20230312T100000
END:DAYLIGHT
BEGIN:STANDARD
TZOFFSETFROM:-0700
TZOFFSETTO:-0800
TZNAME:PST
DTSTART:20231105T090000
END:STANDARD
END:VTIMEZONE
BEGIN:VEVENT
DTSTART;TZID=America/Los_Angeles:20221105T083000
DTEND;TZID=America/Los_Angeles:20221105T083000
DTSTAMP:20260421T065053
CREATED:20220616T140456Z
LAST-MODIFIED:20220810T235739Z
UID:2760-1667637000-1667637000@onyourmarkevents.com
SUMMARY:Lodi Heroes
DESCRIPTION:Saturday\, November 5\, 2022\nJessie’s Grove Winery and Vineyard\n5K/10K and Kids Fun Run\nEnjoy a day filled with something for everyone! Your choice of the 5K or 10K Run as well as\, a Kid’s Fun Run\, and post race Children’s festival. LodiHeroes.org has partnered with the 180 Teen Center in Lodi with numerous games and fun for children of all ages\, even adults who are young at heart! Thanks to sponsorships from businesses\, service clubs and individuals\, we can offer games\, several activities and prizes for playing. So come out with your family\, friends and neighbors to enjoy this wonderful day!\nAdditional Information/Registration
URL:https://onyourmarkevents.com/events/lodi-heroes/
LOCATION:Jessie’s Grove Winery\, 1973 W Turner Rd\, Lodi\, CA\, 95242\, United States
CATEGORIES:10K,5K,Kids Fun Run
ATTACH;FMTTYPE=image/jpeg:https://onyourmarkevents.com/wp-content/uploads/2022/06/Lodi-Heroes_200x200-e1657305510681.jpg
END:VEVENT
BEGIN:VEVENT
DTSTART;TZID=America/Los_Angeles:20221105T090000
DTEND;TZID=America/Los_Angeles:20221231T090000
DTSTAMP:20260421T065053
CREATED:20220915T183547Z
LAST-MODIFIED:20221116T155710Z
UID:2879-1667638800-1672477200@onyourmarkevents.com
SUMMARY:Roanne's Race
DESCRIPTION:Roanne’s Race Mission is to raise awareness of colorectal cancer as it occurs in people under age 50\, and those of all ages\, through an annual 5K/10K and kids run. Roanne’s Race is inspired by the life of Roanne Cairel. \nRoanne’s Race – Is currently a virtual event. In-person event is awaiting approval from City of Livermore.\nDecision will be made by October 8th.  Everyone interested in an in-person event and signed up for a virtual race will be contacted to update their registration to in-person for no additional fee. \nAdditional Information/Registration
URL:https://onyourmarkevents.com/events/roannes-race-4/
LOCATION:Robertson Park\, 3200 Robertson Park Rd\, Livermore\, CA\, 94550\, United States
CATEGORIES:10K,3K,Kids Fun Run
ATTACH;FMTTYPE=image/jpeg:https://onyourmarkevents.com/wp-content/uploads/2022/09/2019-Roannes-276x275-276x275-1.jpg
END:VEVENT
BEGIN:VEVENT
DTSTART;TZID=America/Los_Angeles:20221124T080000
DTEND;TZID=America/Los_Angeles:20221124T080000
DTSTAMP:20260421T065053
CREATED:20220708T180948Z
LAST-MODIFIED:20220708T180948Z
UID:2778-1669276800-1669276800@onyourmarkevents.com
SUMMARY:Run & Walk Against Hunger 2022
DESCRIPTION:Stockton’s Annual Run & Walk Against Hunger coming Thanksgiving Morning!  The Emergency Food Bank has been extra busy in helping those in need\, and the annual Run & Walk Against Hunger is our largest one day fundraiser.  We hope that you will join us this year. 2022 marks the 18th year of the family event.  Last year we had nearly 3\,000 participants and we’d love to blow that number out of the water and have even more people this year!  Register your friends and family.\nAdditional Information/Registration
URL:https://onyourmarkevents.com/events/run-walk-against-hunger-2022/
LOCATION:Banner Island Ballpark\, 404 W Fremont St\, Stockton\, CA\, 95203\, United States
CATEGORIES:10K,5K,Kids Fun Run
ATTACH;FMTTYPE=image/jpeg:https://onyourmarkevents.com/wp-content/uploads/2022/07/RAH.jpg
END:VEVENT
END:VCALENDAR