BEGIN:VCALENDAR
VERSION:2.0
PRODID:-//On Your Mark Events - ECPv6.15.14//NONSGML v1.0//EN
CALSCALE:GREGORIAN
METHOD:PUBLISH
X-WR-CALNAME:On Your Mark Events
X-ORIGINAL-URL:https://onyourmarkevents.com
X-WR-CALDESC:Events for On Your Mark Events
REFRESH-INTERVAL;VALUE=DURATION:PT1H
X-Robots-Tag:noindex
X-PUBLISHED-TTL:PT1H
BEGIN:VTIMEZONE
TZID:America/Los_Angeles
BEGIN:DAYLIGHT
TZOFFSETFROM:-0800
TZOFFSETTO:-0700
TZNAME:PDT
DTSTART:20210314T100000
END:DAYLIGHT
BEGIN:STANDARD
TZOFFSETFROM:-0700
TZOFFSETTO:-0800
TZNAME:PST
DTSTART:20211107T090000
END:STANDARD
BEGIN:DAYLIGHT
TZOFFSETFROM:-0800
TZOFFSETTO:-0700
TZNAME:PDT
DTSTART:20220313T100000
END:DAYLIGHT
BEGIN:STANDARD
TZOFFSETFROM:-0700
TZOFFSETTO:-0800
TZNAME:PST
DTSTART:20221106T090000
END:STANDARD
BEGIN:DAYLIGHT
TZOFFSETFROM:-0800
TZOFFSETTO:-0700
TZNAME:PDT
DTSTART:20230312T100000
END:DAYLIGHT
BEGIN:STANDARD
TZOFFSETFROM:-0700
TZOFFSETTO:-0800
TZNAME:PST
DTSTART:20231105T090000
END:STANDARD
END:VTIMEZONE
BEGIN:VEVENT
DTSTART;TZID=America/Los_Angeles:20220702T080000
DTEND;TZID=America/Los_Angeles:20220702T080000
DTSTAMP:20260421T141211
CREATED:20220420T180335Z
LAST-MODIFIED:20220420T180335Z
UID:2697-1656748800-1656748800@onyourmarkevents.com
SUMMARY:Hernia Hill Half Marathon\, 10K & 5K
DESCRIPTION:This spectacular course near historic Murphy’s\, CA\, offers a challenge for all ability levels. Since 1998 our 1/2 Marathon trophies have been dedicated to Ernie Klann.  Ernie started the first Hernia Hill 1/2 Marathon in 1988.  We are proud to have been associated to continue “his” race. Course~ All distances are beautifully scenic with hills and finish with a “dash” through the ‘Wine Cave’. Race fees include wine tasting\, post race lunch\, raffle (must be present to win) and award ceremony.\nAdditional information/Registration
URL:https://onyourmarkevents.com/events/hernia-hill-half-marathon-10k-5k/
LOCATION:Twisted Oak Winery\, 4280 Red Hill Road\, Vallecito\, CA\, United States
CATEGORIES:10K,5K,Half Marathon
ATTACH;FMTTYPE=image/jpeg:https://onyourmarkevents.com/wp-content/uploads/2018/12/200px-Twisted_Oak_Winery_Logo.jpg
ORGANIZER;CN="On Your Mark Events":MAILTO:kandee@onyourmarkevents.com
END:VEVENT
BEGIN:VEVENT
DTSTART;TZID=America/Los_Angeles:20220704T073000
DTEND;TZID=America/Los_Angeles:20220704T073000
DTSTAMP:20260421T141211
CREATED:20220218T201519Z
LAST-MODIFIED:20220329T003609Z
UID:2647-1656919800-1656919800@onyourmarkevents.com
SUMMARY:Run San Ramon
DESCRIPTION:The 2022 Run San Ramon presented by the City of San Ramon is celebrating its 37th year!  Get a healthy start to your 4th of July with this Independence Day Classic.  Enjoy the paved and looped 5K/10K course through San Ramon. The NEW Fastest Mile is an out and back. All participants will receive a short sleeve commemorative shirt\, bib\, and participation medal.\nOnline Registration\nMail-In Application
URL:https://onyourmarkevents.com/events/run-san-ramon-5/
LOCATION:San Ramon Community Center\, 12501 Alcosta Blvd\, San Ramon\, CA\, 94583\, United States
CATEGORIES:1-Mile Run,10K,5K
ATTACH;FMTTYPE=image/png:https://onyourmarkevents.com/wp-content/uploads/2022/03/2022RSRlogo.png
END:VEVENT
END:VCALENDAR