BEGIN:VCALENDAR
VERSION:2.0
PRODID:-//On Your Mark Events - ECPv6.15.14//NONSGML v1.0//EN
CALSCALE:GREGORIAN
METHOD:PUBLISH
X-ORIGINAL-URL:https://onyourmarkevents.com
X-WR-CALDESC:Events for On Your Mark Events
REFRESH-INTERVAL;VALUE=DURATION:PT1H
X-Robots-Tag:noindex
X-PUBLISHED-TTL:PT1H
BEGIN:VTIMEZONE
TZID:America/Los_Angeles
BEGIN:DAYLIGHT
TZOFFSETFROM:-0800
TZOFFSETTO:-0700
TZNAME:PDT
DTSTART:20210314T100000
END:DAYLIGHT
BEGIN:STANDARD
TZOFFSETFROM:-0700
TZOFFSETTO:-0800
TZNAME:PST
DTSTART:20211107T090000
END:STANDARD
BEGIN:DAYLIGHT
TZOFFSETFROM:-0800
TZOFFSETTO:-0700
TZNAME:PDT
DTSTART:20220313T100000
END:DAYLIGHT
BEGIN:STANDARD
TZOFFSETFROM:-0700
TZOFFSETTO:-0800
TZNAME:PST
DTSTART:20221106T090000
END:STANDARD
BEGIN:DAYLIGHT
TZOFFSETFROM:-0800
TZOFFSETTO:-0700
TZNAME:PDT
DTSTART:20230312T100000
END:DAYLIGHT
BEGIN:STANDARD
TZOFFSETFROM:-0700
TZOFFSETTO:-0800
TZNAME:PST
DTSTART:20231105T090000
END:STANDARD
END:VTIMEZONE
BEGIN:VEVENT
DTSTART;TZID=America/Los_Angeles:20220306T080000
DTEND;TZID=America/Los_Angeles:20220306T080000
DTSTAMP:20260421T202507
CREATED:20211103T175227Z
LAST-MODIFIED:20220220T162333Z
UID:2530-1646553600-1646553600@onyourmarkevents.com
SUMMARY:44th Annual CCHP Lunar New Year Run\, Year of the Tiger
DESCRIPTION:Our world has been through significant changes over the last few years that have disrupted the way we live\, work and play. The Chinatown YMCA has adapted to the changes and stepped up even further to help those in need. \nOur 44th Annual CCHP Lunar New Year Run will create opportunities for people to participate in the way they are most comfortable. In addition to the live\, in-person race\, we will offer a virtual race this year to include our friends and partners from across the globe. \nThis year we celebrate the Lunar New Year and emphasize the traits of the Tiger\, known for its resiliency\, perseverance\, strength and hardworking nature. The Tiger represents our community and its power and confidence to fight through this challenging time. We stand together to honor everything that makes our community unique. \nAdditional Information/Registration
URL:https://onyourmarkevents.com/events/44th-annual-cchp-lunar-new-year-run-year-of-the-tiger/
LOCATION:Chinese New Year Run – Year of the Tiger\, Grant St at Sacramento St\, San Francisco\, CA\, 94131
CATEGORIES:10K,5K
ATTACH;FMTTYPE=image/png:https://onyourmarkevents.com/wp-content/uploads/2021/11/tiger_2021-08-01-1-e1635973547425.png
END:VEVENT
END:VCALENDAR