BEGIN:VCALENDAR
VERSION:2.0
PRODID:-//On Your Mark Events - ECPv6.15.14//NONSGML v1.0//EN
CALSCALE:GREGORIAN
METHOD:PUBLISH
X-ORIGINAL-URL:https://onyourmarkevents.com
X-WR-CALDESC:Events for On Your Mark Events
REFRESH-INTERVAL;VALUE=DURATION:PT1H
X-Robots-Tag:noindex
X-PUBLISHED-TTL:PT1H
BEGIN:VTIMEZONE
TZID:America/Los_Angeles
BEGIN:DAYLIGHT
TZOFFSETFROM:-0800
TZOFFSETTO:-0700
TZNAME:PDT
DTSTART:20200308T100000
END:DAYLIGHT
BEGIN:STANDARD
TZOFFSETFROM:-0700
TZOFFSETTO:-0800
TZNAME:PST
DTSTART:20201101T090000
END:STANDARD
BEGIN:DAYLIGHT
TZOFFSETFROM:-0800
TZOFFSETTO:-0700
TZNAME:PDT
DTSTART:20210314T100000
END:DAYLIGHT
BEGIN:STANDARD
TZOFFSETFROM:-0700
TZOFFSETTO:-0800
TZNAME:PST
DTSTART:20211107T090000
END:STANDARD
BEGIN:DAYLIGHT
TZOFFSETFROM:-0800
TZOFFSETTO:-0700
TZNAME:PDT
DTSTART:20220313T100000
END:DAYLIGHT
BEGIN:STANDARD
TZOFFSETFROM:-0700
TZOFFSETTO:-0800
TZNAME:PST
DTSTART:20221106T090000
END:STANDARD
END:VTIMEZONE
BEGIN:VEVENT
DTSTART;TZID=America/Los_Angeles:20211125T080000
DTEND;TZID=America/Los_Angeles:20211125T080000
DTSTAMP:20260422T014630
CREATED:20210421T173250Z
LAST-MODIFIED:20211025T225144Z
UID:2288-1637827200-1637827200@onyourmarkevents.com
SUMMARY:Run & Walk Against Hunger 2021
DESCRIPTION:Stockton’s Annual Run & Walk Against Hunger is BACK in person this coming Thanksgiving Morning!  The Emergency Food Bank has been extra busy in helping those in need\, and the annual Run & Walk Against Hunger is our largest one day fundraiser.  We hope that you will join us this year. \n2021 marks the 17th year of the family event.  Last year we had nearly 3\,000 participants and we’d love to blow that number out of the water and have even more people this year!  Register your friends and family. \nCourse:\nWe are back to our beautiful downtown Stockton course! Course Map \nEntry Fees:\n5K/10K Run\n$40.00 – Register for the 5k or 10k Run/Walk – BEFORE NOVEMBER 1st\n$45.00 – Register for the 5k or 10k Run/Walk – Between Nov 1st and Nov 24th.\n$50.00 – Register for the 5k or 10k Run/Walk – Morning of the event.\nKids .25 Mile\n$15.00 – Register for the Kids .25 Mile Run/Walk – BEFORE NOVEMBER 1st.\n$20.00 – Register for the Kids .25 Mile Run/Walk – Between Nov 1st and Nov 24th.\n$25.00 – Register for the Kids .25 Mile Run/Walk – Morning of the event. \nEntry fees are not refundable for any reason. You may not exchange or transfer your entry to anyone else or to another race. \nPacket Pickup:\nSave time on race morning and pick up your packet and t-shirt in advance!  We will be at Fleet Feet Stockton in Lincoln Center on the following days:\nTuesday\, November 23rd\, 10:00am – 6:00pm\nWednesday\, November 24th\, 10:00am – 6:00p.m. \nBONUS – Bring 2 non-perishable items to packet pickups at Fleet Feet and receive 15% off your total purchase for the day! \nThe 2021 Run & Walk Against Hunger benefits the Emergency Food Bank of Stockton / San Joaquin. During these unprecedented times\, your support is most needed. Please join us in supporting this grassroots community organization. \nOnline Registration\nMail-In Application\n 
URL:https://onyourmarkevents.com/events/run-walk-against-hunger-2021/
LOCATION:Banner Island Ballpark\, 404 W Fremont St\, Stockton\, CA\, 95203\, United States
CATEGORIES:10K,5K,Kids Fun Run
ATTACH;FMTTYPE=image/png:https://onyourmarkevents.com/wp-content/uploads/2021/04/2021-RAH-Logo_square-logos-e1619027641792.png
END:VEVENT
END:VCALENDAR