BEGIN:VCALENDAR
VERSION:2.0
PRODID:-//On Your Mark Events - ECPv6.15.14//NONSGML v1.0//EN
CALSCALE:GREGORIAN
METHOD:PUBLISH
X-ORIGINAL-URL:https://onyourmarkevents.com
X-WR-CALDESC:Events for On Your Mark Events
REFRESH-INTERVAL;VALUE=DURATION:PT1H
X-Robots-Tag:noindex
X-PUBLISHED-TTL:PT1H
BEGIN:VTIMEZONE
TZID:America/Los_Angeles
BEGIN:DAYLIGHT
TZOFFSETFROM:-0800
TZOFFSETTO:-0700
TZNAME:PDT
DTSTART:20200308T100000
END:DAYLIGHT
BEGIN:STANDARD
TZOFFSETFROM:-0700
TZOFFSETTO:-0800
TZNAME:PST
DTSTART:20201101T090000
END:STANDARD
BEGIN:DAYLIGHT
TZOFFSETFROM:-0800
TZOFFSETTO:-0700
TZNAME:PDT
DTSTART:20210314T100000
END:DAYLIGHT
BEGIN:STANDARD
TZOFFSETFROM:-0700
TZOFFSETTO:-0800
TZNAME:PST
DTSTART:20211107T090000
END:STANDARD
BEGIN:DAYLIGHT
TZOFFSETFROM:-0800
TZOFFSETTO:-0700
TZNAME:PDT
DTSTART:20220313T100000
END:DAYLIGHT
BEGIN:STANDARD
TZOFFSETFROM:-0700
TZOFFSETTO:-0800
TZNAME:PST
DTSTART:20221106T090000
END:STANDARD
END:VTIMEZONE
BEGIN:VEVENT
DTSTART;TZID=America/Los_Angeles:20210925T090000
DTEND;TZID=America/Los_Angeles:20211031T120000
DTSTAMP:20260422T035458
CREATED:20210715T134722Z
LAST-MODIFIED:20211001T150437Z
UID:2400-1632560400-1635681600@onyourmarkevents.com
SUMMARY:HERS Walk/Run
DESCRIPTION:HERS Breast Cancer Foundation 5k Walk\, 5k/10k Run\, and Yoga Event\n\nRally your family\, friends\, and neighbors to raise funds in support of HERS Assistance Programs! Help ensure that low income and under-insured breast cancer patients have access to the post-surgical products they need and deserve!\n2021 PARTICIPATION OPTIONS:\n\n\nIn-person Open House/Kickoff:\n\n\n9 am to 11 am\, Saturday\, September 25 at a Bay Area Location TBA soon.\n\n\nOnce kickoff ends\, in-person registrants may walk or run any time between September 25 and October 2.\n\n\n\n\nVirtual 5k Walk\, 5k/10k Run:\n\n\nWatch our kickoff live online then walk or run any time between September 25 and -October 2.\n\n\n\n\nVirtual Yoga:\n\n\nWatch our kick off live online then join our Zoom yoga class Saturday\, September 25 at 11 am\n\n\n\n\nAdditional Information/Online Registration
URL:https://onyourmarkevents.com/events/hers-walk-run/
LOCATION:Anywhere\, CA\, CA\, United States
CATEGORIES:10K,5K
ATTACH;FMTTYPE=image/jpeg:https://onyourmarkevents.com/wp-content/uploads/2019/04/HERS-e1657725711440.jpg
END:VEVENT
BEGIN:VEVENT
DTSTART;TZID=America/Los_Angeles:20211002T080000
DTEND;TZID=America/Los_Angeles:20211002T080000
DTSTAMP:20260422T035458
CREATED:20210510T174619Z
LAST-MODIFIED:20210510T175006Z
UID:2317-1633161600-1633161600@onyourmarkevents.com
SUMMARY:Pace for Peace
DESCRIPTION:We are planning an in-person event for 2021 so come out and see what all the buzz is about at Tri-Valley Haven’s Pace for Peace\, Saturday\, October 2nd\, 2021.\nJoin us for a scenic 5K/10K run/walk through the Livermore Valley\, along the Arroyo bike trail\, through Robertson Park  and out to the valley vineyards.  Tri-Valley Haven’s Pace for Peace has something for everyone\, whether you are a serious runner or just out for a leisurely walk with friends and family supporting a good cause! This event guarantees a good time for the entire family!\nOn the day of the event\, we will adhere to current CDC guidelines in place at that time.\nMORE INFORMATION AND ONLINE REGISTRATION
URL:https://onyourmarkevents.com/events/pace-for-peace-2/
LOCATION:CA\, United States
CATEGORIES:10K,5K
ATTACH;FMTTYPE=image/jpeg:https://onyourmarkevents.com/wp-content/uploads/2021/05/PacePeace2021-e1712585486376.jpg
END:VEVENT
BEGIN:VEVENT
DTSTART;TZID=America/Los_Angeles:20211017T090000
DTEND;TZID=America/Los_Angeles:20211017T090000
DTSTAMP:20260422T035458
CREATED:20210720T234612Z
LAST-MODIFIED:20211006T192750Z
UID:2413-1634461200-1634461200@onyourmarkevents.com
SUMMARY:Dia de los Muertos
DESCRIPTION:SOLD OUT! No race day registration available!\n 
URL:https://onyourmarkevents.com/events/dia-los-muertos/
LOCATION:m2Winery\, 2900 East Peltier Rd\, Acampo\, CA\, 95220\, United States
CATEGORIES:10K,5K
ATTACH;FMTTYPE=image/gif:https://onyourmarkevents.com/wp-content/uploads/2021/07/Dia-Los-Muertos-LOGO-2-1-1-e1692130979120.gif
END:VEVENT
END:VCALENDAR