BEGIN:VCALENDAR
VERSION:2.0
PRODID:-//On Your Mark Events - ECPv6.15.14//NONSGML v1.0//EN
CALSCALE:GREGORIAN
METHOD:PUBLISH
X-WR-CALNAME:On Your Mark Events
X-ORIGINAL-URL:https://onyourmarkevents.com
X-WR-CALDESC:Events for On Your Mark Events
REFRESH-INTERVAL;VALUE=DURATION:PT1H
X-Robots-Tag:noindex
X-PUBLISHED-TTL:PT1H
BEGIN:VTIMEZONE
TZID:America/Los_Angeles
BEGIN:DAYLIGHT
TZOFFSETFROM:-0800
TZOFFSETTO:-0700
TZNAME:PDT
DTSTART:20200308T100000
END:DAYLIGHT
BEGIN:STANDARD
TZOFFSETFROM:-0700
TZOFFSETTO:-0800
TZNAME:PST
DTSTART:20201101T090000
END:STANDARD
BEGIN:DAYLIGHT
TZOFFSETFROM:-0800
TZOFFSETTO:-0700
TZNAME:PDT
DTSTART:20210314T100000
END:DAYLIGHT
BEGIN:STANDARD
TZOFFSETFROM:-0700
TZOFFSETTO:-0800
TZNAME:PST
DTSTART:20211107T090000
END:STANDARD
BEGIN:DAYLIGHT
TZOFFSETFROM:-0800
TZOFFSETTO:-0700
TZNAME:PDT
DTSTART:20220313T100000
END:DAYLIGHT
BEGIN:STANDARD
TZOFFSETFROM:-0700
TZOFFSETTO:-0800
TZNAME:PST
DTSTART:20221106T090000
END:STANDARD
END:VTIMEZONE
BEGIN:VEVENT
DTSTART;TZID=America/Los_Angeles:20210307T080000
DTEND;TZID=America/Los_Angeles:20210307T080000
DTSTAMP:20260422T152553
CREATED:20201214T182402Z
LAST-MODIFIED:20201214T182608Z
UID:2193-1615104000-1615104000@onyourmarkevents.com
SUMMARY:Chinatown YMCA's 43rd Chinese New Year Run
DESCRIPTION:2020 has changed the way we live and play. The Chinatown YMCA has adapted to the changes and stepped up even further to help those in need. That’s why we are moving our 43rd Annual CCHP Chinese New Year Run into the virtual world and inviting our friends and partners from across the globe to participate. \nFunds raised from this event will help address crucial deficits in our community by:  \n\nBridging the digital divide for our youth\, families and seniors whilst the world has moved online without them\nHelping to put healthy foods at the tables of low-income families\nSupporting virtual academic and enrichment learning for youth from homes without internet or parents who do not speak English\nSocial isolation and loneliness in older adults living alone or away from family\n\nWE HOPE TO VIRTUALLY SEE YOU AT THE FINISH LINE THIS YEAR!\nFor additional information/registration\, please visit ymcasf.org/CNYrun
URL:https://onyourmarkevents.com/events/chinatown-ymcas-43rd-chinese-new-year-run/
LOCATION:CA\, United States
CATEGORIES:10K,5K
ATTACH;FMTTYPE=image/png:https://onyourmarkevents.com/wp-content/uploads/2020/12/2021-CNY-ox-e1607970187350.png
END:VEVENT
BEGIN:VEVENT
DTSTART;TZID=America/Los_Angeles:20210327T080000
DTEND;TZID=America/Los_Angeles:20210327T080000
DTSTAMP:20260422T152553
CREATED:20201113T173313Z
LAST-MODIFIED:20201113T173907Z
UID:2178-1616832000-1616832000@onyourmarkevents.com
SUMMARY:Roanne's Race
DESCRIPTION:Roanne’s Race Mission is to raise awareness of colorectal cancer as it occurs in people under age 50\, and those of all ages\, through an annual 5K/10K and kids run. Roanne’s Race is inspired by the life of Roanne Cairel. \nRoanne’s Race response to COVID-19 \nThe health\, safety\, and peace of mind of our participants is a top priority at Roanne’s Race. As such\, the Roanne’s Race organizers have decided to change the 8th Annual Roanne’s Race to a virtual event. While we are thrilled to be back on colorectal cancer awareness month\, we are disappointed that we cannot all support this cause together on race day as we’ve done since 2012. That day will come back\, and when it does we will be ready! \nEvent details and schedule-\nWhat should Participants expect with a virtual race? \nParticipants can enjoy their 5K\, 10K or Fun Run at their leisure! Choose your own route\, upload your own results\, and post your own photos from March 20 – March 31\, 2021 using the IYR App. Here you will find step-by-step instructions to download the app\, track your time and upload your finish time online. You also have the ability to manually upload your time. Participants will receive a completion certificate after the March 31st deadline. \nPacket Pickup!\nAll participants will receive a “packet” which includes a sweat-wicking cotton-like shirt\, a race bib\, and other Roanne’s Race goodies from our sponsors. \nThere are two options for packet pick-up: \n\nHave your packet mailed to you! For an extra $5 with your registration fee we will mail your packet to you\, no matter where you are in the country. Packets will be mailed out after March 27\, 2021.\nPick up your packet at Fleet Feet Sports in Pleasanton\, CA! If you are local\, and want to save that extra $5\, come by in person and pick up your packet with us. Exact date of pick up TBD\, and COVID protocols will be in place.\n\nONLINE REGISTRATION\n 
URL:https://onyourmarkevents.com/events/roannes-race-3/
LOCATION:CA\, United States
CATEGORIES:10K,5K
ATTACH;FMTTYPE=image/png:https://onyourmarkevents.com/wp-content/uploads/2018/12/2019-Roannes.png
END:VEVENT
END:VCALENDAR