BEGIN:VCALENDAR
VERSION:2.0
PRODID:-//On Your Mark Events - ECPv6.15.14//NONSGML v1.0//EN
CALSCALE:GREGORIAN
METHOD:PUBLISH
X-ORIGINAL-URL:https://onyourmarkevents.com
X-WR-CALDESC:Events for On Your Mark Events
REFRESH-INTERVAL;VALUE=DURATION:PT1H
X-Robots-Tag:noindex
X-PUBLISHED-TTL:PT1H
BEGIN:VTIMEZONE
TZID:America/Los_Angeles
BEGIN:DAYLIGHT
TZOFFSETFROM:-0800
TZOFFSETTO:-0700
TZNAME:PDT
DTSTART:20190310T100000
END:DAYLIGHT
BEGIN:STANDARD
TZOFFSETFROM:-0700
TZOFFSETTO:-0800
TZNAME:PST
DTSTART:20191103T090000
END:STANDARD
BEGIN:DAYLIGHT
TZOFFSETFROM:-0800
TZOFFSETTO:-0700
TZNAME:PDT
DTSTART:20200308T100000
END:DAYLIGHT
BEGIN:STANDARD
TZOFFSETFROM:-0700
TZOFFSETTO:-0800
TZNAME:PST
DTSTART:20201101T090000
END:STANDARD
BEGIN:DAYLIGHT
TZOFFSETFROM:-0800
TZOFFSETTO:-0700
TZNAME:PDT
DTSTART:20210314T100000
END:DAYLIGHT
BEGIN:STANDARD
TZOFFSETFROM:-0700
TZOFFSETTO:-0800
TZNAME:PST
DTSTART:20211107T090000
END:STANDARD
END:VTIMEZONE
BEGIN:VEVENT
DTSTART;TZID=America/Los_Angeles:20200920T073000
DTEND;TZID=America/Los_Angeles:20200920T073000
DTSTAMP:20260422T235934
CREATED:20200223T230753Z
LAST-MODIFIED:20200911T214507Z
UID:1915-1600587000-1600587000@onyourmarkevents.com
SUMMARY:Ice Cream Run by Races for Braces - New Date 9/20/20
DESCRIPTION:Run or walk… but be there to help raise funds for braces! Proceeds will go towards the cost of braces for a child in need. Bring family\, friends\, and neighbors! \nThe As I Can Foundation is excited to offer its’ 2nd Annual Ice Cream Run by Races for Braces\, featuring a 5K/10K Run. \nThroughout Jerald Asican’s life he developed a charisma second to none. Through guidance he found with his LHS counselor\, Lisa Wilson\, he had come to want to find a way to help foster-youth not only survive but thrive. As I Can Foundation takes a small piece of Jerald’s own dream to have braces and fulfills this dream for other foster youth. When Jerald first moved in with his Forever Home Foster Family he said\, “There is one thing I really want. It can be my birthday gift\, Christmas gift\, and any other gift you can think of. Please… I want braces.” And EVERY child deserves to feel good about their smile. For more information on As I Can Foundation and Jeralds Asican dream. \nAll run courses start and finish at Islanders Field (1051 River Islands Parkway\, Lathrop) and are on part paved road and packed dirt Levee trail.\n5k Course Map\n10K Course Map\nHalf Marathon \nEntry Fees~\nEarly Bird Special – till May 31st. Prices increase by $5. thereafter\n5K – Individual Ages 18 & Under $20\, Adults 19 & Over $30.\n10K – Indivudual Ages 18 & Under $25\, Adults 19 & Over $35.\nFees includes finisher medal\, custom event t-shirt and ice cream!. \nEach 5K/10K/Half Marathon runner will receive~\nOne (1) FREE Ice Cream. (Multiple options available)\nAn “As I Can: Finishers Medal\nAs I Can“Races for Braces!” custom T-shirt \n \nEach 1-Mile Family Walkers will receive~\nOne (1) FREE Ice Cream. Does not include t-shirt or medal. \nFREE parking \nAwards~\nFastest Time of the Day … 2 Categories ~ Men & Women\nFastest Time for Age Groups … 2 Categories each group ~ Men & Women\nAge Groups… 12-14\, 15-20\, 21-30\, 31-40\, 41-50\, 51-60\, 60 & up\nWinners will be announced at the day of the run. Must be present to win! \nDay of Event Packet Pick-up/Check-in (For all purchases regardless of purchase date)\nWhen: Sunday\, September 20th\nTime: Beginning 6:30 am \nRequired at Day of Event Check-in~\n1. Photo I.D. for each participant (no exceptions\, so if you are picking up for a friend you MUST have a copy of their I.D.)\n2. An initialed\, signed and dated copy of the waiver for each participant. (no exceptions\, so if you are picking up for a friend you MUST have a copy of their signed waiver.)\n3. Your ticket\, either printed or on your smartphone. (no exceptions\, so if you are picking up for a friend you MUST have a copy of their ticket.)\nPackets need to be picked up at least an hour before wave time. \nGear Check:\n1. Photo I.D. required for check-in.\n2\, An initialed\, signed and dated copy of the participant waiver. Do ahead it will save time in line! Download load here to save time.\n    If not you will have to fill one out at the farm.\n3. Very cool clothing and load up on the sun block!\n4. Spending Money for extra ice cream and t-shirts! \nParking\nRemember parking is FREE! \nGreat memories with friends\, family\, and others! \nONLINE REGISTRATION
URL:https://onyourmarkevents.com/events/ice-cream-run-by-races-for-braces/
LOCATION:Islanders Field\, 1051 River Islands Parkway\, Lathrop\, CA\, 95330\, United States
CATEGORIES:10K,5K,Half Marathon
ATTACH;FMTTYPE=image/png:https://onyourmarkevents.com/wp-content/uploads/2020/05/ASICAN-e1590159483645.png
END:VEVENT
BEGIN:VEVENT
DTSTART;TZID=America/Los_Angeles:20200926T090000
DTEND;TZID=America/Los_Angeles:20200927T180000
DTSTAMP:20260422T235934
CREATED:20200609T162930Z
LAST-MODIFIED:20200922T002532Z
UID:2046-1601110800-1601229600@onyourmarkevents.com
SUMMARY:HERS Breast Cancer Foundation Run/Walk
DESCRIPTION:HERS Breast Cancer Foundation 5k/10K Run/Walk is going Virtual for 2020!\n\nRally your family\, friends and neighbors to raise funds in the support of HERS Assistance Programs!  Join us and provide low income and under-insured patients with the post-surgical products they need and deserve! \nIf you would like to donate or become a fundraiser for this great cause\, please click here. \nCourse:\nChoose where and when you walk or run – on your treadmill\, around your yard\, through your neighborhood\, or at your local park on either September 26th or 27th. Then post your time on our Facebook event page or download the Virtual Race App where you can upload your time and photos to be illustrated in results. \nSchedule:\nSaturday\, September 26th at 9 am\nWelcome Remarks with the HERS Team\nElaine’s Memorial Circle and dove release\nDynamic stretch warmup with Washington Hospital Healthcare System Director of Rehabilitation Sharmi MukherjeeDance warmup with Shameem of XTRIM Bollywood TeamFirst Hour Prize Winner Announcement \nThe event fundraiser will be streamed via Facebook Live and their YouTube Channel. \nSaturday\, September 26th at 10 am:\n2nd Hour Prize Winner Announcement\nWalkers and Runners — get going!\nYoga with Anjali Rao (via Zoom — 10-10:45 am) \nSaturday\, September 26th \nOther happenings:\nHERS will continue to make prize winner announcements at the following times: 11 am\, noon\, 1 pm and 2 pm. \nSunday\, September 27th at 6 pm\nRace/Walk ends! \nRegistration Fees:\nIndividual – $20 per person (walk\, run or yoga)\nGroups of 4 – $75 (a savings of $5.)\nPets – $10 per pet\n100% of the registration fees will benefit HERS Assistance Programs. \nHERS will provide a finisher’s medal to every registered (human) participant which may be picked up at their Fremont\, CA office. Alternatively\, your medal will be mailed to you. \nBe sure to post photos of yourself\, your team\, and your pets! Use #HERSWalkRun2020. Show your love for breast cancer survivors! \nRUNNERS: Be sure to register your time and photos by September 27th 9:00 pm. \nONLINE REGISTRATION
URL:https://onyourmarkevents.com/events/hers-breast-cancer-foundation-run-walk/
LOCATION:CA\, United States
CATEGORIES:1-Mile Run,10K,5K
ATTACH;FMTTYPE=image/jpeg:https://onyourmarkevents.com/wp-content/uploads/2019/04/HERS-e1657725711440.jpg
END:VEVENT
BEGIN:VEVENT
DTSTART;TZID=America/Los_Angeles:20200927T083000
DTEND;TZID=America/Los_Angeles:20200927T083000
DTSTAMP:20260422T235934
CREATED:20200717T143854Z
LAST-MODIFIED:20200717T173920Z
UID:2060-1601195400-1601195400@onyourmarkevents.com
SUMMARY:Trailblazer Race 2020
DESCRIPTION:26th Annual Trailblazer Race\nWith the pandemic\, it is uncertain if it will be safe to hold our conventional fall race in Mountain View. Realizing that many in our community like to participate in some sort of an event\, we are hosting a virtual race allowing us to continue our long-standing tradition. By participating\, you will not only support a worthy cause but have an opportunity to take charge of your mental and physical well-being. What better way than getting some exercise? With a virtual race you can run or walk anywhere and invite your friends regardless of their location to participate with you! All proceeds help us advocate for the Stevens Creek and Permanent Creek trails—their extension and improvements as well as protection of the wildlife corridors—a gift for the entire community. \nGreat Race for a Great Cause\nProceeds benefit the Friends of Stevens Creek Trail\, a non-profit 501(c)3 corporation\, and the only organization dedicated to extending Stevens Creek Trail and wildlife corridor from San Francisco Bay to the Santa Cruz Mountains. All donations are tax deductible to the extent allowed by law. \nCovid Considerations\nIdeally\, come September you’ll still be able to go for a run\, hike or walk on the Stevens Creek or Permanente Creek Trails\, but even if the trails are closed\, you can still participate. You may run or walk at any time between September 18-27 making it easier to maintain social distance. To avoid contact with race organizers\, all T-shirts will be sent by mail after the race. During the pandemic\, please follow all county guidelines and recommendations for everyone’s safety and to help ensure that trail access be kept open. \nDates: Friday\, September 18 – Sunday\, September 27\nThis year you have a full 10-days to participate in one or all three events with the time\, day and location of your choosing. \nEvents: 5K Run\, 10K Run\, 3-Mile Walk\nDeadline to submit your times for the 5K\, 10K or both is Monday\, September 28. You can enter results by downloading the IYR app or send digital proof of results by email to On Your Mark Events. Walk results are not timed or able to be uploaded. If you choose not to upload any results that’s okay too! You will still receive your shirt by mail and have made a meaningful contribution. \nFees: $40 all ages\, all events 5K\, 10K or 3-mile walk\nParticipate in one or all three for one low price! Fees are non-refundable. \nT-Shirt: All paid participants receive a great Trailblazer Race T-shirt. They are Hanes Extra Beefy T’s\, soft and 100% cotton with minimal to no shrinkage. (If you’ve participated before you know how great they are!) You will receive your shirt by mail 4-6 weeks after the event. Additional charges for international orders. \nOur Premiere Event of the Year\nThe Trailblazer Race raises community awareness and essential funds allowing us to promote community involvement and pride in the completion\, enhancement and enjoyment of trails and wildlife corridors in the Stevens Creek watershed. Stevens Creek Trail was started in 1993 and currently extends over five miles from Shoreline Park to Dale-Heatherstone in Mountain View\, close to the Sunnyvale border. Cupertino opened its first section of trail in 2010 and has over one mile completed. Los Altos and Sunnyvale are studying possible connecting routes. Individual cities along Stevens Creek actually build the trail\, but it takes many years of preparation and hard work behind the scenes to achieve. Increasing public awareness\, support\, and consensus must come first\, which is the role of the Friends. During this global pandemic we feel that urban trails are more important than ever and greatly appreciate your support. \nONLINE REGISTRATION
URL:https://onyourmarkevents.com/events/trailblazer-race-2020/
LOCATION:Anywhere\, CA\, CA\, United States
CATEGORIES:10K,5K
ATTACH;FMTTYPE=image/png:https://onyourmarkevents.com/wp-content/uploads/2020/07/TBR20IYRLogo-e1594996346748.png
ORGANIZER;CN="Friends of Stevens Creek Trail":MAILTO:kandee@onyourmarkevents.com
END:VEVENT
END:VCALENDAR